{"text_format":"1","workbook":"xlsx","n_sheets":8,"sheets":["AllModes","Mode Strength","Axial","Tangential","Oblique","Bonello","Ideal Rooms - METRIC","RATIOS"],"not_rendered":{"charts":4,"images":2,"macros":1,"external_links":0,"defined_names":5,"comments":0,"pivot_tables":0},"unopened":[],"bounds":{"document_bytes":16777216,"sheet_cells":100000,"rows_first":2000,"rows_last":500,"rows_between":2000,"halvings":0,"cell_chars":16384,"cell_head_chars":4096},"cells_cut":0,"cells_raw":0,"read":"whole","date_system":"1900"}

{"sheet":"AllModes","index":0,"n_rows":1001,"n_cols":37,"rows_kept":1001,"cut":false,"hidden":false,"merged":[[98,18,98,21],[97,14,97,18],[99,15,99,16],[98,15,98,16],[113,19,113,20],[115,16,116,17],[115,18,116,18],[112,16,113,17],[112,18,113,18],[100,18,100,21],[65,0,70,3],[130,13,130,16],[118,14,118,15],[118,16,119,17],[118,18,119,18],[116,14,116,15],[119,14,119,15],[127,18,127,20],[116,19,116,20],[119,19,119,20],[126,13,126,15],[93,17,93,19],[93,13,93,15],[92,16,93,16],[99,18,99,21],[115,14,115,15],[49,0,51,3],[53,0,56,3],[33,0,39,3],[41,0,43,3],[45,0,47,3],[6,2,7,2],[17,0,17,3],[113,14,113,15],[8,0,10,3],[112,14,112,15],[59,0,60,3],[101,15,101,18],[105,13,108,17],[111,16,111,17],[111,13,111,15],[85,0,89,3],[90,0,95,3],[26,0,26,3],[27,0,27,3],[28,0,28,3],[29,0,29,3]]}
["Read instructions!","Inches",null,"Feet","All Modes",null,null,null,null,null,null,null,null,null,null,null,null,"BANDWIDTH"]
["Length =",{"$f":"B6/2.54","v":252.36220472440945},"Lx =",{"$f":"+B2/12","v":21.030183727034121},"nx","ny","nz","f","Type","Weight","SPACING","Δf","Octave Band","Δmax","Δavg","Δ²"," 1/3 Octave Band","low","center","hi","# of modes"]
["Width =",{"$f":"B7/2.54","v":188.58267716535434},"Ly =",{"$f":"+B3/12","v":15.715223097112862},1,0,0,{"$f":"$D$5*SQRT((($E3/$D$2)^2)+(($F3/$D$3)^2)+(($G3/$D$4)^2))","v":26.829532605304212},{"$f":"+IF(+AND(E3=0,F3=0)+OR(+AND(E3=0,G3=0))+OR(+AND(F3=0,G3=0)),\"Axial\",(+IF(+OR(E3=0,F3=0,G3=0),\"Tangential\",\"Oblique\")))","v":"Axial"},{"$f":"IF(I3=\"Axial\",1,IF(I3=\"Tangential\",0.5,IF(I3=\"Oblique\",0.25,\"\")))","v":1},null,"-",{"$f":"IF(H3<17.8,1,IF(H3<=22.4,2,IF(H3<=28.2,3,IF(H3<=35.5,4,IF(H3<=44.7,5,IF(H3<=56.2,6,IF(H3<=70.8,7,IF(H3<=89.1,8,IF(H3<=112,9,IF(H3<=141,10,IF(H3<=178,11,IF(H3<=224,12,IF(H3<=282,13,IF(H3<=355,14,IF(H3<=447,15,IF(H3<=562,16,IF(H3<=708,17,IF(H3<=891,18,IF(H3<=1122,19,IF(H3<=1413,20,IF(H3<=1778,21,IF(H3<=2239,22,IF(H3<=2818,23,IF(H3<=3548,24,IF(H3<=4467,25,IF(H3<=5623,26,IF(H3<=7079,27,IF(H3<=8913,28,IF(H3<=11220,29,IF(H3<=14130,30,IF(H3<=17780,31,IF(H3<=22390,32,))))))))))))))))))))))))))))))))","v":3},null,null,null,1,14.1,16,17.8,{"$f":"COUNTIF($M$3:$M$1001,Q3)","v":0},{"$f":"IF((U3)<5,\"INACCURATE\",\"CAN TEST\")","v":"INACCURATE"}]
["Height =",{"$f":"B8/2.54","v":132.6771653543307},"Lz =",{"$f":"+B4/12","v":11.056430446194225},0,1,0,35.903403757828812,"Axial",{"$f":"IF(I4=\"Axial\",1,IF(I4=\"Tangential\",0.5,IF(I4=\"Oblique\",0.25,\"\")))","v":1},{"$f":"IF((H4-H3)<1,\"RED\",\"OK\")","v":"OK"},{"$f":"H4-H3","v":9.0738711525245996},{"$f":"IF(H4<17.8,1,IF(H4<=22.4,2,IF(H4<=28.2,3,IF(H4<=35.5,4,IF(H4<=44.7,5,IF(H4<=56.2,6,IF(H4<=70.8,7,IF(H4<=89.1,8,IF(H4<=112,9,IF(H4<=141,10,IF(H4<=178,11,IF(H4<=224,12,IF(H4<=282,13,IF(H4<=355,14,IF(H4<=447,15,IF(H4<=562,16,IF(H4<=708,17,IF(H4<=891,18,IF(H4<=1122,19,IF(H4<=1413,20,IF(H4<=1778,21,IF(H4<=2239,22,IF(H4<=2818,23,IF(H4<=3548,24,IF(H4<=4467,25,IF(H4<=5623,26,IF(H4<=7079,27,IF(H4<=8913,28,IF(H4<=11220,29,IF(H4<=14130,30,IF(H4<=17780,31,IF(H4<=22390,32,))))))))))))))))))))))))))))))))","v":5},null,null,null,{"$f":"Q3+1","v":2},17.8,20,22.4,{"$f":"COUNTIF($M$3:$M$1001,Q4)","v":0},{"$f":"IF((U4)<5,\"INACCURATE\",\"CAN TEST\")","v":"INACCURATE"}]
["sea level, 21˚C","Cm","c/2 =",{"$f":"1128.46/2","v":564.23},1,1,0,44.820511166392983,"Tangential",0.5,{"$f":"IF((H5-H4)<1,\"RED\",\"OK\")","v":"OK"},{"$f":"H5-H4","v":8.9171074085641706},6,null,null,{"$f":"O5*N5","v":0},3,22.4,25,28.2,1,"INACCURATE"]
["Length =",641,{"$f":"IF(D7>1500,\"PERFECT\",\"TOO SMALL\")","v":"PERFECT"},"VOLUME",0,0,1,51.031840949554898,"Axial",1,"OK",6.211329783161915,6,null,null,0,4,28.2,31.5,35.5,0,"INACCURATE"]
["Width =",479,null,{"$f":"+D2*D3*D4","v":3654.0842450032083},2,0,0,53.659065210608425,"Axial",1,"OK",2.6272242610535272,6,null,null,0,5,35.5,40,44.7,1,"INACCURATE"]
["Height =",337,null,{"$f":"(B6*B7*B8)/1000000","v":103.472143},1,0,1,57.654770925915138,"Tangential",0.5,"OK",3.9957057153067126,7,null,null,0,6,44.7,50,56.2,3,"INACCURATE"]
["If you found this spreadsheet helpful, please send a donation via PayPal to erika@jhbrandt.net",null,null,null,0,1,1,62.396339572913604,"Tangential",0.5,"OK",4.7415686469984664,7,null,null,0,7,56.2,63,70.8,4,"INACCURATE"]
[null,null,null,null,2,1,0,64.562757691055936,"Tangential",0.5,"OK",2.1664181181423317,7,null,null,0,8,70.8,80,89.1,7,"CAN TEST"]
[null,null,null,null,1,1,1,67.920004504692329,"Oblique",0.25,"OK",3.3572468136363938,7,null,null,0,9,89.1,100,112,13,"CAN TEST"]
["F/B walls",{"$f":"(B7/100)*(B8/100)","v":16.142300000000002},null,null,0,2,0,71.806807515657624,"Axial",1,"OK",3.8868030109652949,8,null,null,0,10,112,125,141,20,"CAN TEST"]
["Ceiling/Floor",{"$f":"(B6/100)*(B7/100)","v":30.703900000000001},null,null,2,0,1,74.050955901845015,"Tangential",0.5,"OK",2.2441483861873905,8,null,null,0,11,141,160,178,43,"CAN TEST"]
["Side Walls",{"$f":"(B6/100)*(B8/100)","v":21.601700000000001},null,"Position %",1,2,0,76.655341793053054,"Tangential",0.5,"OK",2.6043858912080395,8,null,null,0,12,178,200,224,82,"CAN TEST"]
["Mix position",{"$f":"B6*D15","v":240.375},"to front wall",{"$f":"0.375","v":0.375},3,0,0,80.488597815912641,"Axial",1,"OK",3.8332560228595867,8,null,null,0,13,224,250,282,137,"CAN TEST"]
[null,null,null,null,2,1,1,82.295798625292363,"Oblique",0.25,"OK",1.8072008093797223,8,null,null,0,14,282,315,355,215,"CAN TEST"]
[null,null,null,null,0,2,1,88.093509387987112,"Tangential",0.5,"OK",5.7977107626947486,8,null,null,0,15,355,400,447,255,"CAN TEST"]
["see the Ideal Rooms tab",null,null,null,3,1,0,88.133244464103385,"Tangential",0.5,"RED",3.9735076116272694E-2,8,null,null,0,16,447,500,562,201,"CAN TEST"]
[null,"Height","Width","Length",2,2,0,89.641022332785965,"Tangential",0.5,"OK",1.5077778686825809,9,null,null,null,17,562,630,708]
["Ratio:",1,{"$f":"B3/B4","v":1.4213649851632049},{"$f":"B2/B4","v":1.9020771513353119},1,2,1,92.088491225073582,"Oblique",0.25,"OK",2.4474688922876169,9,null,null,null,18,708,800,891]
[null,null,null,null,3,0,1,95.303007135516992,"Tangential",0.5,"OK",3.21451591044341,9,null,null,null,19,891,1000,1122]
["Instructions:",null,null,null,3,1,1,101.84162984983145,"Oblique",0.25,"OK",6.5386227143144566,9,null,null,null,20,1122,1250,1413]
["1. Enter Dimensions in Yellow Area (centimeters).",null,null,null,0,0,2,102.0636818991098,"Axial",1,"RED",0.22205204927834643,9,null,null,null,21,1413,1600,1778]
["2. Press Ctrl+Shift+S to Sort.",null,null,null,2,2,1,103.14922043121655,"Oblique",0.25,"OK",1.085538532106753,9,null,null,null,22,1778,2000,2239]
["3. Press Ctrl+Shift+C to Copy Mode Strength Data.",null,null,null,1,0,2,105.53112802686114,"Tangential",0.5,"OK",2.3819075956445914,9,null,null,null,23,2239,2500,2818]
[null,null,null,null,4,0,0,107.31813042121685,"Axial",1,"OK",1.7870023943557101,9,null,null,null,24,2818,3150,3548]
["INSTRUCTIONS:",null,null,null,0,3,0,107.71021127348642,"Axial",1,"RED",0.39208085226957223,9,null,null,null,25,3548,4000,4467]
["1. Enter Dimensions in Yellow Area (inches).",null,null,null,3,2,0,107.863951271787,"Tangential",0.5,"RED",0.15373999830057983,9,null,null,null,26,4467,5000,5623]
["2. Press Ctrl+Shift+S to Sort.",null,null,null,0,1,2,108.19449877050289,"Tangential",0.5,"RED",0.3305474987158874,9,null,null,null,27,5623,6300,7079]
["3. Press Ctrl+Shift+C to Copy Mode Strength Data.",null,null,null,1,3,0,111.00141184867047,"Tangential",0.5,"OK",2.8069130781675824,9,null,null,null,28,7079,8000,8913]
[null,null,null,null,1,1,2,111.47140164194326,"Oblique",0.25,"RED",0.46998979327278789,9,null,null,null,29,8913,10000,11220]
["Analysis Note for Bonello Graph:",null,null,null,4,1,0,113.16463899338426,"Tangential",0.5,"OK",1.6932373514409989,10,null,null,null,30,11220,12500,14130]
[null,null,null,null,2,0,2,115.30954185183028,"Tangential",0.5,"OK",2.1449028584460166,10,null,null,null,31,14130,16000,17780]
["If the \"Ideal\" bar (red) in any 1/3 Octave exceeds the \"Actual\" bar (blue) in the same 1/3 octave, the room is \"non-ideal\". If this is the case, alternate room dimensions are usually the best course of action. Since in many cases altering the room dimensions is not doable, bass traps should be considered. Consider each of the following when recommending bass traps:",null,null,null,4,0,1,118.83362280014011,"Tangential",0.5,"OK",3.5240809483098303,10,null,null,null,32,17780,20000,22390]
[null,null,null,null,0,3,1,119.18782825137703,"Tangential",0.5,"RED",0.35420545123692193,10]
[null,null,null,null,3,2,1,119.32678146444373,"Oblique",0.25,"RED",0.13895321306669928,10]
[null,null,null,null,2,3,0,120.33613294374805,"Tangential",0.5,"OK",1.0093514793043283,10]
[null,null,null,null,2,1,2,120.76980104097497,"Oblique",0.25,"RED",0.43366809722691357,10]
[null,null,null,null,1,3,1,122.17021823299993,"Oblique",0.25,"OK",1.4004171920249604,10]
[null,null,null,null,4,1,1,124.13897175828247,"Oblique",0.25,"OK",1.968753525282537,10]
[null,null,null,null,0,2,2,124.79267914582721,"Tangential",0.5,"RED",0.65370738754474189,10]
["(a) For tangential modes above 80 Hz and axial modes above 100 Hz, corner traps should be used in each vertical corner as much as possible.",null,null,null,1,2,2,127.64417960961815,"Oblique",0.25,"OK",2.8515004637909414,10]
[null,null,null,null,4,2,0,129.12551538211187,"Tangential",0.5,"OK",1.4813357724937219,10]
[null,null,null,null,3,0,2,129.98234319004411,"Tangential",0.5,"RED",0.85682780793223401,10]
[null,null,null,null,2,3,1,130.70973063454792,"Oblique",0.25,"RED",0.72738744450381887,10]
["(b) For axial modes below 100 Hz, either broadband absorbers, properly designed diaphragmatic absorbers should be used, in general, at the center of the wall*.",null,null,null,5,0,0,134.14766302652106,"Axial",1,"OK",3.4379323919731348,10]
[null,null,null,null,3,3,0,134.46153349917893,"Tangential",0.5,"RED",0.31387047265786805,10]
[null,null,null,null,3,1,2,134.84978287921746,"Oblique",0.25,"RED",0.38824938003853049,10]
[null,null,null,null,2,2,2,135.84000900938466,"Oblique",0.25,"RED",0.99022613016720129,10]
["(c) For tangential modes below 80 Hz, broadband traps,  diaphragmatic absorbers can also be used, but placement is dependent on the distribution of the mode. ",null,null,null,4,2,1,138.84396822835583,"Oblique",0.25,"OK",3.0039592189711755,10]
[null,null,null,null,5,1,0,138.86918267518794,"Tangential",0.5,"RED",2.5214446832109161E-2,10]
[null,null,null,null,5,0,1,143.52645848824429,"Tangential",0.5,"OK",4.6572758130563443,11]
[null,null,null,null,0,4,0,143.61361503131525,"Axial",1,"RED",8.7156543070960879E-2,11]
["*The important wall for treatment is the opposite wall to the wall indicated by the mode number. For example, an absorber for the (x,0,0) mode should be most effective when placed at the center of the \"y\" wall. ",null,null,null,3,3,1,143.81986226405408,"Oblique",0.25,"RED",0.20624723273883205,11]
[null,null,null,null,1,4,0,146.09823490440226,"Tangential",0.5,"OK",2.2783726403481808,11]
[null,null,null,null,5,1,1,147.94897325623921,"Oblique",0.25,"OK",1.8507383518369522,11]
[null,null,null,null,4,0,2,148.10191180369003,"Tangential",0.5,"RED",0.15293854745081603,11]
[null,null,null,null,0,3,2,148.38626882357329,"Tangential",0.5,"RED",0.28435701988325945,11]
["Other Notes:",null,null,null,3,2,2,148.49790283625259,"Oblique",0.25,"RED",0.1116340126793034,11]
["RT60 is not applicable to these small rooms. The mean free time is calculated instead from the mean free path. ",null,null,null,1,3,2,150.79226967985073,"Oblique",0.25,"OK",2.2943668435981408,11]
[null,null,null,null,4,3,0,152.04825132070539,"Tangential",0.5,"OK",1.2559816408546567,11]
[null,null,null,null,5,2,0,152.15719865017149,"Tangential",0.5,"RED",0.10894732946610475,11]
[null,null,null,null,4,1,2,152.39170148438419,"Oblique",0.25,"RED",0.23450283421269091,11]
[null,null,null,null,0,4,1,152.41102064176161,"Tangential",0.5,"RED",1.931915737742429E-2,11]
[null,null,null,null,0,0,3,153.0955228486647,"Axial",1,"RED",0.68450220690309038,11,null,null,null,null,null,null,null,null,null,null,null,null,null,null,null,null,null,null,null,null,null,null,null,{"$f":"1127/((#REF!/12)*2)","v":{"$error":"#REF!"}}]
["If the \"Ideal\" bar does exceed the \"Actual\" bar in any given 1/3-octave band, the problem modes will usually be those occurring in the 1/3 octave bands that are lower than the violating band. I.e., if the \"Ideal\" bar at 100 Hz exceeds the \"Actual\" bar, the modes at 80 Hz and below are likely to give very perceptible problems in the room.",null,null,null,2,4,0,153.31068358610611,"Tangential",0.5,"RED",0.2151607374414084,11,null,null,null,null,null,null,null,null,null,null,null,null,null,null,null,null,null,null,null,null,null,null,null,{"$f":"1127/((#REF!/12)*2)","v":{"$error":"#REF!"}}]
[null,null,null,null,1,4,1,{"$f":"$D$5*SQRT((($E67/$D$2)^2)+(($F67/$D$3)^2)+(($G67/$D$4)^2))","v":154.75446046199303},{"$f":"+IF(+AND(E67=0,F67=0)+OR(+AND(E67=0,G67=0))+OR(+AND(F67=0,G67=0)),\"Axial\",(+IF(+OR(E67=0,F67=0,G67=0),\"Tangential\",\"Oblique\")))","v":"Oblique"},0.25,"OK",1.4437768758869254,11]
[null,null,null,null,1,0,3,155.42864258599536,"Tangential",{"$f":"IF(I68=\"Axial\",1,IF(I68=\"Tangential\",0.5,IF(I68=\"Oblique\",0.25,\"\")))","v":0.5},"RED",0.67418212400232846,{"$f":"IF(H68<17.8,1,IF(H68<=22.4,2,IF(H68<=28.2,3,IF(H68<=35.5,4,IF(H68<=44.7,5,IF(H68<=56.2,6,IF(H68<=70.8,7,IF(H68<=89.1,8,IF(H68<=112,9,IF(H68<=141,10,IF(H68<=178,11,IF(H68<=224,12,IF(H68<=282,13,IF(H68<=355,14,IF(H68<=447,15,IF(H68<=562,16,IF(H68<=708,17,IF(H68<=891,18,IF(H68<=1122,19,IF(H68<=1413,20,IF(H68<=1778,21,IF(H68<=2239,22,IF(H68<=2818,23,IF(H68<=3548,24,IF(H68<=4467,25,IF(H68<=5623,26,IF(H68<=7079,27,IF(H68<=8913,28,IF(H68<=11220,29,IF(H68<=14130,30,IF(H68<=17780,31,IF(H68<=22390,32,))))))))))))))))))))))))))))))))","v":11}]
[null,null,null,null,0,1,3,157.2491447280515,"Tangential",0.5,{"$f":"IF((H69-H68)<1,\"RED\",\"OK\")","v":"OK"},{"$f":"H69-H68","v":1.8205021420561422},11]
[null,null,null,null,2,3,2,157.7903040578162,"Oblique",0.25,"RED",0.54115932976469594,11]
[null,null,null,null,1,1,3,159.52152625123284,"Oblique",0.25,"OK",1.7312221934166416,11]
[null,null,null,null,4,3,1,160.38366350842927,"Oblique",0.25,"RED",0.86213725719642298,11]
[null,null,null,null,5,2,1,160.486952403516,"Oblique",0.25,"RED",0.10328889508673456,11]
[null,null,null,null,6,0,0,160.97719563182528,"Axial",1,"RED",0.49024322830928213,11]
[null,null,null,null,2,4,1,161.58098431541939,"Oblique",0.25,"RED",0.60378868359410376,11,{"$f":"0.16*(($D$8/$N$100)^(1/2))","v":2.7354394655607597}]
[null,null,null,null,2,0,3,162.22679925210366,"Tangential",0.5,"RED",0.6458149366842747,11]
[null,null,null,null,4,2,2,164.59159725058473,"Oblique",0.25,"OK",2.3647979984810661,11]
[null,null,null,null,3,4,0,164.6307529009527,"Tangential",0.5,"RED",3.9155650367973749E-2,11]
[null,null,null,null,6,1,0,164.93244651942993,"Tangential",0.5,"RED",0.30169361847723053,11]
[null,null,null,null,2,1,3,166.15230602366015,"Oblique",0.25,"OK",1.2198595042302145,11]
[null,null,null,null,5,0,2,168.56034722994525,"Tangential",0.5,"OK",2.4080412062851053,11]
[null,null,null,null,3,3,2,168.81024599755042,"Oblique",0.25,"RED",0.24989876760517404,11]
[null,null,null,null,6,0,1,168.87245572972407,"Tangential",0.5,"RED",6.2209732173641896E-2,11]
[null,null,null,null,0,2,3,169.0989554133813,"Tangential",0.5,"RED",0.22649968365723794,11]
[null,null,null,null,1,2,3,171.21413651248486,"Oblique",0.25,"OK",2.1151810991035518,11]
[null,null,null,null,5,3,0,172.0380338996471,"Tangential",0.5,"RED",0.8238973871622477,11]
[null,null,null,null,5,1,2,172.34165213226137,"Oblique",0.25,"RED",0.30361823261426935,11]
[null,null,null,null,3,4,1,172.35873517589764,"Oblique",0.25,"RED",1.7083043636262119E-2,11]
[null,null,null,null,6,1,1,172.64692498155097,"Oblique",0.25,"RED",0.28818980565333163,11]
[null,null,null,null,3,0,3,172.96431277774542,"Tangential",0.5,"RED",0.31738779619445268,11]
["If the \"Ideal\" bar does exceed the \"Actual\" bar in any given 1/3-octave band, the problem modes will usually be those occurring in the 1/3 octave bands that are lower than the violating band. I.e., if the \"Ideal\" bar at 100 Hz exceeds the \"Actual\" bar, the modes at 80 Hz and below are likely to give very perceptible problems in the room.",null,null,null,0,4,2,176.18701877597422,"Tangential",0.5,"OK",3.222705998228804,11]
[null,null,null,null,6,2,0,176.26648892820677,"Tangential",0.5,"RED",7.9470152232545388E-2,11]
[null,null,null,null,3,1,3,176.65137388674742,"Oblique",0.25,"RED",0.38488495854065263,11,null,null,null,"Transition/Diffusive ------Region------"]
[null,null,null,null,2,2,3,177.40843272283604,"Oblique",0.25,"RED",0.75705883608861768,11,"|----------------- Wave Region  -----------------|-----------",null,null,null,"|----------- Ray Region ---------|"]
[null,null,null,null,1,4,2,178.21809505486411,"Oblique",0.25,"RED",0.80966233202806848,12,"F¹",null,"F²",null,"F³",null,"Fⁿ"]
[null,null,null,null,4,4,0,179.28204466557193,"Tangential",0.5,"OK",1.063949610707823,12,{"$f":"565/D2","v":26.866146645865836},null,{"$f":"(SQRT(N100/D7))*11885","v":116.98077770953211},null,{"$f":"4*P96","v":467.92311083812842},null,"20,000Hz"]
[null,null,null,null,5,3,1,179.44730117434699,"Oblique",0.25,"RED",0.16525650877505882,12,"LF cutoff",null,"(Schroeder Frequency)",null,null,null,"HF cutoff"]
[null,null,null,null,0,5,0,179.51701878914406,"Axial",1,"RED",6.9717614797070837E-2,12,{"$f":"((SQRT(2))*(565/D2))","v":37.994468955287907},"<--This should be the LF cut-off of the speaker system if ported speakers are used"]
[null,null,null,null,1,5,0,181.51083674194493,"Tangential",0.5,"OK",1.9938179528008675,12,"MEAN FREE TIMES","(Maximum)","Permissible rise from 200 Hz @ 63 Hz",null,{"$f":"(((344/R96)/4)*100)*2","v":36.758175866098874},"Maximum depth for Schroeder 1D diffusor"]
[null,null,null,null,4,3,2,183.12745805172707,"Oblique",0.25,"OK",1.6166213097821469,12,{"$f":"0.35*(($D$8/100)^(1/3))","v":0.35400483387711812},null,{"$f":"(N100*0.25)+N100","v":0.44250604234639768},null,{"$f":"(SQRT(2))*P96","v":165.43580237377256},"We don't want any problematic resonances below this frequency"]
[null,null,null,null,5,2,2,183.21792560737725,"Oblique",0.25,"RED",9.046755565017861E-2,12,{"$f":"N100","v":0.35400483387711812},"Balance spec.",{"$f":"P96","v":116.98077770953211},"Schroeder @ spec",{"$f":"P101/2","v":58.490388854766053},"<---- Maximum inner shell MAM resonance"]
[null,null,null,null,6,2,1,183.50510595015689,"Oblique",0.25,"RED",0.28718034277963511,12,"Critical Distance - Dmin",{"$f":"N75*1000","v":2735.4394655607598},"For control rooms, this is the circumference of the 'sweet-spot'"]
[null,null,null,null,2,4,2,184.17698245014716,"Oblique",0.25,"RED",0.67187649999027599,12]
[null,null,null,null,4,4,1,186.40359527157406,"Oblique",0.25,"OK",2.2266128214268974,12]
[null,null,null,null,0,5,1,186.62960329391095,"Tangential",0.5,"RED",0.22600802233688455,12]
[null,null,null,null,4,0,3,186.96368693789529,"Tangential",0.5,"RED",0.33408364398434287,12,"see the Ideal Rooms tab for best room ratios + more information"]
[null,null,null,null,0,3,3,187.18901871874078,"Tangential",0.5,"RED",0.22533178084549377,12]
[null,null,null,null,3,2,3,187.27752427952601,"Oblique",0.25,"RED",8.8505560785222315E-2,12]
[null,null,null,null,2,5,0,187.36503226114053,"Tangential",0.5,"RED",8.7507981614521668E-2,12]
[null,null,null,null,7,0,0,187.80672823712951,"Axial",1,"RED",0.44169597598897781,12]
[null,null,null,null,1,5,1,188.54822366031894,"Oblique",0.25,"RED",0.74149542318943418,12]
[null,null,null,null,1,3,3,189.10196336554566,"Oblique",0.25,"RED",0.55373970522671812,12,"TRACKING ROOM AND BOOTH BROADBAND TRAPPING",null,null,"Minimum Trapping required",null,null,"Mem 3rd","Mem 4th"]
[null,null,null,null,4,1,3,190.37981677375626,"Oblique",0.25,"OK",1.2778534082106034,12,"Axial mode nx (length)",{"$f":"$P$123/((B6*2)/100)","v":26.782371294851796},null,"half-power at Fc  for oblique incidence trapping",null,"FRONT & REAR WALLS",{"$f":"O113*3","v":80.347113884555384},{"$f":"O113*4","v":107.12948517940718}]
[null,null,null,null,6,0,2,190.60601427103398,"Tangential",0.5,"RED",0.22619749727772387,12,"Trap depth MINIMUM",{"$f":"((B6/2)*0.271)/2","v":43.427750000000003}]
[null,null,null,null,7,1,0,191.20779684032942,"Tangential",0.5,"RED",0.6017825692954375,12]
[null,null,null,null,6,3,0,193.68827307316781,"Tangential",0.5,"OK",2.4804762328383845,12,"Axial mode ny (width)",{"$f":"$P$123/((B7*2)/100)","v":35.840292275574114},null,"half-power at Fc  for oblique incidence trapping",null,"SIDE WALLS",{"$f":"O116*3","v":107.52087682672234},{"$f":"O116*4","v":143.36116910229646}]
[null,null,null,null,3,4,2,193.7015228735624,"Oblique",0.25,"RED",1.3249800394589784E-2,12,"Trap depth MINIMUM",{"$f":"((B7/2)*0.271)/2","v":32.452249999999999}]
[null,null,null,null,6,1,2,193.95800338652515,"Oblique",0.25,"RED",0.25648051296275298,12]
[null,null,null,null,2,5,1,194.19038108237726,"Oblique",0.25,"RED",0.23237769585210799,12,"Axial mode nz (height)",{"$f":"$P$123/((B8*2)/100)","v":50.942136498516319},null,"half-power at Fc  for oblique incidence trapping",null,"CEILING ",{"$f":"O119*3","v":152.82640949554894},{"$f":"O119*4","v":203.76854599406528}]
[null,null,null,null,7,0,1,194.61658706758703,"Tangential",0.5,"RED",0.42620598520977637,12,"Trap depth MINIMUM",{"$f":"((B8/2)*0.271)/2","v":22.831750000000003}]
[null,null,null,null,2,3,3,194.72807709254826,"Oblique",0.25,"RED",0.11149002496122762,12]
[null,null,null,null,5,4,0,196.52090453140056,"Tangential",0.5,"OK",1.7928274388522993,12]
[null,null,null,null,3,5,0,196.73529020822278,"Tangential",0.5,"RED",0.21438567682221787,12,"Temperature Centigrade",20,{"$f":"331.23 + (0.606*O123)","v":343.35}]
[null,null,null,null,7,1,1,197.90065781404914,"Oblique",0.25,"OK",1.1653676058263613,12,"Temperature Fahrinheit",{"$f":"(9/5)*(O123)+32","v":68},{"$f":"P123*3.28084","v":1126.476414}]
[null,null,null,null,5,3,2,200.03519757997293,"Oblique",0.25,"OK",2.1345397659237904,12]
[null,null,null,null,4,2,3,200.2789001342928,"Oblique",0.25,"RED",0.2437025543198672,12]
[null,null,null,null,6,3,1,200.29826738333682,"Oblique",0.25,"RED",1.9367249044023538E-2,12,"All Modes",null,null,null,null,"Poly Diameter","Poly Radius","Poly Depth"]
[null,null,null,null,7,2,0,201.06612040999278,"Tangential",0.5,"RED",0.76785302665595623,12,"nx","ny","nz","f","Width","DIFFRACTION/SCATTERING @"]
[null,null,null,null,5,4,1,203.03870248930505,"Oblique",0.25,"OK",1.972582079312275,12,0,1,0,{"$f":"$D$5*SQRT(((N129/$D$2)^2)+((O129/$D$3)^2)+((P129/$D$4)^2))","v":35.903403757828812},{"$f":"(((343.96*100))/Q129)/2","v":479.00750903735525},{"$f":"((343.96*100)*2)/Q129","v":1916.030036149421},{"$f":"S129/2","v":958.0150180747105},{"$f":"(T129*0.0317224829)*10","v":303.90615028818195}]
[null,null,null,null,3,5,1,203.24621325873284,"Oblique",0.25,"RED",0.20751076942778468,12]
[null,null,null,null,5,0,3,{"$f":"$D$5*SQRT((($E131/$D$2)^2)+(($F131/$D$3)^2)+(($G131/$D$4)^2))","v":203.55302653555179},{"$f":"+IF(+AND(E131=0,F131=0)+OR(+AND(E131=0,G131=0))+OR(+AND(F131=0,G131=0)),\"Axial\",(+IF(+OR(E131=0,F131=0,G131=0),\"Tangential\",\"Oblique\")))","v":"Tangential"},0.5,"RED",0.30681327681895709,12,"Slat Diffraction Frequency, both width and gap"]
[null,null,null,null,6,2,2,203.6832596996629,"Oblique",{"$f":"IF(I132=\"Axial\",1,IF(I132=\"Tangential\",0.5,IF(I132=\"Oblique\",0.25,\"\")))","v":0.25},"RED",0.13023316411110386,{"$f":"IF(H132<17.8,1,IF(H132<=22.4,2,IF(H132<=28.2,3,IF(H132<=35.5,4,IF(H132<=44.7,5,IF(H132<=56.2,6,IF(H132<=70.8,7,IF(H132<=89.1,8,IF(H132<=112,9,IF(H132<=141,10,IF(H132<=178,11,IF(H132<=224,12,IF(H132<=282,13,IF(H132<=355,14,IF(H132<=447,15,IF(H132<=562,16,IF(H132<=708,17,IF(H132<=891,18,IF(H132<=1122,19,IF(H132<=1413,20,IF(H132<=1778,21,IF(H132<=2239,22,IF(H132<=2818,23,IF(H132<=3548,24,IF(H132<=4467,25,IF(H132<=5623,26,IF(H132<=7079,27,IF(H132<=8913,28,IF(H132<=11220,29,IF(H132<=14130,30,IF(H132<=17780,31,IF(H132<=22390,32,))))))))))))))))))))))))))))))))","v":12},null,"Full","1/2 wave","1/4 wave"]
[null,null,null,null,3,3,3,203.76001351407697,"Oblique",0.25,{"$f":"IF((H133-H132)<1,\"RED\",\"OK\")","v":"RED"},{"$f":"H133-H132","v":7.6753814414075805E-2},12,{"$f":"0.75*25.4","v":19.049999999999997},{"$f":"343.35/(N133*0.001)","v":18023.622047244098},{"$f":"O133/2","v":9011.8110236220491},4505.9055118110246]
[null,null,null,null,0,0,4,204.12736379821959,"Axial",1,"RED",0.36735028414261706,12,{"$f":"N133+19.05","v":38.099999999999994},9011.8110236220491,4505.9055118110246,2252.9527559055123]
[null,null,null,null,1,0,4,205.88298732782602,"Tangential",0.5,"OK",1.7556235296064244,12,{"$f":"N134+12.7","v":50.8},6758.8582677165359,3379.429133858268,1689.714566929134]
[null,null,null,null,4,4,2,206.2984408624331,"Oblique",0.25,"RED",0.41545353460708156,12,{"$f":"N135+50.8","v":101.6},3379.429133858268,1689.714566929134,844.85728346456699]
[null,null,null,null,0,5,2,206.50267600625563,"Tangential",0.5,"RED",0.20423514382252961,12,152.39999999999998,2252.9527559055123,1126.4763779527561,563.23818897637807]
[null,null,null,null,5,1,3,206.69515962687836,"Oblique",0.25,"RED",0.19248362062273827,12,203.2,1689.714566929134,844.85728346456699,422.4286417322835]
[null,null,null,null,0,1,4,207.26078995460858,"Tangential",0.5,"RED",0.5656303277302186,12,254,1351.7716535433071,675.88582677165357,337.94291338582678]
[null,null,null,null,7,2,1,207.44115687930972,"Oblique",0.25,"RED",0.1803669247011328,12,304.8,1126.4763779527559,563.23818897637796,281.61909448818898]
[null,null,null,null,1,5,2,208.23827462203883,"Oblique",0.25,"RED",0.79711774272911384,12,355.6,965.55118110236219,482.7755905511811,241.38779527559055]
[null,null,null,null,1,1,4,208.99009276142124,"Oblique",0.25,"RED",0.75181813938240794,12,406.40000000000003,844.85728346456688,422.42864173228344,211.21432086614172]
[null,null,null,null,4,5,0,209.14956646392363,"Tangential",0.5,"RED",0.15947370250239601,12,457.20000000000005,750.98425196850394,375.49212598425197,187.74606299212599]
[null,null,null,null,0,4,3,209.91214719179268,"Tangential",0.5,"RED",0.76258072786905018,12,508.00000000000006,675.88582677165346,337.94291338582673,168.97145669291336]
[null,null,null,null,2,0,4,211.06225605372228,"Tangential",0.5,"OK",1.1501088619295956,12,558.80000000000007,614.44166070150322,307.22083035075161,153.61041517537581]
[null,null,null,null,1,4,3,211.61978489377574,"Oblique",0.25,"RED",0.55752884005346459,12,609.6,563.23818897637796,281.61909448818898,140.80954724409449]
[null,null,null,null,2,5,2,213.36037700805861,"Oblique",0.25,"OK",1.7405921142828618,12,660.4,519.91217443973358,259.95608721986679,129.97804360993339]
[null,null,null,null,7,0,2,213.74836217837483,"Tangential",0.5,"RED",0.38798517031622737,12,711.19999999999993,482.77559055118115,241.38779527559058,120.69389763779529]
[null,null,null,null,2,1,4,214.09420901062387,"Oblique",0.25,"RED",0.34584683224903756,12,761.99999999999989,450.59055118110246,225.29527559055123,112.64763779527561]
[null,null,null,null,8,0,0,214.6362608424337,"Axial",1,"RED",0.54205183180982885,12,812.79999999999984,422.42864173228355,211.21432086614178,105.60716043307089]
[null,null,null,null,4,5,1,215.28536862208699,"Oblique",0.25,"RED",0.64910777965329203,12,863.5999999999998,397.5798981009728,198.7899490504864,99.3949745252432]
[null,null,null,null,0,6,0,215.42042254697284,"Axial",1,"RED",0.13505392488585244,12,914.39999999999975,375.49212598425208,187.74606299212604,93.873031496063021]
[null,null,null,null,6,4,0,215.727902543574,"Tangential",0.5,"RED",0.30747999660115966,12,965.1999999999997,355.72938251139675,177.86469125569838,88.932345627849188]
[null,null,null,null,4,3,3,215.77050272451609,"Oblique",0.25,"RED",4.2600180942088173E-2,12,1015.9999999999997,337.94291338582696,168.97145669291348,84.485728346456739]
[null,null,null,null,5,2,3,215.84728911286737,"Oblique",0.25,"RED",7.6786388351280266E-2,12,1066.7999999999997,321.85039370078749,160.92519685039375,80.462598425196873]
[null,null,null,null,0,2,4,216.38899754100578,"Tangential",0.5,"RED",0.54170842813840636,12,1117.5999999999997,307.22083035075173,153.61041517537586,76.805207587687931]
[null,null,null,null,7,3,0,216.50140134353427,"Tangential",0.5,"RED",0.11240380252849036,12,1168.3999999999996,293.86340294419728,146.93170147209864,73.465850736049319]
[null,null,null,null,2,4,3,216.66195978515736,"Oblique",0.25,"RED",0.1605584416230954,12,1219.1999999999996,281.61909448818909,140.80954724409455,70.404773622047273]
[null,null,null,null,7,1,2,216.74274321262837,"Oblique",0.25,"RED",8.0783427471004643E-2,12]
[null,null,null,null,1,6,0,217.0847352305901,"Tangential",0.5,"RED",0.34199201796172929,12]
[null,null,null,null,8,1,0,217.61842493184926,"Tangential",0.5,"RED",0.53368970125916348,12]
[null,null,null,null,1,2,4,218.04591735829513,"Oblique",0.25,"RED",0.42749242644586616,12]
[null,null,null,null,6,3,2,218.93410490115215,"Oblique",0.25,"RED",0.88818754285702539,12]
[null,null,null,null,3,0,4,219.42286806434382,"Tangential",0.5,"RED",0.48876316319166335,12]
[null,null,null,null,8,0,1,220.61952148239718,"Tangential",0.5,"OK",1.1966534180533586,12]
[null,null,null,null,0,6,1,221.38249081853107,"Tangential",0.5,"RED",0.76296933613389228,12]
[null,null,null,null,5,4,2,221.44403600152012,"Oblique",0.25,"RED",6.1545182989050318E-2,12]
[null,null,null,null,3,5,2,221.63431497878733,"Oblique",0.25,"RED",0.19027897726721221,12]
[null,null,null,null,6,4,1,221.68170137959163,"Oblique",0.25,"RED",4.7386400804299456E-2,12]
[null,null,null,null,2,6,0,222.00282369734094,"Tangential",0.5,"RED",0.32112231774931388,12]
[null,null,null,null,6,0,3,222.15286770553504,"Tangential",0.5,"RED",0.1500440081941008,12]
[null,null,null,null,3,1,4,222.34084067255864,"Oblique",0.25,"RED",0.18797296702359745,12]
[null,null,null,null,7,3,1,222.43449726698142,"Oblique",0.25,"RED",9.3656594422782291E-2,12]
[null,null,null,null,2,2,4,222.94280328388652,"Oblique",0.25,"RED",0.50830601690509525,12]
[null,null,null,null,1,6,1,223.00231178361372,"Oblique",0.25,"RED",5.950849972720107E-2,12]
[null,null,null,null,8,1,1,223.5218728905956,"Oblique",0.25,"RED",0.5195611069818824,12]
[null,null,null,null,5,5,0,224.10255583196491,"Tangential",0.5,"RED",0.58068294136930376,13]
[null,null,null,null,3,4,3,224.81442106110669,"Oblique",0.25,"RED",0.71186522914177885,13]
[null,null,null,null,6,1,3,225.03544394426098,"Oblique",0.25,"RED",0.22102288315429064,13]
[null,null,null,null,7,2,2,225.48742745334692,"Oblique",0.25,"RED",0.45198350908594875,13]
[null,null,null,null,8,2,0,226.32927798676852,"Tangential",0.5,"RED",0.84185053342159222,13]
[null,null,null,null,2,6,1,227.79267442192543,"Oblique",0.25,"OK",1.4633964351569091,13]
[null,null,null,null,5,5,1,229.8395186235814,"Oblique",0.25,"OK",2.046844201655972,13]
[null,null,null,null,3,6,0,229.96602537915911,"Tangential",0.5,"RED",0.12650675557770796,13]
[null,null,null,null,5,3,3,230.29399519822948,"Oblique",0.25,"RED",0.32796981907037548,13]
[null,null,null,null,4,0,4,230.61908370366055,"Tangential",0.5,"RED",0.3250885054310686,13]
[null,null,null,null,0,3,4,230.80179865804723,"Tangential",0.5,"RED",0.18271495438668239,13]
[null,null,null,null,3,2,4,230.8735858325355,"Oblique",0.25,"RED",7.1787174488264327E-2,13]
[null,null,null,null,8,2,1,232.01118693871769,"Oblique",0.25,"OK",1.1376011061821885,13]
[null,null,null,null,1,3,4,232.35596416620953,"Oblique",0.25,"RED",0.34477722749184636,13]
[null,null,null,null,4,5,2,232.7241635818032,"Oblique",0.25,"RED",0.36819941559366498,13]
[null,null,null,null,4,1,4,233.39712116843617,"Oblique",0.25,"RED",0.67295758663297534,13]
[null,null,null,null,6,2,3,233.46972873454848,"Oblique",0.25,"RED",7.2607566112310451E-2,13]
[null,null,null,null,3,6,1,235.56022928200065,"Oblique",0.25,"OK",2.0905005474521658,13]
[null,null,null,null,4,4,3,{"$f":"$D$5*SQRT((($E195/$D$2)^2)+(($F195/$D$3)^2)+(($G195/$D$4)^2))","v":235.75472562766188},{"$f":"+IF(+AND(E195=0,F195=0)+OR(+AND(E195=0,G195=0))+OR(+AND(F195=0,G195=0)),\"Axial\",(+IF(+OR(E195=0,F195=0,G195=0),\"Tangential\",\"Oblique\")))","v":"Oblique"},0.25,"RED",0.19449634566123564,13]
[null,null,null,null,0,5,3,235.93346339857752,"Tangential",{"$f":"IF(I196=\"Axial\",1,IF(I196=\"Tangential\",0.5,IF(I196=\"Oblique\",0.25,\"\")))","v":0.5},"RED",0.1787377709156317,{"$f":"IF(H196<17.8,1,IF(H196<=22.4,2,IF(H196<=28.2,3,IF(H196<=35.5,4,IF(H196<=44.7,5,IF(H196<=56.2,6,IF(H196<=70.8,7,IF(H196<=89.1,8,IF(H196<=112,9,IF(H196<=141,10,IF(H196<=178,11,IF(H196<=224,12,IF(H196<=282,13,IF(H196<=355,14,IF(H196<=447,15,IF(H196<=562,16,IF(H196<=708,17,IF(H196<=891,18,IF(H196<=1122,19,IF(H196<=1413,20,IF(H196<=1778,21,IF(H196<=2239,22,IF(H196<=2818,23,IF(H196<=3548,24,IF(H196<=4467,25,IF(H196<=5623,26,IF(H196<=7079,27,IF(H196<=8913,28,IF(H196<=11220,29,IF(H196<=14130,30,IF(H196<=17780,31,IF(H196<=22390,32,))))))))))))))))))))))))))))))))","v":13}]
[null,null,null,null,7,4,0,236.42385157487354,"Tangential",0.5,{"$f":"IF((H197-H196)<1,\"RED\",\"OK\")","v":"RED"},{"$f":"H197-H196","v":0.49038817629602249},13]
[null,null,null,null,2,3,4,236.95730742702597,"Oblique",0.25,"RED",0.53345585215242863,13]
[null,null,null,null,1,5,3,237.45404391390559,"Oblique",0.25,"RED",0.49673648687962668,13]
[null,null,null,null,8,0,2,237.66724560028021,"Tangential",0.5,"RED",0.21320168637461734,13]
[null,null,null,null,0,6,2,238.37565650275405,"Tangential",0.5,"RED",0.70841090247384386,13]
[null,null,null,null,6,4,2,238.65356292888745,"Oblique",0.25,"RED",0.27790642613339855,13]
[null,null,null,null,7,3,2,239.35298608230642,"Oblique",0.25,"RED",0.69942315341896233,13]
[null,null,null,null,1,6,2,239.880756695776,"Oblique",0.25,"RED",0.52777061346958476,13]
[null,null,null,null,8,3,0,240.14623478414214,"Tangential",0.5,"RED",0.2654780883661374,13]
[null,null,null,null,8,1,2,240.36383678211993,"Oblique",0.25,"RED",0.21760199797779478,13]
[null,null,null,null,4,6,0,240.67226588749611,"Tangential",0.5,"RED",0.3084291053761774,13]
[null,null,null,null,6,5,0,241.12241195796972,"Tangential",0.5,"RED",0.45014607047360755,13]
[null,null,null,null,9,0,0,241.46579344773792,"Axial",1,"RED",0.34338148976820548,13]
[null,null,null,null,4,2,4,241.53960208194994,"Oblique",0.25,"RED",7.3808634212014113E-2,13]
[null,null,null,null,7,4,1,241.86873792244936,"Oblique",0.25,"RED",0.32913584049941846,13]
[null,null,null,null,2,5,3,241.95845600128186,"Oblique",0.25,"RED",8.9718078832504489E-2,13]
[null,null,null,null,7,0,3,242.30065267646521,"Tangential",0.5,"RED",0.34219667518334518,13]
[null,null,null,null,9,1,0,244.1204289008671,"Tangential",0.5,"OK",1.8197762244018918,13]
[null,null,null,null,5,0,4,244.26128663111501,"Tangential",0.5,"RED",0.14085773024791592,13]
[null,null,null,null,2,6,2,244.34043646599986,"Oblique",0.25,"RED",7.914983488484495E-2,13]
[null,null,null,null,3,3,4,244.43380421325014,"Oblique",0.25,"RED",9.3367747250283628E-2,13]
[null,null,null,null,7,1,3,244.94624040560149,"Oblique",0.25,"RED",0.51243619235134474,13]
[null,null,null,null,8,3,1,245.50858003683084,"Oblique",0.25,"RED",0.56233963122934938,13]
[null,null,null,null,4,6,1,246.02314598045911,"Oblique",0.25,"RED",0.51456594362826991,13]
[null,null,null,null,5,5,2,246.24977298105603,"Oblique",0.25,"RED",0.22662700059692042,13]
[null,null,null,null,6,5,1,246.46351928658632,"Oblique",0.25,"RED",0.21374630553029306,13]
[null,null,null,null,9,0,1,246.79946960244121,"Tangential",0.5,"RED",0.33595031585488755,13]
[null,null,null,null,5,1,4,246.88586542790458,"Oblique",0.25,"RED",8.6395825463370102E-2,13]
[null,null,null,null,6,3,3,246.88739587587708,"Oblique",0.25,"RED",1.5304479724989051E-3,13]
[null,null,null,null,8,2,2,248.27794351656493,"Oblique",0.25,"OK",1.3905476406878563,13]
[null,null,null,null,5,4,3,249.11584661387135,"Oblique",0.25,"RED",0.83790309730642321,13]
[null,null,null,null,3,5,3,249.28500462245947,"Oblique",0.25,"RED",0.16915800858811281,13]
[null,null,null,null,9,1,1,249.39733879382911,"Oblique",0.25,"RED",0.11233417136963908,13]
[null,null,null,null,0,4,4,249.58535829165442,"Tangential",0.5,"RED",0.18801949782530869,13]
[null,null,null,null,1,4,4,251.02325568240204,"Oblique",0.25,"OK",1.4378973907476222,13]
[null,null,null,null,0,7,0,251.32382630480166,"Axial",1,"RED",0.30057062239961851,13]
[null,null,null,null,3,6,2,251.59763113251032,"Oblique",0.25,"RED",0.2738048277086591,13]
[null,null,null,null,9,2,0,251.91654771161089,"Tangential",0.5,"RED",0.31891657910057347,13]
[null,null,null,null,7,2,3,252.71688485938515,"Oblique",0.25,"RED",0.80033714777425757,13]
[null,null,null,null,1,7,0,252.75183379810559,"Tangential",0.5,"RED",3.4948938720447131E-2,13]
[null,null,null,null,5,6,0,253.77461249264744,"Tangential",0.5,"OK",1.0227786945418416,13]
[null,null,null,null,4,3,4,254.53222071261447,"Oblique",0.25,"RED",0.75760821996703953,13]
[null,null,null,null,5,2,4,254.5973168599356,"Oblique",0.25,"RED",6.5096147321128228E-2,13]
[null,null,null,null,0,0,5,255.15920474777448,"Axial",1,"RED",0.56188788783887844,13]
[null,null,null,null,2,4,4,255.2883592192363,"Oblique",0.25,"RED",0.12915447146181691,13]
[null,null,null,null,0,7,1,256.45255791117933,"Tangential",0.5,"OK",1.1641986919430281,13]
[null,null,null,null,1,0,5,256.56586598247202,"Tangential",0.5,"RED",0.1133080712926926,13]
[null,null,null,null,2,7,0,256.9882506025566,"Tangential",0.5,"RED",0.42238462008458555,13]
[null,null,null,null,9,2,1,257.03345268979484,"Oblique",0.25,"RED",4.5202087238237709E-2,13]
[null,null,null,null,7,4,2,257.51355839314658,"Oblique",0.25,"RED",0.48010570335173952,13]
[null,null,null,null,0,1,5,257.67280448063269,"Tangential",0.5,"RED",0.15924608748611035,13]
[null,null,null,null,1,7,1,257.85216361125589,"Oblique",0.25,"RED",0.17935913062319742,13]
[null,null,null,null,8,4,0,258.25103076422374,"Tangential",0.5,"RED",0.39886715296785269,13]
[null,null,null,null,5,6,1,258.85479083164375,"Oblique",0.25,"RED",0.60376006742001209,13]
[null,null,null,null,1,1,5,259.06581787015722,"Oblique",0.25,"RED",0.21102703851346405,13]
[null,null,null,null,4,5,3,259.19448348364443,"Oblique",0.25,"RED",0.12866561348721461,13]
[null,null,null,null,7,5,0,259.80324710456745,"Tangential",0.5,"RED",0.60876362092301406,13]
[null,null,null,null,6,0,4,259.96468638008821,"Tangential",0.5,"RED",0.1614392755207632,13]
[null,null,null,null,2,0,5,260.7403210989682,"Tangential",0.5,"RED",0.77563471887998503,13]
[null,null,null,null,8,3,2,260.93525872101492,"Oblique",0.25,"RED",0.19493762204672294,13]
[null,null,null,null,4,6,2,261.41946126909585,"Oblique",0.25,"RED",0.48420254808092977,13]
[null,null,null,null,6,5,2,261.83394109861223,"Oblique",0.25,"RED",0.41447982951638096,13]
[null,null,null,null,2,7,1,{"$f":"$D$5*SQRT((($E259/$D$2)^2)+(($F259/$D$3)^2)+(($G259/$D$4)^2))","v":262.0061253834786},{"$f":"+IF(+AND(E259=0,F259=0)+OR(+AND(E259=0,G259=0))+OR(+AND(F259=0,G259=0)),\"Axial\",(+IF(+OR(E259=0,F259=0,G259=0),\"Tangential\",\"Oblique\")))","v":"Oblique"},0.25,"RED",0.17218428486637549,13]
[null,null,null,null,9,0,2,262.15019467501509,"Tangential",{"$f":"IF(I260=\"Axial\",1,IF(I260=\"Tangential\",0.5,IF(I260=\"Oblique\",0.25,\"\")))","v":0.5},"RED",0.14406929153648207,{"$f":"IF(H260<17.8,1,IF(H260<=22.4,2,IF(H260<=28.2,3,IF(H260<=35.5,4,IF(H260<=44.7,5,IF(H260<=56.2,6,IF(H260<=70.8,7,IF(H260<=89.1,8,IF(H260<=112,9,IF(H260<=141,10,IF(H260<=178,11,IF(H260<=224,12,IF(H260<=282,13,IF(H260<=355,14,IF(H260<=447,15,IF(H260<=562,16,IF(H260<=708,17,IF(H260<=891,18,IF(H260<=1122,19,IF(H260<=1413,20,IF(H260<=1778,21,IF(H260<=2239,22,IF(H260<=2818,23,IF(H260<=3548,24,IF(H260<=4467,25,IF(H260<=5623,26,IF(H260<=7079,27,IF(H260<=8913,28,IF(H260<=11220,29,IF(H260<=14130,30,IF(H260<=17780,31,IF(H260<=22390,32,))))))))))))))))))))))))))))))))","v":13}]
[null,null,null,null,3,4,4,262.24276053295586,"Oblique",0.25,{"$f":"IF((H261-H260)<1,\"RED\",\"OK\")","v":"RED"},{"$f":"H261-H260","v":9.2565857940769547E-2},13]
[null,null,null,null,6,1,4,262.43226281479821,"Oblique",0.25,"RED",0.18950228184235129,13]
[null,null,null,null,2,1,5,263.200625850682,"Oblique",0.25,"RED",0.76836303588379451,13]
[null,null,null,null,8,4,1,263.24483600155338,"Oblique",0.25,"RED",4.4210150871379028E-2,13]
[null,null,null,null,8,0,3,263.64173338970301,"Tangential",0.5,"RED",0.39689738814962539,13]
[null,null,null,null,3,7,0,263.89785911760981,"Tangential",0.5,"RED",0.25612572790680588,13]
[null,null,null,null,0,6,3,264.28052816396132,"Tangential",0.5,"RED",0.38266904635150922,13]
[null,null,null,null,9,3,0,264.39973339231017,"Tangential",0.5,"RED",0.1192052283488465,13]
[null,null,null,null,6,4,3,264.53122131830821,"Oblique",0.25,"RED",0.13148792599804437,13]
[null,null,null,null,9,1,2,264.5973903301882,"Oblique",0.25,"RED",6.6169011879992468E-2,13]
[null,null,null,null,7,5,1,264.76777748959103,"Oblique",0.25,"RED",0.17038715940282145,13]
[null,null,null,null,0,2,5,265.07062714134776,"Tangential",0.5,"RED",0.30284965175673051,13]
[null,null,null,null,7,3,3,265.16239533542483,"Oblique",0.25,"RED",9.1768194077076259E-2,13]
[null,null,null,null,1,6,3,265.6388928346928,"Oblique",0.25,"RED",0.47649749926796403,13]
[null,null,null,null,8,1,3,266.07521114550474,"Oblique",0.25,"RED",0.4363183108119415,13]
[null,null,null,null,1,2,5,266.42496353181036,"Oblique",0.25,"RED",0.34975238630562444,13]
[null,null,null,null,5,3,4,266.95517556186621,"Oblique",0.25,"RED",0.53021203005584994,13]
[null,null,null,null,3,0,5,267.55304921807272,"Tangential",0.5,"RED",0.59787365620650235,13]
[null,null,null,null,3,7,1,268.78677206581153,"Oblique",0.25,"OK",1.233722847738818,13]
[null,null,null,null,6,6,0,268.92306699835785,"Tangential",0.5,"RED",0.13629493254632052,13]
[null,null,null,null,9,3,1,269.27953470069974,"Oblique",0.25,"RED",0.35646770234188807,13]
[null,null,null,null,2,6,3,269.67293680660407,"Oblique",0.25,"RED",0.39340210590432889,13]
[null,null,null,null,6,2,4,269.69956575843491,"Oblique",0.25,"RED",2.6628951830844017E-2,13]
[null,null,null,null,3,1,5,269.95127069026017,"Oblique",0.25,"RED",0.25170493182525888,13]
[null,null,null,null,2,2,5,270.4472825753362,"Oblique",0.25,"RED",0.49601188507602956,13]
[null,null,null,null,0,7,2,271.25755442252438,"Tangential",0.5,"RED",0.8102718471881758,13]
[null,null,null,null,5,5,3,271.40411685662571,"Oblique",0.25,"RED",0.14656243410132674,13]
[null,null,null,null,4,4,4,271.68001801876932,"Oblique",0.25,"RED",0.2759011621436116,13]
[null,null,null,null,9,2,2,271.8068103888109,"Oblique",0.25,"RED",0.12679237004158495,13]
[null,null,null,null,0,5,4,271.83513512081652,"Tangential",0.5,"RED",2.8324732005614806E-2,13]
[null,null,null,null,1,7,2,272.58115241356631,"Oblique",0.25,"RED",0.74601729274979789,13]
[null,null,null,null,1,5,4,273.15593441470696,"Oblique",0.25,"RED",0.57478200114064748,13]
[null,null,null,null,8,2,3,273.24564258249012,"Oblique",0.25,"RED",8.9708167783157933E-2,13]
[null,null,null,null,4,7,0,273.27796615459397,"Tangential",0.5,"RED",3.2323572103848619E-2,13]
[null,null,null,null,5,6,2,273.52979565048491,"Oblique",0.25,"RED",0.25182949589094505,13]
[null,null,null,null,6,6,1,273.72224015323258,"Oblique",0.25,"RED",0.19244450274766223,13]
[null,null,null,null,3,6,3,276.26547367522068,"Oblique",0.25,"OK",2.5432335219880997,13]
[null,null,null,null,2,7,2,276.5139347493452,"Oblique",0.25,"RED",0.24846107412452056,13]
[null,null,null,null,4,0,5,276.80932225021252,"Tangential",0.5,"RED",0.2953875008673208,13]
[null,null,null,null,0,3,5,276.96156661186006,"Tangential",0.5,"RED",0.15224436164754707,13]
[null,null,null,null,3,2,5,277.02139222716926,"Oblique",0.25,"RED",5.9825615309193836E-2,13]
[null,null,null,null,2,5,4,277.08055862046496,"Oblique",0.25,"RED",5.9166393295697617E-2,13]
[null,null,null,null,7,0,4,277.3794293424545,"Tangential",0.5,"RED",0.29887072198954456,13]
[null,null,null,null,8,4,2,277.68793645671167,"Oblique",0.25,"RED",0.30850711425716781,13]
[null,null,null,null,4,7,1,278.00197045397374,"Oblique",0.25,"RED",0.31403399726207226,13]
[null,null,null,null,1,3,5,278.25803348675282,"Oblique",0.25,"RED",0.25606303277908182,13]
[null,null,null,null,4,1,5,279.12802669388054,"Oblique",0.25,"RED",0.86999320712772032,13]
[null,null,null,null,7,5,2,279.13208767334436,"Oblique",0.25,"RED",4.0609794638157837E-3,13]
[null,null,null,null,7,1,4,279.69340754430266,"Oblique",0.25,"RED",0.56131987095830027,13]
[null,null,null,null,8,5,0,279.81258817887937,"Tangential",0.5,"RED",0.11918063457670769,13]
[null,null,null,null,9,4,0,280.94590195927123,"Tangential",0.5,"OK",1.1333137803918589,13]
[null,null,null,null,6,3,4,281.39496757631741,"Oblique",0.25,"RED",0.44906561704618753,13]
[null,null,null,null,7,4,3,281.66376534762833,"Oblique",0.25,"RED",0.26879777131091487,13]
[null,null,null,null,2,3,5,282.11168827145769,"Oblique",0.25,"RED",0.44792292382936694,14]
[null,null,null,null,3,7,2,282.94712440606372,"Oblique",0.25,"RED",0.83543613460602728,14]
[null,null,null,null,5,4,4,283.35215998656258,"Oblique",0.25,"RED",0.40503558049886124,14]
[null,null,null,null,9,3,2,283.41526807976908,"Oblique",0.25,"RED",6.3108093206494686E-2,14]
[null,null,null,null,3,5,4,283.50089076495743,"Oblique",0.25,"RED",8.5622685188354808E-2,14]
[null,null,null,null,8,5,1,284.42808105752113,"Oblique",0.25,"RED",0.92719029256369367,14]
[null,null,null,null,8,3,3,284.79545852647709,"Oblique",0.25,"RED",0.36737746895596501,14]
[null,null,null,null,5,7,0,284.88464536363335,"Tangential",0.5,"RED",8.91868371562623E-2,14]
[null,null,null,null,4,6,3,285.23916050172295,"Oblique",0.25,"RED",0.35451513808959589,14]
[null,null,null,null,9,4,1,{"$f":"$D$5*SQRT((($E323/$D$2)^2)+(($F323/$D$3)^2)+(($G323/$D$4)^2))","v":285.54307664240275},{"$f":"+IF(+AND(E323=0,F323=0)+OR(+AND(E323=0,G323=0))+OR(+AND(F323=0,G323=0)),\"Axial\",(+IF(+OR(E323=0,F323=0,G323=0),\"Tangential\",\"Oblique\")))","v":"Oblique"},0.25,"RED",0.30391614067980299,14]
[null,null,null,null,6,5,3,285.61907615692417,"Oblique",{"$f":"IF(I324=\"Axial\",1,IF(I324=\"Tangential\",0.5,IF(I324=\"Oblique\",0.25,\"\")))","v":0.25},"RED",7.5999514521413403E-2,{"$f":"IF(H324<17.8,1,IF(H324<=22.4,2,IF(H324<=28.2,3,IF(H324<=35.5,4,IF(H324<=44.7,5,IF(H324<=56.2,6,IF(H324<=70.8,7,IF(H324<=89.1,8,IF(H324<=112,9,IF(H324<=141,10,IF(H324<=178,11,IF(H324<=224,12,IF(H324<=282,13,IF(H324<=355,14,IF(H324<=447,15,IF(H324<=562,16,IF(H324<=708,17,IF(H324<=891,18,IF(H324<=1122,19,IF(H324<=1413,20,IF(H324<=1778,21,IF(H324<=2239,22,IF(H324<=2818,23,IF(H324<=3548,24,IF(H324<=4467,25,IF(H324<=5623,26,IF(H324<=7079,27,IF(H324<=8913,28,IF(H324<=11220,29,IF(H324<=14130,30,IF(H324<=17780,31,IF(H324<=22390,32,))))))))))))))))))))))))))))))))","v":14}]
[null,null,null,null,7,6,0,285.79245200223772,"Tangential",0.5,{"$f":"IF((H325-H324)<1,\"RED\",\"OK\")","v":"RED"},{"$f":"H325-H324","v":0.17337584531355787},14]
[null,null,null,null,9,0,3,285.90902140655101,"Tangential",0.5,"RED",0.11656940431328167,14]
[null,null,null,null,4,2,5,285.97135956282875,"Oblique",0.25,"RED",6.2338156277746748E-2,14]
[null,null,null,null,7,2,4,286.52323715178215,"Oblique",0.25,"RED",0.55187758895340266,14]
[null,null,null,null,0,8,0,287.2272300626305,"Axial",1,"RED",0.70399291084834204,14]
[null,null,null,null,6,6,2,287.63972452810816,"Oblique",0.25,"RED",0.41249446547766411,14]
[null,null,null,null,9,1,3,288.1545122378779,"Oblique",0.25,"RED",0.51478770976973465,14]
[null,null,null,null,5,0,5,288.27385462957568,"Tangential",0.5,"RED",0.11934239169778493,14]
[null,null,null,null,3,3,5,288.42004742816948,"Oblique",0.25,"RED",0.14619279859380185,14]
[null,null,null,null,1,8,0,288.47756500163121,"Tangential",0.5,"RED",5.7517573461723259E-2,14]
[null,null,null,null,5,7,1,289.41926327503467,"Oblique",0.25,"RED",0.94169827340346046,14]
[null,null,null,null,7,6,1,290.31289053735111,"Oblique",0.25,"RED",0.89362726231644274,14]
[null,null,null,null,5,1,5,290.50106654604804,"Oblique",0.25,"RED",0.18817600869692797,14]
[null,null,null,null,4,7,2,291.71534404003177,"Oblique",0.25,"OK",1.2142774939837295,14]
[null,null,null,null,0,8,1,291.72543680685777,"Tangential",0.5,"RED",1.0092766826005573E-2,14]
[null,null,null,null,2,8,0,292.19646980880452,"Tangential",0.5,"RED",0.47103300194675057,14]
[null,null,null,null,4,5,4,292.25249665872468,"Oblique",0.25,"RED",5.6026849920158384E-2,14]
[null,null,null,null,0,4,5,292.79871958374326,"Tangential",0.5,"RED",0.54622292501858283,14]
[null,null,null,null,1,8,1,292.95657408559896,"Oblique",0.25,"RED",0.15785450185569516,14]
[null,null,null,null,1,4,5,294.02536286806719,"Oblique",0.25,"OK",1.0687887824682321,14]
[null,null,null,null,0,7,3,294.28201573455374,"Tangential",0.5,"RED",0.25665286648654728,14]
[null,null,null,null,9,2,3,294.78837515621672,"Oblique",0.25,"RED",0.50635942166297809,14]
[null,null,null,null,1,7,3,295.50250185846346,"Oblique",0.25,"RED",0.71412670224674457,14]
[null,null,null,null,8,0,4,296.20382360738006,"Tangential",0.5,"RED",0.70132174891659815,14]
[null,null,null,null,5,6,3,296.37778773399901,"Oblique",0.25,"RED",0.17396412661895511,14]
[null,null,null,null,2,8,1,296.6193280274033,"Oblique",0.25,"RED",0.24154029340428451,14]
[null,null,null,null,0,6,4,296.77253764714658,"Tangential",0.5,"RED",0.15320961974327929,14]
[null,null,null,null,6,4,4,296.99580567250518,"Oblique",0.25,"RED",0.22326802535860679,14]
[null,null,null,null,4,3,5,297.02675047409639,"Oblique",0.25,"RED",3.0944801591203941E-2,14]
[null,null,null,null,5,2,5,297.08253544862657,"Oblique",0.25,"RED",5.5784974530183717E-2,14]
[null,null,null,null,7,3,4,297.55812446465779,"Oblique",0.25,"RED",0.47558901603122195,14]
[null,null,null,null,2,4,5,297.67496614454473,"Oblique",0.25,"RED",0.11684167988693162,14]
[null,null,null,null,8,5,2,297.84573132104111,"Oblique",0.25,"RED",0.17076517649638845,14]
[null,null,null,null,1,6,4,297.98282319849602,"Oblique",0.25,"RED",0.13709187745490681,14]
[null,null,null,null,3,8,0,298.29162922855045,"Tangential",0.5,"RED",0.30880603005442708,14]
[null,null,null,null,8,1,4,298.37184773538803,"Oblique",0.25,"RED",8.0218506837582026E-2,14]
[null,null,null,null,6,7,0,298.45824361537251,"Tangential",0.5,"RED",8.6395879984479507E-2,14]
[null,null,null,null,9,4,2,298.91068062301008,"Oblique",0.25,"RED",0.45243700763757033,14]
[null,null,null,null,2,7,3,299.13408375520908,"Oblique",0.25,"RED",0.22340313219899599,14]
[null,null,null,null,8,4,3,300.21964294011491,"Oblique",0.25,"OK",1.0855591849058328,14]
[null,null,null,null,9,5,0,300.88550885725215,"Tangential",0.5,"RED",0.66586591713723919,14]
[null,null,null,null,7,5,3,301.5559091153462,"Oblique",0.25,"RED",0.67040025809404824,14]
[null,null,null,null,2,6,4,301.58453935970147,"Oblique",0.25,"RED",2.8630244355269951E-2,14]
[null,null,null,null,6,0,5,301.69500705348713,"Tangential",0.5,"RED",0.11046769378566523,14]
[null,null,null,null,5,7,2,302.6156908138866,"Oblique",0.25,"RED",0.92068376039946997,14]
[null,null,null,null,3,8,1,302.62542004683559,"Oblique",0.25,"RED",9.7292329489846452E-3,14]
[null,null,null,null,6,7,1,302.78964971193074,"Oblique",0.25,"RED",0.16422966509514936,14]
[null,null,null,null,5,5,4,303.13352863322399,"Oblique",0.25,"RED",0.34387892129325337,14]
[null,null,null,null,7,6,2,303.47046113955474,"Oblique",0.25,"RED",0.33693250633075422,14]
[null,null,null,null,3,4,5,303.66017942471689,"Oblique",0.25,"RED",0.18971828516214373,14]
[null,null,null,null,6,1,5,303.82384975903608,"Oblique",0.25,"RED",0.16367033431919253,14]
[null,null,null,null,8,6,0,304.09650264141078,"Tangential",0.5,"RED",0.27265288237470031,14]
[null,null,null,null,8,2,4,304.78340296876837,"Oblique",0.25,"RED",0.68690032735759132,14]
[null,null,null,null,0,8,2,304.82204128352322,"Tangential",0.5,"RED",3.8638314754848579E-2,14]
[null,null,null,null,3,7,3,305.09067367450592,"Oblique",0.25,"RED",0.26863239098270242,14]
[null,null,null,null,9,5,1,305.18246710941344,"Oblique",0.25,"RED",9.1793434907515348E-2,14]
[null,null,null,null,9,3,3,305.52488954949439,"Oblique",0.25,"RED",0.34242244008095213,14]
[null,null,null,null,1,8,2,306.00049129384257,"Oblique",0.25,"RED",0.47560174434818236,14]
[null,null,null,null,0,0,6,306.1910456973294,"Axial",1,"RED",0.19055440348682851,14]
[null,null,null,null,4,8,0,306.62136717221222,"Tangential",0.5,"RED",0.4303214748828168,14]
[null,null,null,null,1,0,6,307.36424692056028,"Tangential",0.5,"RED",0.74287974834805937,14]
[null,null,null,null,3,6,4,307.49366412968374,"Oblique",0.25,"RED",0.12941720912346,14]
[null,null,null,null,5,3,5,{"$f":"$D$5*SQRT((($E387/$D$2)^2)+(($F387/$D$3)^2)+(($G387/$D$4)^2))","v":307.73902072303542},{"$f":"+IF(+AND(E387=0,F387=0)+OR(+AND(E387=0,G387=0))+OR(+AND(F387=0,G387=0)),\"Axial\",(+IF(+OR(E387=0,F387=0,G387=0),\"Tangential\",\"Oblique\")))","v":"Oblique"},0.25,"RED",0.24535659335168702,14]
[null,null,null,null,0,1,6,308.28884324059101,"Tangential",{"$f":"IF(I388=\"Axial\",1,IF(I388=\"Tangential\",0.5,IF(I388=\"Oblique\",0.25,\"\")))","v":0.5},"RED",0.54982251755558309,{"$f":"IF(H388<17.8,1,IF(H388<=22.4,2,IF(H388<=28.2,3,IF(H388<=35.5,4,IF(H388<=44.7,5,IF(H388<=56.2,6,IF(H388<=70.8,7,IF(H388<=89.1,8,IF(H388<=112,9,IF(H388<=141,10,IF(H388<=178,11,IF(H388<=224,12,IF(H388<=282,13,IF(H388<=355,14,IF(H388<=447,15,IF(H388<=562,16,IF(H388<=708,17,IF(H388<=891,18,IF(H388<=1122,19,IF(H388<=1413,20,IF(H388<=1778,21,IF(H388<=2239,22,IF(H388<=2818,23,IF(H388<=3548,24,IF(H388<=4467,25,IF(H388<=5623,26,IF(H388<=7079,27,IF(H388<=8913,28,IF(H388<=11220,29,IF(H388<=14130,30,IF(H388<=17780,31,IF(H388<=22390,32,))))))))))))))))))))))))))))))))","v":14}]
[null,null,null,null,8,6,1,308.34871770357375,"Oblique",0.25,{"$f":"IF((H389-H388)<1,\"RED\",\"OK\")","v":"RED"},{"$f":"H389-H388","v":5.98744629827479E-2},14]
[null,null,null,null,6,6,3,309.44766129364962,"Oblique",0.25,"OK",1.0989435900758622,14]
[null,null,null,null,1,1,6,309.45409140362131,"Oblique",0.25,"RED",6.4301099716885801E-3,14]
[null,null,null,null,2,8,2,309.50892092398607,"Oblique",0.25,"RED",5.4829520364762629E-2,14]
[null,null,null,null,6,2,5,310.12270940160823,"Oblique",0.25,"RED",0.61378847762216537,14]
[null,null,null,null,4,8,1,310.83904451863384,"Oblique",0.25,"RED",0.71633511702560781,14]
[null,null,null,null,2,0,6,310.85728517199072,"Tangential",0.5,"RED",1.824065335688374E-2,14]
[null,null,null,null,4,4,5,311.84655089800953,"Oblique",0.25,"RED",0.98926572601880025,14]
[null,null,null,null,0,5,5,311.98169786456805,"Tangential",0.5,"RED",0.13514696655852276,14]
[null,null,null,null,7,4,4,312.35271448269583,"Oblique",0.25,"RED",0.37101661812778275,14]
[null,null,null,null,2,1,6,312.923802459797,"Oblique",0.25,"RED",0.57108797710117187,14]
[null,null,null,null,1,5,5,313.13320427938919,"Oblique",0.25,"RED",0.20940181959218762,14]
[null,null,null,null,4,7,3,313.23966208304051,"Oblique",0.25,"RED",0.10645780365132396,14]
[null,null,null,null,7,7,0,313.74357816475083,"Tangential",0.5,"RED",0.50391608171031521,14]
[null,null,null,null,0,2,6,314.49828945610301,"Tangential",0.5,"RED",0.75471129135218007,14]
[null,null,null,null,8,3,4,315.17962296476435,"Oblique",0.25,"RED",0.68133350866133924,14]
[null,null,null,null,3,8,2,315.26955328833401,"Oblique",0.25,"RED",8.9930323569660686E-2,14]
[null,null,null,null,6,7,2,315.42719975419959,"Oblique",0.25,"RED",0.15764646586558229,14]
[null,null,null,null,4,6,4,315.5806081156324,"Oblique",0.25,"RED",0.15340836143280967,14]
[null,null,null,null,1,2,6,315.64061508404433,"Oblique",0.25,"RED",6.0006968411926209E-2,14]
[null,null,null,null,6,5,4,315.9240386542935,"Oblique",0.25,"RED",0.28342357024916964,14]
[null,null,null,null,9,0,4,316.18619523400503,"Tangential",0.5,"RED",0.2621565797115295,14]
[null,null,null,null,2,5,5,316.56259267597449,"Oblique",0.25,"RED",0.37639744196945912,14]
[null,null,null,null,3,0,6,316.59338408058335,"Tangential",0.5,"RED",3.0791404608862649E-2,14]
[null,null,null,null,7,0,5,316.82422088383919,"Tangential",0.5,"RED",0.23083680325584055,14]
[null,null,null,null,5,8,0,317.00958532026806,"Tangential",0.5,"RED",0.18536443642886979,14]
[null,null,null,null,9,5,2,317.72485675988622,"Oblique",0.25,"RED",0.71527143961816364,14]
[null,null,null,null,7,7,1,317.86676710584544,"Oblique",0.25,"RED",0.14191034595921792,14]
[null,null,null,null,9,1,4,318.21810831244977,"Oblique",0.25,"RED",0.35134120660433155,14]
[null,null,null,null,3,1,6,318.62270045461838,"Oblique",0.25,"RED",0.40459214216861028,14]
[null,null,null,null,7,1,5,318.85206811317596,"Oblique",0.25,"RED",0.22936765855757812,14]
[null,null,null,null,8,5,3,318.95661714356885,"Oblique",0.25,"RED",0.10454903039288865,14]
[null,null,null,null,2,2,6,319.04305250246568,"Oblique",0.25,"RED",8.6435358896835623E-2,14]
[null,null,null,null,9,4,3,319.95130714534429,"Oblique",0.25,"RED",0.90825464287860314,14]
[null,null,null,null,6,3,5,320.34569904024426,"Oblique",0.25,"RED",0.39439189489996807,14]
[null,null,null,null,8,6,2,320.76732701685853,"Oblique",0.25,"RED",0.42162797661427476,14]
[null,null,null,null,5,8,1,321.09083757657896,"Oblique",0.25,"RED",0.32351055972043241,14]
[null,null,null,null,5,4,5,322.06627529959815,"Oblique",0.25,"RED",0.97543772301918352,14]
[null,null,null,null,3,5,5,322.19713558756285,"Oblique",0.25,"RED",0.13086028796470828,14]
[null,null,null,null,0,9,0,323.13063382045931,"Axial",1,"RED",0.93349823289645428,14]
[null,null,null,null,4,8,2,323.16196863083877,"Oblique",0.25,"RED",3.1334810379462397E-2,14]
[null,null,null,null,5,7,3,323.41536803353853,"Oblique",0.25,"RED",0.25339940269975614,14]
[null,null,null,null,9,6,0,323.59185381536099,"Tangential",0.5,"RED",0.17648578182246411,14]
[null,null,null,null,0,7,4,323.77715533943535,"Tangential",0.5,"RED",0.18530152407436162,14]
[null,null,null,null,7,6,3,324.21530614355225,"Oblique",0.25,"RED",0.43815080411690133,14]
[null,null,null,null,9,2,4,324.23745567430518,"Oblique",0.25,"RED",2.2149530752926694E-2,14]
[null,null,null,null,1,9,0,324.24254861604891,"Tangential",0.5,"RED",5.0929417437259872E-3,14]
[null,null,null,null,4,0,6,324.45359850420732,"Tangential",0.5,"RED",0.21104988815841352,14]
[null,null,null,null,0,3,6,324.58349631150861,"Tangential",0.5,"RED",0.12989780730129041,14]
[null,null,null,null,3,2,6,324.63454598854156,"Oblique",0.25,"RED",5.1049677032949603E-2,14]
[null,null,null,null,7,2,5,324.8596690022361,"Oblique",0.25,"RED",0.22512301369454235,14]
[null,null,null,null,1,7,4,324.88685744350425,"Oblique",0.25,"RED",2.7188441268151564E-2,14]
[null,null,null,null,0,8,3,325.48075335687253,"Tangential",0.5,"RED",0.59389591336827152,14]
[null,null,null,null,5,6,4,325.68318132351266,"Oblique",0.25,"RED",0.20242796664012985,14]
[null,null,null,null,1,3,6,325.69045103843956,"Oblique",0.25,"RED",7.2697149269060901E-3,14]
[null,null,null,null,4,1,6,326.43405457109867,"Oblique",0.25,"RED",0.74360353265910817,14]
[null,null,null,null,1,8,3,326.58466685620186,"Oblique",0.25,"RED",0.15061228510319324,14]
[null,null,null,null,0,9,1,327.13553048226419,"Tangential",0.5,"RED",0.55086362606232342,14]
[null,null,null,null,2,9,0,327.5556468639918,"Tangential",0.5,"RED",0.42011638172760968,14]
[null,null,null,null,9,6,1,327.5911119770538,"Oblique",0.25,"RED",3.5465113062002729E-2,14]
[null,null,null,null,2,7,4,328.19345148703553,"Oblique",0.25,"RED",0.60233950998173214,14]
[null,null,null,null,1,9,1,328.23387869586452,"Oblique",0.25,"RED",4.0427208828987204E-2,14]
[null,null,null,null,2,3,6,{"$f":"$D$5*SQRT((($E451/$D$2)^2)+(($F451/$D$3)^2)+(($G451/$D$4)^2))","v":328.98896844283314},{"$f":"+IF(+AND(E451=0,F451=0)+OR(+AND(E451=0,G451=0))+OR(+AND(F451=0,G451=0)),\"Axial\",(+IF(+OR(E451=0,F451=0,G451=0),\"Tangential\",\"Oblique\")))","v":"Oblique"},0.25,"RED",0.75508974696862197,14]
[null,null,null,null,8,4,4,329.18319450116945,"Oblique",{"$f":"IF(I452=\"Axial\",1,IF(I452=\"Tangential\",0.5,IF(I452=\"Oblique\",0.25,\"\")))","v":0.25},"RED",0.19422605833631224,{"$f":"IF(H452<17.8,1,IF(H452<=22.4,2,IF(H452<=28.2,3,IF(H452<=35.5,4,IF(H452<=44.7,5,IF(H452<=56.2,6,IF(H452<=70.8,7,IF(H452<=89.1,8,IF(H452<=112,9,IF(H452<=141,10,IF(H452<=178,11,IF(H452<=224,12,IF(H452<=282,13,IF(H452<=355,14,IF(H452<=447,15,IF(H452<=562,16,IF(H452<=708,17,IF(H452<=891,18,IF(H452<=1122,19,IF(H452<=1413,20,IF(H452<=1778,21,IF(H452<=2239,22,IF(H452<=2818,23,IF(H452<=3548,24,IF(H452<=4467,25,IF(H452<=5623,26,IF(H452<=7079,27,IF(H452<=8913,28,IF(H452<=11220,29,IF(H452<=14130,30,IF(H452<=17780,31,IF(H452<=22390,32,))))))))))))))))))))))))))))))))","v":14}]
[null,null,null,null,6,8,0,329.2615058019054,"Tangential",0.5,{"$f":"IF((H453-H452)<1,\"RED\",\"OK\")","v":"RED"},{"$f":"H453-H452","v":7.8311300735947498E-2},14]
[null,null,null,null,2,8,3,329.87424283358894,"Oblique",0.25,"RED",0.61273703168353677,14]
[null,null,null,null,4,5,5,329.92387140000028,"Oblique",0.25,"RED",4.9628566411342945E-2,14]
[null,null,null,null,7,7,2,329.92730714874722,"Oblique",0.25,"RED",3.4357487469378611E-3,14]
[null,null,null,null,7,5,4,330.40234239073976,"Oblique",0.25,"RED",0.47503524199254343,14]
[null,null,null,null,8,7,0,330.50323771017338,"Tangential",0.5,"RED",0.10089531943361862,14]
[null,null,null,null,2,9,1,331.50708979324821,"Oblique",0.25,"OK",1.0038520830748325,14]
[null,null,null,null,4,2,6,332.30461204732029,"Oblique",0.25,"RED",0.79752225407207789,14]
[null,null,null,null,3,9,0,333.0042355460115,"Tangential",0.5,"RED",0.69962349869120999,14]
[null,null,null,null,5,8,2,333.03464136292337,"Oblique",0.25,"RED",3.0405816911866168E-2,14]
[null,null,null,null,6,8,1,333.19271899853823,"Oblique",0.25,"RED",0.15807763561485899,14]
[null,null,null,null,8,0,5,333.42906927251852,"Tangential",0.5,"RED",0.23635027398029251,14]
[null,null,null,null,3,7,4,333.63162424756524,"Oblique",0.25,"RED",0.20255497504672348,14]
[null,null,null,null,0,6,5,333.93439208598005,"Tangential",0.5,"RED",0.30276783841480892,14]
[null,null,null,null,9,3,4,334.02874078308798,"Oblique",0.25,"RED",9.4348697107932367E-2,14]
[null,null,null,null,6,4,5,334.1328294307018,"Oblique",0.25,"RED",0.10408864761382119,14]
[null,null,null,null,5,0,6,334.28812716083877,"Tangential",0.5,"RED",0.15529773013696513,14]
[null,null,null,null,3,3,6,334.41420492582978,"Oblique",0.25,"RED",0.12607776499100964,14]
[null,null,null,null,8,7,1,334.41985426647148,"Oblique",0.25,"RED",5.6493406416961989E-3,14]
[null,null,null,null,7,3,5,334.63274877278639,"Oblique",0.25,"RED",0.21289450631491036,14]
[null,null,null,null,1,6,5,335.01045063945708,"Oblique",0.25,"RED",0.37770186667069083,14]
[null,null,null,null,3,8,3,335.28515503095127,"Oblique",0.25,"RED",0.2747043914941969,14]
[null,null,null,null,8,1,5,335.35652466790566,"Oblique",0.25,"RED",7.1369636954386806E-2,14]
[null,null,null,null,6,7,3,335.43339472729764,"Oblique",0.25,"RED",7.6870059391978884E-2,14]
[null,null,null,null,5,1,6,336.21065771640673,"Oblique",0.25,"RED",0.77726298910909009,14]
[null,null,null,null,3,9,1,336.89177740378909,"Oblique",0.25,"RED",0.68111968738236328,14]
[null,null,null,null,9,5,3,337.59491784769739,"Oblique",0.25,"RED",0.70314044390829622,14]
[null,null,null,null,6,6,4,337.62049199510085,"Oblique",0.25,"RED",2.5574147403460756E-2,14]
[null,null,null,null,0,4,6,338.19791082676261,"Tangential",0.5,"RED",0.57741883166175967,14]
[null,null,null,null,2,6,5,338.21808570375021,"Oblique",0.25,"RED",2.0174876987596235E-2,14]
[null,null,null,null,0,9,2,338.86634780694055,"Tangential",0.5,"RED",0.64826210319034772,14]
[null,null,null,null,1,4,6,339.26044671816067,"Oblique",0.25,"RED",0.39409891122011231,14]
[null,null,null,null,9,6,2,339.30617886867992,"Oblique",0.25,"RED",4.573215051925672E-2,14]
[null,null,null,null,5,5,5,339.60002252346163,"Oblique",0.25,"RED",0.29384365478171048,14]
[null,null,null,null,1,9,2,339.92679431876724,"Oblique",0.25,"RED",0.32677179530560352,14]
[null,null,null,null,8,6,3,340.45986846476274,"Oblique",0.25,"RED",0.53307414599549929,14]
[null,null,null,null,4,9,0,340.485811202636,"Tangential",0.5,"RED",2.5942737873265287E-2,14]
[null,null,null,null,8,2,5,341.07354315679288,"Oblique",0.25,"RED",0.58773195415687951,14]
[null,null,null,null,4,7,4,341.0994392208849,"Oblique",0.25,"RED",2.5896064092023607E-2,14]
[null,null,null,null,4,3,6,341.86492536513373,"Oblique",0.25,"RED",0.76548614424882544,14]
[null,null,null,null,5,2,6,341.9133948330948,"Oblique",0.25,"RED",4.8469467961069768E-2,14]
[null,null,null,null,2,4,6,342.42827302496971,"Oblique",0.25,"RED",0.51487819187491368,14]
[null,null,null,null,4,8,3,342.71694140042536,"Oblique",0.25,"RED",0.28866837545564294,14]
[null,null,null,null,2,9,2,343.08846811761356,"Oblique",0.25,"RED",0.37152671718820329,14]
[null,null,null,null,7,8,0,343.17757627879223,"Tangential",0.5,"RED",8.9108161178671708E-2,14]
[null,null,null,null,3,6,5,343.4975874678085,"Oblique",0.25,"RED",0.32001118901627024,14]
[null,null,null,null,4,9,1,344.28888512558422,"Oblique",0.25,"RED",0.79129765777571492,14]
[null,null,null,null,6,8,2,344.71747035179527,"Oblique",0.25,"RED",0.42858522621105521,14]
[null,null,null,null,8,7,2,345.9037225872396,"Oblique",0.25,"OK",1.1862522354443286,14]
[null,null,null,null,6,0,6,345.92862555549084,"Tangential",0.5,"RED",2.4902968251240054E-2,14]
[null,null,null,null,8,5,4,346.35684655362854,"Oblique",0.25,"RED",0.42822099813770365,14]
[null,null,null,null,7,8,1,346.95114591435919,"Oblique",0.25,"RED",0.59429936073064482,14]
[null,null,null,null,9,4,4,347.27306327862397,"Oblique",0.25,"RED",0.32191736426477746,14]
[null,null,null,null,3,4,6,347.64384255435709,"Oblique",0.25,"RED",0.37077927573312763,14]
[null,null,null,null,6,1,6,347.78681455758016,"Oblique",0.25,"RED",0.1429720032230648,14]
[null,null,null,null,7,4,5,347.85407480869691,"Oblique",0.25,"RED",6.7260251116749714E-2,14]
[null,null,null,null,3,9,2,348.29415162242702,"Oblique",0.25,"RED",0.44007681373011565,14]
[null,null,null,null,9,7,0,348.52459751620364,"Tangential",0.5,"RED",0.2304458937766185,14]
[null,null,null,null,7,7,3,349.10352612932331,"Oblique",0.25,"RED",0.57892861311967181,14]
[null,null,null,null,5,9,0,349.86997871879316,"Tangential",0.5,"RED",0.76645258946984995,14]
[null,null,null,null,8,3,5,350.39468296268001,"Oblique",0.25,"RED",0.52470424388684478,14]
[null,null,null,null,5,7,4,350.46717651610948,"Oblique",0.25,"RED",7.2493553429467283E-2,14]
[null,null,null,null,4,6,5,{"$f":"$D$5*SQRT((($E515/$D$2)^2)+(($F515/$D$3)^2)+(($G515/$D$4)^2))","v":350.75541241004157},{"$f":"+IF(+AND(E515=0,F515=0)+OR(+AND(E515=0,G515=0))+OR(+AND(F515=0,G515=0)),\"Axial\",(+IF(+OR(E515=0,F515=0,G515=0),\"Tangential\",\"Oblique\")))","v":"Oblique"},0.25,"RED",0.28823589393209659,14]
[null,null,null,null,6,5,5,351.0644347067153,"Oblique",{"$f":"IF(I516=\"Axial\",1,IF(I516=\"Tangential\",0.5,IF(I516=\"Oblique\",0.25,\"\")))","v":0.25},"RED",0.30902229667373149,{"$f":"IF(H516<17.8,1,IF(H516<=22.4,2,IF(H516<=28.2,3,IF(H516<=35.5,4,IF(H516<=44.7,5,IF(H516<=56.2,6,IF(H516<=70.8,7,IF(H516<=89.1,8,IF(H516<=112,9,IF(H516<=141,10,IF(H516<=178,11,IF(H516<=224,12,IF(H516<=282,13,IF(H516<=355,14,IF(H516<=447,15,IF(H516<=562,16,IF(H516<=708,17,IF(H516<=891,18,IF(H516<=1122,19,IF(H516<=1413,20,IF(H516<=1778,21,IF(H516<=2239,22,IF(H516<=2818,23,IF(H516<=3548,24,IF(H516<=4467,25,IF(H516<=5623,26,IF(H516<=7079,27,IF(H516<=8913,28,IF(H516<=11220,29,IF(H516<=14130,30,IF(H516<=17780,31,IF(H516<=22390,32,))))))))))))))))))))))))))))))))","v":14}]
[null,null,null,null,7,6,4,351.20550433138436,"Oblique",0.25,{"$f":"IF((H517-H516)<1,\"RED\",\"OK\")","v":"RED"},{"$f":"H517-H516","v":0.1410696246690577},14]
[null,null,null,null,5,3,6,351.212245762132,"Oblique",0.25,"RED",6.7414307476383328E-3,14]
[null,null,null,null,9,0,5,351.30036887663857,"Tangential",0.5,"RED",8.812311450657262E-2,14]
[null,null,null,null,5,8,3,352.04164001043159,"Oblique",0.25,"RED",0.74127113379302045,14]
[null,null,null,null,9,7,1,352.24088897306115,"Oblique",0.25,"RED",0.19924896262955372,14]
[null,null,null,null,0,8,4,352.37403755194845,"Tangential",0.5,"RED",0.13314857888730103,14]
[null,null,null,null,9,1,5,353.13029263185564,"Oblique",0.25,"RED",0.75625507990719143,14]
[null,null,null,null,6,2,6,353.30274777349484,"Oblique",0.25,"RED",0.17245514163920461,14]
[null,null,null,null,1,8,4,353.39395320305215,"Oblique",0.25,"RED",9.1205429557305706E-2,14]
[null,null,null,null,5,9,1,353.57212955688334,"Oblique",0.25,"RED",0.17817635383119068,14]
[null,null,null,null,4,4,6,354.81686544567208,"Oblique",0.25,"OK",1.244735888788739,14]
[null,null,null,null,0,5,6,354.93565121042144,"Tangential",0.5,"RED",0.11878576474936153,14]
[null,null,null,null,4,9,2,355.45405159193177,"Oblique",0.25,"RED",0.51840038151033241,15]
[null,null,null,null,1,5,6,355.94822702183114,"Oblique",0.25,"RED",0.49417542989937147,15]
[null,null,null,null,2,8,4,356.43619010972822,"Oblique",0.25,"RED",0.48796308789707155,15]
[null,null,null,null,0,0,7,357.22288664688426,"Axial",1,"RED",0.78669653715604682,15]
[null,null,null,null,0,9,3,357.56348475413114,"Tangential",0.5,"RED",0.34059810724687622,15]
[null,null,null,null,9,6,3,357.98034439333117,"Oblique",0.25,"RED",0.41685963920002678,15]
[null,null,null,null,7,8,2,358.03330015989985,"Oblique",0.25,"RED",5.2955766568686613E-2,15]
[null,null,null,null,0,7,5,358.14785415523966,"Tangential",0.5,"RED",0.11455399533980426,15]
[null,null,null,null,1,0,7,358.22899738037933,"Tangential",0.5,"RED",8.1143225139669539E-2,15]
[null,null,null,null,9,2,5,358.56403441847459,"Oblique",0.25,"RED",0.33503703809526542,15]
[null,null,null,null,8,8,0,358.56408933114386,"Tangential",0.5,"RED",5.4912669270379411E-5,15]
[null,null,null,null,1,9,3,358.56863980183323,"Oblique",0.25,"RED",4.550470689366648E-3,15]
[null,null,null,null,2,5,6,358.96881728005604,"Oblique",0.25,"RED",0.40017747822281535,15]
[null,null,null,null,0,1,7,359.02262483822722,"Tangential",0.5,"RED",5.3807558171172332E-2,15]
[null,null,null,null,1,7,5,359.15137373511726,"Oblique",0.25,"RED",0.12874889689004476,15]
[null,null,null,null,7,0,6,359.19955962717864,"Tangential",0.5,"RED",4.8185892061383129E-2,15]
[null,null,null,null,5,6,5,359.87188513873946,"Oblique",0.25,"RED",0.67232551156081399,15]
[null,null,null,null,1,1,7,360.02370611606887,"Oblique",0.25,"RED",0.15182097732940747,15]
[null,null,null,null,7,1,6,360.98944311123108,"Oblique",0.25,"RED",0.96573699516221723,15]
[null,null,null,null,6,9,0,361.00839883124422,"Tangential",0.5,"RED",1.8955720013138944E-2,15]
[null,null,null,null,2,0,7,361.23051646228487,"Tangential",0.5,"RED",0.2221176310406463,15]
[null,null,null,null,3,8,4,361.44968767317215,"Oblique",0.25,"RED",0.21917121088728209,15]
[null,null,null,null,2,9,3,361.56733938340466,"Oblique",0.25,"RED",0.11765171023250787,15]
[null,null,null,null,6,7,4,361.58720087025171,"Oblique",0.25,"RED",1.9861486847048582E-2,15]
[null,null,null,null,2,7,5,362.14524809153465,"Oblique",0.25,"RED",0.5580472212829477,15]
[null,null,null,null,8,8,1,362.17738050377079,"Oblique",0.25,"RED",3.2132412236137498E-2,15]
[null,null,null,null,6,3,6,362.30940312292489,"Oblique",0.25,"RED",0.13202261915409963,15]
[null,null,null,null,2,1,7,363.01038611175676,"Oblique",0.25,"RED",0.70098298883186771,15]
[null,null,null,null,8,4,5,363.04244195176511,"Oblique",0.25,"RED",3.2055840008354153E-2,15]
[null,null,null,null,6,8,3,363.11345103045164,"Oblique",0.25,"RED",7.1009078686529392E-2,15]
[null,null,null,null,9,7,2,363.16165854428306,"Oblique",0.25,null,4.8207513831414417E-2,15]
[null,null,null,null,9,5,4,363.59327564120076,"Oblique",0.25,null,0.43161709691770511,15]
[null,null,null,null,5,4,6,363.83158519164317,"Oblique",0.25,null,0.23830955044240909,15]
[null,null,null,null,3,5,6,363.94742872911974,"Oblique",0.25,null,0.11584353747656451,15]
[null,null,null,null,7,5,5,364.14824862079678,"Oblique",0.25,null,0.20081989167704251,15]
[null,null,null,null,8,7,3,364.23979636115183,"Oblique",0.25,null,9.1547740355053975E-2,15]
[null,null,null,null,0,2,7,364.36850625420891,"Tangential",0.5,null,0.12870989305707781,15]
[null,null,null,null,5,9,2,364.45301092389326,"Oblique",0.25,null,8.4504669684349665E-2,15]
[null,null,null,null,6,9,1,364.59746682800659,"Oblique",0.25,null,0.14445590411332887,15]
[null,null,null,null,1,2,7,365.35493998267293,"Oblique",0.25,null,0.75747315466634291,15]
[null,null,null,null,3,0,7,366.17837883018774,"Tangential",0.5,null,0.823438847514808,15]
[null,null,null,null,8,6,4,366.25491610345415,"Oblique",0.25,null,7.6537273266410466E-2,15]
[null,null,null,null,7,2,6,366.30662189202883,"Oblique",0.25,null,5.1705788574679445E-2,15]
[null,null,null,null,3,9,3,366.51065469899987,"Oblique",0.25,null,0.20403280697104265,15]
[null,null,null,null,3,7,5,367.08078104740724,"Oblique",0.25,null,0.57012634840737064,15]
[null,null,null,null,9,3,5,367.44174883298365,"Oblique",0.25,null,0.36096778557640619,15]
[null,null,null,null,3,1,7,367.93431414330212,"Oblique",0.25,null,0.49256531031846862,15]
[null,null,null,null,2,2,7,368.29838939262248,"Oblique",0.25,null,0.36407524932036495,15]
[null,null,null,null,4,8,4,368.35396490029433,"Oblique",0.25,null,5.5575507671846935E-2,15]
[null,null,null,null,6,6,5,370.70990778683,"Oblique",0.25,null,2.3559428865356722,15]
[null,null,null,null,4,5,6,{"$f":"$D$5*SQRT((($E579/$D$2)^2)+(($F579/$D$3)^2)+(($G579/$D$4)^2))","v":370.80520171280125},{"$f":"+IF(+AND(E579=0,F579=0)+OR(+AND(E579=0,G579=0))+OR(+AND(F579=0,G579=0)),\"Axial\",(+IF(+OR(E579=0,F579=0,G579=0),\"Tangential\",\"Oblique\")))","v":"Oblique"},0.25,null,9.5293925971247972E-2,15]
[null,null,null,null,8,8,2,372.80719054314812,"Oblique",{"$f":"IF(I580=\"Axial\",1,IF(I580=\"Tangential\",0.5,IF(I580=\"Oblique\",0.25,\"\")))","v":0.25},null,2.0019888303468747,{"$f":"IF(H580<17.8,1,IF(H580<=22.4,2,IF(H580<=28.2,3,IF(H580<=35.5,4,IF(H580<=44.7,5,IF(H580<=56.2,6,IF(H580<=70.8,7,IF(H580<=89.1,8,IF(H580<=112,9,IF(H580<=141,10,IF(H580<=178,11,IF(H580<=224,12,IF(H580<=282,13,IF(H580<=355,14,IF(H580<=447,15,IF(H580<=562,16,IF(H580<=708,17,IF(H580<=891,18,IF(H580<=1122,19,IF(H580<=1413,20,IF(H580<=1778,21,IF(H580<=2239,22,IF(H580<=2818,23,IF(H580<=3548,24,IF(H580<=4467,25,IF(H580<=5623,26,IF(H580<=7079,27,IF(H580<=8913,28,IF(H580<=11220,29,IF(H580<=14130,30,IF(H580<=17780,31,IF(H580<=22390,32,))))))))))))))))))))))))))))))))","v":15}]
[null,null,null,null,4,0,7,372.99513651177551,"Tangential",0.5,null,{"$f":"H581-H580","v":0.18794596862738899},15]
[null,null,null,null,0,3,7,373.10813493799867,"Tangential",0.5,null,0.11299842622315737,15]
[null,null,null,null,3,2,7,373.15254619028821,"Oblique",0.25,null,4.4411252289535241E-2,15]
[null,null,null,null,4,9,3,373.32134515270224,"Oblique",0.25,null,0.16879896241403003,15]
[null,null,null,null,7,9,0,373.74426240993552,"Tangential",0.5,null,0.42291725723328,15]
[null,null,null,null,4,7,5,373.88108611309576,"Oblique",0.25,null,0.13682370316024617,15]
[null,null,null,null,8,0,6,373.92737387579058,"Tangential",0.5,null,4.6287762694817047E-2,15]
[null,null,null,null,1,3,7,374.07152280911589,"Oblique",0.25,null,0.14414893332531165,15]
[null,null,null,null,7,7,4,374.30337093169737,"Oblique",0.25,null,0.23184812258148213,15]
[null,null,null,null,0,6,6,374.37803743748157,"Tangential",0.5,null,7.466650578419376E-2,15]
[null,null,null,null,6,4,6,374.55504855905201,"Oblique",0.25,null,0.17701112157044463,15]
[null,null,null,null,4,1,7,374.71912983304674,"Oblique",0.25,null,0.16408127399472505,15]
[null,null,null,null,7,3,6,375.00108433034984,"Oblique",0.25,null,0.28195449730310429,15]
[null,null,null,null,6,9,2,375.15871200000322,"Oblique",0.25,null,0.1576276696533796,15]
[null,null,null,null,9,8,0,375.240204528775,"Tangential",0.5,null,8.1492528771775596E-2,15]
[null,null,null,null,1,6,6,375.33816583896646,"Oblique",0.25,null,9.7961310191465145E-2,15]
[null,null,null,null,8,1,6,375.64708881481164,"Oblique",0.25,null,0.30892297584517792,15]
[null,null,null,null,7,8,3,375.77797697163192,"Oblique",0.25,null,0.13088815682027644,15]
[null,null,null,null,2,3,7,376.94691355174689,"Oblique",0.25,null,1.1689365801149734,15]
[null,null,null,null,5,8,4,377.04516683832321,"Oblique",0.25,null,9.8253286576323262E-2,15]
[null,null,null,null,7,9,1,377.2121716952509,"Oblique",0.25,null,0.16700485692769007,15]
[null,null,null,null,2,6,6,378.20392673109131,"Oblique",0.25,null,0.9917550358404128,15]
[null,null,null,null,8,5,5,378.68364669058508,"Oblique",0.25,null,0.47971995949376378,15]
[null,null,null,null,9,8,1,378.69441491194129,"Oblique",0.25,null,1.076822135621569E-2,15]
[null,null,null,null,5,5,6,379.44026143207702,"Oblique",0.25,null,0.7458465201357285,15]
[null,null,null,null,9,4,5,379.52183019587312,"Oblique",0.25,null,8.156876379609912E-2,15]
[null,null,null,null,4,2,7,379.8441647136741,"Oblique",0.25,null,0.32233451780098221,15]
[null,null,null,null,9,7,3,380.66735372256153,"Oblique",0.25,null,0.82318900888742519,15]
[null,null,null,null,8,2,6,380.75963354751252,"Oblique",0.25,null,9.2279824950992406E-2,15]
[null,null,null,null,5,0,7,381.58064185675062,"Tangential",0.5,null,0.82100830923809553,15]
[null,null,null,null,3,3,7,381.69109858009995,"Oblique",0.25,null,0.11045672334932988,15]
[null,null,null,null,5,9,3,381.8995170525813,"Oblique",0.25,null,0.20841847248135537,15]
[null,null,null,null,0,9,4,382.20594862511291,"Tangential",0.5,null,0.3064315725316078,15]
[null,null,null,null,5,7,5,382.44670338686393,"Oblique",0.25,null,0.2407547617510204,15]
[null,null,null,null,9,6,4,382.59595986742028,"Oblique",0.25,null,0.14925648055634611,15]
[null,null,null,null,3,6,6,382.93253882885443,"Oblique",0.25,null,0.33657896143415655,15]
[null,null,null,null,7,6,5,383.12340751899779,"Oblique",0.25,null,0.19086869014336116,15]
[null,null,null,null,1,9,4,383.14646153167263,"Oblique",0.25,null,2.3054012674833757E-2,15]
[null,null,null,null,5,1,7,383.26601811432158,"Oblique",0.25,null,0.11955658264895419,15]
[null,null,null,null,0,8,5,384.19487432417418,"Tangential",0.5,null,0.9288562098525972,15]
[null,null,null,null,0,4,7,385.01046890532155,"Tangential",0.5,null,0.81559458114736572,15]
[null,null,null,null,1,8,5,385.13053018007679,"Oblique",0.25,null,0.12006127475524409,15]
[null,null,null,null,1,4,7,385.94414749613014,"Oblique",0.25,null,0.81361731605335308,15]
[null,null,null,null,2,9,4,385.95424915875554,"Oblique",0.25,null,1.0101662625402241E-2,15]
[null,null,null,null,7,4,6,386.84518099457034,"Oblique",0.25,null,0.89093183581479707,15]
[null,null,null,null,6,8,4,387.40304574712479,"Oblique",0.25,null,0.55786475255445112,15]
[null,null,null,null,7,9,2,387.42969536052527,"Oblique",0.25,null,2.6649613400479666E-2,15]
[null,null,null,null,8,9,0,387.92026369040451,"Tangential",0.5,null,0.49056832987923826,15]
[null,null,null,null,2,8,5,387.92395741465145,"Oblique",0.25,null,3.693724246943475E-3,15]
[null,null,null,null,4,3,7,388.2355747146533,"Oblique",0.25,null,0.31161730000184207,15]
[null,null,null,null,5,2,7,388.27825569480518,"Oblique",0.25,null,4.2680980151885706E-2,15]
[null,null,null,null,8,7,4,388.45896924658342,"Oblique",0.25,null,0.18071355177823989,15]
[null,null,null,null,2,4,7,388.73172811846973,"Oblique",0.25,null,0.27275887188631032,15]
[null,null,null,null,9,8,2,388.87299502228177,"Oblique",0.25,null,0.14126690381203844,15]
[null,null,null,null,8,3,6,389.13130244973144,"Oblique",0.25,null,0.25830742744966528,15]
[null,null,null,null,4,6,6,389.45615418509652,"Oblique",0.25,null,0.32485173536508682,15]
[null,null,null,null,6,5,6,389.73449169101377,"Oblique",0.25,null,0.27833750591724993,15]
[null,null,null,null,8,8,3,389.88003959446104,"Oblique",0.25,null,0.14554790344726598,15]
[null,null,null,null,9,0,6,389.94702957013232,"Tangential",0.5,null,6.6989975671276625E-2,15]
[null,null,null,null,3,9,4,390.58904431997854,"Oblique",0.25,null,0.64201474984622564,15]
[null,null,null,null,8,9,1,391.26254583378369,"Oblique",0.25,null,0.67350151380514944,15]
[null,null,null,null,9,1,6,391.5963997178311,"Oblique",0.25,null,0.33385388404741434,15]
[null,null,null,null,6,0,7,{"$f":"$D$5*SQRT((($E643/$D$2)^2)+(($F643/$D$3)^2)+(($G643/$D$4)^2))","v":391.81864204988977},{"$f":"+IF(+AND(E643=0,F643=0)+OR(+AND(E643=0,G643=0))+OR(+AND(F643=0,G643=0)),\"Axial\",(+IF(+OR(E643=0,F643=0,G643=0),\"Tangential\",\"Oblique\")))","v":"Tangential"},0.5,null,0.22224233205866994,15]
[null,null,null,null,6,9,3,392.1291919036438,"Oblique",{"$f":"IF(I644=\"Axial\",1,IF(I644=\"Tangential\",0.5,IF(I644=\"Oblique\",0.25,\"\")))","v":0.25},null,0.31054985375402566,{"$f":"IF(H644<17.8,1,IF(H644<=22.4,2,IF(H644<=28.2,3,IF(H644<=35.5,4,IF(H644<=44.7,5,IF(H644<=56.2,6,IF(H644<=70.8,7,IF(H644<=89.1,8,IF(H644<=112,9,IF(H644<=141,10,IF(H644<=178,11,IF(H644<=224,12,IF(H644<=282,13,IF(H644<=355,14,IF(H644<=447,15,IF(H644<=562,16,IF(H644<=708,17,IF(H644<=891,18,IF(H644<=1122,19,IF(H644<=1413,20,IF(H644<=1778,21,IF(H644<=2239,22,IF(H644<=2818,23,IF(H644<=3548,24,IF(H644<=4467,25,IF(H644<=5623,26,IF(H644<=7079,27,IF(H644<=8913,28,IF(H644<=11220,29,IF(H644<=14130,30,IF(H644<=17780,31,IF(H644<=22390,32,))))))))))))))))))))))))))))))))","v":15}]
[null,null,null,null,3,8,5,392.53549627433659,"Oblique",0.25,null,{"$f":"H645-H644","v":0.40630437069279424},15]
[null,null,null,null,6,7,5,392.66212314086238,"Oblique",0.25,null,0.12662686652578259,15]
[null,null,null,null,3,4,7,393.33379659656413,"Oblique",0.25,null,0.6716734557017503,15]
[null,null,null,null,6,1,7,393.46016654703101,"Oblique",0.25,null,0.12636995046688071,15]
[null,null,null,null,9,5,5,394.51021432632677,"Oblique",0.25,null,1.0500477792957668,15]
[null,null,null,null,0,7,6,396.12702777481644,"Tangential",0.5,null,1.6168134484896655,15]
[null,null,null,null,5,3,7,396.49120526486951,"Oblique",0.25,null,0.36417749005306632,15]
[null,null,null,null,9,2,6,396.50334610966445,"Oblique",0.25,null,1.2140844794942041E-2,15]
[null,null,null,null,8,6,5,396.9646113777074,"Oblique",0.25,null,0.46126526804295054,15]
[null,null,null,null,4,9,4,396.9868615981236,"Oblique",0.25,null,2.2250220416196953E-2,15]
[null,null,null,null,1,7,6,397.0345651873767,"Oblique",0.25,null,4.7703589253103473E-2,15]
[null,null,null,null,5,6,6,397.68644735647888,"Oblique",0.25,null,0.65188216910217989,15]
[null,null,null,null,6,2,7,398.3441550511447,"Oblique",0.25,null,0.65770769466581669,15]
[null,null,null,null,4,8,5,398.90209647741045,"Oblique",0.25,null,0.55794142626575649,15]
[null,null,null,null,7,8,4,399.29792074564699,"Oblique",0.25,null,0.39582426823653805,15]
[null,null,null,null,4,4,7,399.68768092574589,"Oblique",0.25,null,0.38976018009890367,15]
[null,null,null,null,2,7,6,399.74481536723709,"Oblique",0.25,null,5.7134441491200505E-2,15]
[null,null,null,null,0,5,7,399.79313498267408,"Tangential",0.5,null,4.8319615436980712E-2,15]
[null,null,null,null,8,4,6,400.55780026858559,"Oblique",0.25,null,0.76466528591151928,15]
[null,null,null,null,1,5,7,400.69236903027456,"Oblique",0.25,null,0.1345687616889677,15]
[null,null,null,null,8,9,2,401.1223331409455,"Oblique",0.25,null,0.42996411067093732,15]
[null,null,null,null,7,5,6,401.5603113746439,"Oblique",0.25,null,0.43797823369840216,15]
[null,null,null,null,2,5,7,403.37804359998444,"Oblique",0.25,null,1.817732225340535,15]
[null,null,null,null,9,9,0,403.38460049753678,"Tangential",0.5,null,6.5568975523433437E-3,15]
[null,null,null,null,7,0,7,403.583396481406,"Tangential",0.5,null,0.19879598386921771,15]
[null,null,null,null,7,9,3,403.88490043656344,"Oblique",0.25,null,0.30150395515744322,15]
[null,null,null,null,9,7,4,403.90268100749518,"Oblique",0.25,null,1.7780570931734019E-2,15]
[null,null,null,null,3,7,6,404.22151911060098,"Oblique",0.25,null,0.31883810310580429,15]
[null,null,null,null,7,7,5,404.40234001194631,"Oblique",0.25,null,0.18082090134532791,15]
[null,null,null,null,9,3,6,404.54934863765232,"Oblique",0.25,null,0.14700862570600748,15]
[null,null,null,null,5,9,4,405.06417103947797,"Oblique",0.25,null,0.5148224018256542,15]
[null,null,null,null,7,1,7,405.17726036497339,"Oblique",0.25,null,0.11308932549542305,15]
[null,null,null,null,9,8,3,405.26960188386073,"Oblique",0.25,null,9.234151888733777E-2,15]
[null,null,null,null,6,3,7,406.3537102948597,"Oblique",0.25,null,1.0841084109989652,15]
[null,null,null,null,9,9,1,406.59978444320166,"Oblique",0.25,null,0.24607414834196106,15]
[null,null,null,null,5,8,5,406.94139252777546,"Oblique",0.25,null,0.34160808457380654,15]
[null,null,null,null,6,6,6,407.52002702815395,"Oblique",0.25,null,0.57863450037848452,15]
[null,null,null,null,5,4,7,407.71148703730751,"Oblique",0.25,null,0.19146000915355899,15]
[null,null,null,null,3,5,7,407.81486627837194,"Oblique",0.25,null,0.10337924106443097,15]
[null,null,null,null,0,0,8,408.25472759643918,"Axial",1,null,0.43986131806724416,15]
[null,null,null,null,1,0,8,409.13536442681391,"Tangential",0.5,null,0.88063683037472629,15]
[null,null,null,null,0,1,8,409.8304246956788,"Tangential",0.5,null,0.69506026886489281,15]
[null,null,null,null,7,2,7,409.92166998227657,"Oblique",0.25,null,9.1245286597768427E-2,15]
[null,null,null,null,4,7,6,410.4068752479854,"Oblique",0.25,null,0.48520526570882794,15]
[null,null,null,null,1,1,8,410.70768294014118,"Oblique",0.25,null,0.30080769215578584,15]
[null,null,null,null,0,9,5,411.72761175409221,"Tangential",0.5,null,1.0199288139510259,15]
[null,null,null,null,2,0,8,411.76597465565203,"Tangential",0.5,null,3.8362901559821694E-2,15]
[null,null,null,null,9,6,5,412.08968395627016,"Oblique",0.25,null,0.32370930061813397,15]
[null,null,null,null,8,8,4,412.59688172486619,"Oblique",0.25,null,0.50719776859602916,15]
[null,null,null,null,1,9,5,412.60083628192945,"Oblique",0.25,null,3.9545570632526506E-3,15]
[null,null,null,null,2,1,8,413.32828633607545,"Oblique",0.25,null,0.72745005414600428,15]
[null,null,null,null,4,5,7,413.94653265413393,"Oblique",0.25,null,0.61824631805848185,15]
[null,null,null,null,0,2,8,414.52157990921717,"Tangential",0.5,null,0.57504725508323418,15]
[null,null,null,null,6,9,4,414.72285285225047,"Oblique",0.25,null,0.20127294303330245,15]
[null,null,null,null,8,5,6,414.7867415535207,"Oblique",0.25,null,6.3888701270229831E-2,15]
[null,null,null,null,2,9,5,415.20949117283527,"Oblique",0.25,null,0.42274961931457256,15]
[null,null,null,null,1,2,8,415.38893103963733,"Oblique",0.25,null,0.17943986680205626,15]
[null,null,null,null,9,4,6,415.55211020151546,"Oblique",0.25,null,0.16317916187813353,15]
[null,null,null,null,9,9,2,416.09630024954561,"Oblique",0.25,null,0.54419004803014559,15]
[null,null,null,null,3,0,8,416.1133703490126,"Tangential",0.5,null,1.7070099466991451E-2,15]
[null,null,null,null,6,8,5,416.55654954694313,"Oblique",0.25,null,0.44317919793053306,15]
[null,null,null,null,8,0,7,416.74562410750514,"Tangential",0.5,null,0.18907456056200544,15]
[null,null,null,null,8,9,3,{"$f":"$D$5*SQRT((($E707/$D$2)^2)+(($F707/$D$3)^2)+(($G707/$D$4)^2))","v":417.03761233003792},{"$f":"+IF(+AND(E707=0,F707=0)+OR(+AND(E707=0,G707=0))+OR(+AND(F707=0,G707=0)),\"Axial\",(+IF(+OR(E707=0,F707=0,G707=0),\"Tangential\",\"Oblique\")))","v":"Oblique"},0.25,null,0.29198822253277967,15]
[null,null,null,null,0,6,7,417.15003199646173,"Tangential",{"$f":"IF(I708=\"Axial\",1,IF(I708=\"Tangential\",0.5,IF(I708=\"Oblique\",0.25,\"\")))","v":0.5},null,0.1124196664238184,{"$f":"IF(H708<17.8,1,IF(H708<=22.4,2,IF(H708<=28.2,3,IF(H708<=35.5,4,IF(H708<=44.7,5,IF(H708<=56.2,6,IF(H708<=70.8,7,IF(H708<=89.1,8,IF(H708<=112,9,IF(H708<=141,10,IF(H708<=178,11,IF(H708<=224,12,IF(H708<=282,13,IF(H708<=355,14,IF(H708<=447,15,IF(H708<=562,16,IF(H708<=708,17,IF(H708<=891,18,IF(H708<=1122,19,IF(H708<=1413,20,IF(H708<=1778,21,IF(H708<=2239,22,IF(H708<=2818,23,IF(H708<=3548,24,IF(H708<=4467,25,IF(H708<=5623,26,IF(H708<=7079,27,IF(H708<=8913,28,IF(H708<=11220,29,IF(H708<=14130,30,IF(H708<=17780,31,IF(H708<=22390,32,))))))))))))))))))))))))))))))))","v":15}]
[null,null,null,null,6,4,7,417.30890079194637,"Oblique",0.25,null,{"$f":"H709-H708","v":0.15886879548463639},15]
[null,null,null,null,8,7,5,417.53875257803804,"Oblique",0.25,null,0.22985178609167178,15]
[null,null,null,null,3,1,8,417.65942032308118,"Oblique",0.25,null,0.12066774504313571,15]
[null,null,null,null,7,3,7,417.70928590114784,"Oblique",0.25,null,4.9865578066658145E-2,15]
[null,null,null,null,2,2,8,417.98018552284248,"Oblique",0.25,null,0.27089962169463888,15]
[null,null,null,null,1,6,7,418.01192927291936,"Oblique",0.25,null,3.174375007688468E-2,15]
[null,null,null,null,5,7,6,418.22508010542271,"Oblique",0.25,null,0.2131508325033451,15]
[null,null,null,null,8,1,7,418.28933719872856,"Oblique",0.25,null,6.4257093305855051E-2,15]
[null,null,null,null,7,6,6,418.84398298969916,"Oblique",0.25,null,0.55464579097059641,15]
[null,null,null,null,3,9,5,419.52120406375195,"Oblique",0.25,null,0.6772210740527953,15]
[null,null,null,null,0,8,6,419.82429438358537,"Tangential",0.5,null,0.30309031983341583,15]
[null,null,null,null,2,6,7,420.58702366326685,"Oblique",0.25,null,0.76272927968147997,15]
[null,null,null,null,1,8,6,420.68071262478196,"Oblique",0.25,null,9.3688961515113078E-2,15]
[null,null,null,null,5,5,7,421.69911818114076,"Oblique",0.25,null,1.0184055563588004,15]
[null,null,null,null,4,0,8,422.12451210744456,"Tangential",0.5,null,0.4253939263037978,15]
[null,null,null,null,0,3,8,422.22436241579175,"Tangential",0.5,null,9.9850308347186001E-2,15]
[null,null,null,null,3,2,8,422.26360793798608,"Oblique",0.25,null,3.9245522194335081E-2,15]
[null,null,null,null,8,2,7,422.88666663580767,"Oblique",0.25,null,0.62305869782159107,15]
[null,null,null,null,1,3,8,423.07592230856261,"Oblique",0.25,null,0.18925567275493904,15]
[null,null,null,null,2,8,6,423.23956978755149,"Oblique",0.25,null,0.16364747898887799,15]
[null,null,null,null,4,1,8,423.64862577771424,"Oblique",0.25,null,0.40905599016275573,15]
[null,null,null,null,3,6,7,424.84416386837751,"Oblique",0.25,null,1.1955380906632627,15]
[null,null,null,null,4,9,5,425.48420346451616,"Oblique",0.25,null,0.64003959613864936,15]
[null,null,null,null,2,3,8,425.62037955988217,"Oblique",0.25,null,0.13617609536601094,15]
[null,null,null,null,7,9,4,425.85532089614361,"Oblique",0.25,null,0.23494133626144276,15]
[null,null,null,null,9,8,4,427.16880942550989,"Oblique",0.25,null,1.3134885293662819,15]
[null,null,null,null,3,8,6,427.47029432821068,"Oblique",0.25,null,0.30148490270079265,15]
[null,null,null,null,6,7,6,427.58657561621027,"Oblique",0.25,null,0.11628128799958404,15]
[null,null,null,null,7,8,5,427.64128499023923,"Oblique",0.25,null,5.4709374028959701E-2,15]
[null,null,null,null,4,2,8,428.18841802124774,"Oblique",0.25,null,0.54713303100851363,15]
[null,null,null,null,7,4,7,428.37416861644522,"Oblique",0.25,null,0.18575059519747583,15]
[null,null,null,null,9,5,6,429.28434155639968,"Oblique",0.25,null,0.9101729399544638,15]
[null,null,null,null,5,0,8,429.72958718282337,"Tangential",0.5,null,0.44524562642368437,15]
[null,null,null,null,3,3,8,429.8276708121449,"Oblique",0.25,null,9.8083629321536137E-2,15]
[null,null,null,null,8,3,7,430.43978071889802,"Oblique",0.25,null,0.61210990675311905,15]
[null,null,null,null,4,6,7,430.73347944146894,"Oblique",0.25,null,0.29369872257092311,15]
[null,null,null,null,6,5,7,430.98516017696198,"Oblique",0.25,null,0.25168073549303926,15]
[null,null,null,null,9,0,7,431.17736507112517,"Tangential",0.5,null,0.19220489416318287,15]
[null,null,null,null,5,1,8,431.22682256756417,"Oblique",0.25,null,4.945749643900399E-2,15]
[null,null,null,null,9,9,3,431.45958679216221,"Oblique",0.25,null,0.2327642245980428,15]
[null,null,null,null,8,6,6,431.54100544903218,"Oblique",0.25,null,8.1418656869971073E-2,15]
[null,null,null,null,9,7,5,431.94399502869402,"Oblique",0.25,null,0.4029895796618348,15]
[null,null,null,null,9,1,7,432.66959050882701,"Oblique",0.25,null,0.72559548013299491,15]
[null,null,null,null,0,4,8,432.77799508201156,"Tangential",0.5,null,0.10840457318454355,15]
[null,null,null,null,5,9,5,433.03027812868407,"Oblique",0.25,null,0.25228304667251678,15]
[null,null,null,null,4,8,6,433.32391957031473,"Oblique",0.25,null,0.29364144163065475,15]
[null,null,null,null,1,4,8,433.60882930012468,"Oblique",0.25,null,0.28490972980995366,15]
[null,null,null,null,4,3,8,435.64962221322673,"Oblique",0.25,null,2.0407929131020524,15]
[null,null,null,null,5,2,8,435.68765842735382,"Oblique",0.25,null,3.8036214127089352E-2,15]
[null,null,null,null,2,4,8,436.09183471659026,"Oblique",0.25,null,0.40417628923643178,15]
[null,null,null,null,0,7,7,436.77437701039526,"Tangential",0.5,null,0.68254229380499964,15]
[null,null,null,null,9,2,7,437.11570293832852,"Oblique",0.25,null,0.34132592793326921,15]
[null,null,null,null,1,7,7,437.5976236597246,"Oblique",0.25,null,0.48192072139607944,15]
[null,null,null,null,5,6,7,438.18916541845954,"Oblique",0.25,null,0.59154175873493386,15]
[null,null,null,null,8,9,4,438.34930321929761,"Oblique",0.25,null,0.16013780083807205,15]
[null,null,null,null,7,7,6,438.39250598618264,"Oblique",0.25,null,4.3202766885030996E-2,15]
[null,null,null,null,6,0,8,438.84573612868763,"Tangential",0.5,null,0.45323014250499227,15]
[null,null,null,null,2,7,7,440.05812308386629,"Oblique",0.25,null,1.2123869551786584,15]
[null,null,null,null,8,8,5,440.08456678846306,"Oblique",0.25,null,2.6443704596772477E-2,15]
[null,null,null,null,3,4,8,440.19905429882215,"Oblique",0.25,null,0.11448751035908344,15]
[null,null,null,null,6,1,8,440.31197408170425,"Oblique",0.25,null,0.11291978288210203,15]
[null,null,null,null,5,8,6,440.73578666833077,"Oblique",0.25,null,0.42381258662652499,15]
[null,null,null,null,8,4,7,{"$f":"$D$5*SQRT((($E771/$D$2)^2)+(($F771/$D$3)^2)+(($G771/$D$4)^2))","v":440.79676227839605},{"$f":"+IF(+AND(E771=0,F771=0)+OR(+AND(E771=0,G771=0))+OR(+AND(F771=0,G771=0)),\"Axial\",(+IF(+OR(E771=0,F771=0,G771=0),\"Tangential\",\"Oblique\")))","v":"Oblique"},0.25,null,6.0975610065270303E-2,15]
[null,null,null,null,7,5,7,441.70795549821116,"Oblique",{"$f":"IF(I772=\"Axial\",1,IF(I772=\"Tangential\",0.5,IF(I772=\"Oblique\",0.25,\"\")))","v":0.25},null,0.91119321981511803,{"$f":"IF(H772<17.8,1,IF(H772<=22.4,2,IF(H772<=28.2,3,IF(H772<=35.5,4,IF(H772<=44.7,5,IF(H772<=56.2,6,IF(H772<=70.8,7,IF(H772<=89.1,8,IF(H772<=112,9,IF(H772<=141,10,IF(H772<=178,11,IF(H772<=224,12,IF(H772<=282,13,IF(H772<=355,14,IF(H772<=447,15,IF(H772<=562,16,IF(H772<=708,17,IF(H772<=891,18,IF(H772<=1122,19,IF(H772<=1413,20,IF(H772<=1778,21,IF(H772<=2239,22,IF(H772<=2818,23,IF(H772<=3548,24,IF(H772<=4467,25,IF(H772<=5623,26,IF(H772<=7079,27,IF(H772<=8913,28,IF(H772<=11220,29,IF(H772<=14130,30,IF(H772<=17780,31,IF(H772<=22390,32,))))))))))))))))))))))))))))))))","v":15}]
[null,null,null,null,6,9,5,442.07836838530727,"Oblique",0.25,null,{"$f":"H773-H772","v":0.37041288709610853},15]
[null,null,null,null,5,3,8,443.02258149319988,"Oblique",0.25,null,0.94421310789260815,15]
[null,null,null,null,3,7,7,444.12866468084519,"Oblique",0.25,null,1.1060831876453108,15]
[null,null,null,null,9,3,7,444.42705786468201,"Oblique",0.25,null,0.29839318383682212,15]
[null,null,null,null,6,2,8,444.68168134511728,"Oblique",0.25,null,0.25462348043527072,15]
[null,null,null,null,0,9,6,445.15880647071987,"Tangential",0.5,null,0.47712512560258347,15]
[null,null,null,null,9,6,6,445.49370850875772,"Oblique",0.25,null,0.33490203803785334,15]
[null,null,null,null,4,4,8,445.88560656777304,"Oblique",0.25,null,0.39189805901531827,15]
[null,null,null,null,1,9,6,445.96657587565335,"Oblique",0.25,null,8.0969307880309316E-2,15]
[null,null,null,null,0,5,8,445.98013704624185,"Tangential",0.5,null,1.3561170588502591E-2,15]
[null,null,null,null,1,5,8,446.78642152554698,"Oblique",0.25,null,0.80628447930513403,15]
[null,null,null,null,6,6,7,447.13287366076764,"Oblique",0.25,null,0.34645213522065887,16]
[null,null,null,null,2,9,6,448.38115287968134,"Oblique",0.25,null,1.2482792189136944,16]
[null,null,null,null,2,5,8,449.19659161558758,"Oblique",0.25,null,0.81543873590624116,16]
[null,null,null,null,7,0,8,449.38100736009949,"Tangential",0.5,null,0.18441574451190945,16]
[null,null,null,null,6,8,6,449.62884212221337,"Oblique",0.25,null,0.24783476211388233,16]
[null,null,null,null,4,7,7,449.76553617404272,"Oblique",0.25,null,0.13669405182935179,16]
[null,null,null,null,8,7,6,450.53895125963459,"Oblique",0.25,null,0.77341508559186423,16]
[null,null,null,null,7,1,8,450.81298137628585,"Oblique",0.25,null,0.27403011665126087,16]
[null,null,null,null,6,3,8,451.87063384436561,"Oblique",0.25,null,1.0576524680797661,16]
[null,null,null,null,9,9,4,452.09193375879653,"Oblique",0.25,null,0.22129991443091512,16]
[null,null,null,null,3,9,6,452.37680903955226,"Oblique",0.25,null,0.28487528075572754,16]
[null,null,null,null,7,9,5,452.5383889261368,"Oblique",0.25,null,0.16157988658454769,16]
[null,null,null,null,5,4,8,453.0920309635589,"Oblique",0.25,null,0.55364203742209384,16]
[null,null,null,null,3,5,8,453.18505824680096,"Oblique",0.25,null,9.302728324206555E-2,16]
[null,null,null,null,8,5,7,453.76566115969581,"Oblique",0.25,null,0.58060291289484667,16]
[null,null,null,null,9,8,5,453.77464766369837,"Oblique",0.25,null,8.9865040025642884E-3,16]
[null,null,null,null,9,4,7,454.46538985058169,"Oblique",0.25,null,0.69074218688331257,16]
[null,null,null,null,7,2,8,455.08186887808273,"Oblique",0.25,null,0.61647902750104322,16]
[null,null,null,null,5,7,7,456.91077018198632,"Oblique",0.25,null,1.8289013039035922,16]
[null,null,null,null,7,6,7,457.47733972928546,"Oblique",0.25,null,0.56656954729913878,16]
[null,null,null,null,4,9,6,457.91215761927646,"Oblique",0.25,null,0.43481788999099535,16]
[null,null,null,null,0,8,7,458.37503469733605,"Tangential",0.5,null,0.46287707805959144,16]
[null,null,null,null,4,5,8,458.71065363351875,"Oblique",0.25,null,0.33561893618269778,16]
[null,null,null,null,1,8,7,459.15955424405917,"Oblique",0.25,null,0.44890061054042008,16]
[null,null,null,null,0,0,9,459.2865685459941,"Axial",1,null,0.12701430193493479,16]
[null,null,null,null,7,8,6,459.91717224497103,"Oblique",0.25,null,0.63060369897692681,16]
[null,null,null,null,1,0,9,460.06953373003648,"Tangential",0.5,null,0.15236148506545533,16]
[null,null,null,null,0,1,9,460.68775374232791,"Tangential",0.5,null,0.61822001229143098,16]
[null,null,null,null,8,0,8,461.2381674073211,"Tangential",0.5,null,0.55041366499318656,16]
[null,null,null,null,1,1,9,461.46834156632116,"Oblique",0.25,null,0.23017415900005744,16]
[null,null,null,null,2,8,7,461.50511125345116,"Oblique",0.25,null,3.6769687130004058E-2,16]
[null,null,null,null,0,6,8,461.60359731609446,"Tangential",0.5,null,9.8486062643303285E-2,16]
[null,null,null,null,6,4,8,461.74717166507099,"Oblique",0.25,null,0.14357434897652865,16]
[null,null,null,null,7,3,8,462.10905573095715,"Oblique",0.25,null,0.36188406588615862,16]
[null,null,null,null,1,6,8,462.38263902851952,"Oblique",0.25,null,0.27358329756236799,16]
[null,null,null,null,2,0,9,462.410474931127,"Tangential",0.5,null,2.7835902607478147E-2,16]
[null,null,null,null,8,1,8,462.63344180318575,"Oblique",0.25,null,0.22296687205874832,16]
[null,null,null,null,2,1,9,463.80222264175069,"Oblique",0.25,null,1.1687808385649419,16]
[null,null,null,null,9,7,6,463.92063064607913,"Oblique",0.25,null,0.11840800432844389,16]
[null,null,null,null,8,9,5,464.31492626142193,"Oblique",0.25,null,0.39429561534279856,16]
[null,null,null,null,2,6,8,464.71192833241906,"Oblique",0.25,null,0.39700207099713225,16]
[null,null,null,null,0,2,9,464.86596955718841,"Tangential",0.5,null,0.1540412247693439,16]
[null,null,null,null,5,9,6,464.93220847120585,"Oblique",0.25,null,6.6238914017446859E-2,16]
[null,null,null,null,3,8,7,465.38810342783341,"Oblique",0.25,null,0.45589495662756008,16]
[null,null,null,null,6,7,7,465.494912889825,"Oblique",0.25,null,0.10680946199158825,16]
[null,null,null,null,1,2,9,465.6395531654972,"Oblique",0.25,null,0.14464027567220228,16]
[null,null,null,null,5,5,8,465.71866844186275,"Oblique",0.25,null,7.9115276365541831E-2,16]
[null,null,null,null,3,0,9,466.28592775798614,"Tangential",0.5,null,0.56725931612339764,16]
[null,null,null,null,8,2,8,466.79424233687234,"Oblique",0.25,null,0.5083145788861998,16]
[null,null,null,null,9,5,7,467.05490061085993,"Oblique",0.25,null,0.26065827398758756,16]
[null,null,null,null,3,1,9,467.6661424847041,"Oblique",0.25,null,0.61124187384416473,16]
[null,null,null,null,2,2,9,{"$f":"$D$5*SQRT((($E835/$D$2)^2)+(($F835/$D$3)^2)+(($G835/$D$4)^2))","v":467.9526310767161},{"$f":"+IF(+AND(E835=0,F835=0)+OR(+AND(E835=0,G835=0))+OR(+AND(F835=0,G835=0)),\"Axial\",(+IF(+OR(E835=0,F835=0,G835=0),\"Tangential\",\"Oblique\")))","v":"Oblique"},0.25,null,0.28648859201200594,16]
[null,null,null,null,3,6,8,468.56834659794384,"Oblique",{"$f":"IF(I836=\"Axial\",1,IF(I836=\"Tangential\",0.5,IF(I836=\"Oblique\",0.25,\"\")))","v":0.25},null,0.61571552122774165,{"$f":"IF(H836<17.8,1,IF(H836<=22.4,2,IF(H836<=28.2,3,IF(H836<=35.5,4,IF(H836<=44.7,5,IF(H836<=56.2,6,IF(H836<=70.8,7,IF(H836<=89.1,8,IF(H836<=112,9,IF(H836<=141,10,IF(H836<=178,11,IF(H836<=224,12,IF(H836<=282,13,IF(H836<=355,14,IF(H836<=447,15,IF(H836<=562,16,IF(H836<=708,17,IF(H836<=891,18,IF(H836<=1122,19,IF(H836<=1413,20,IF(H836<=1778,21,IF(H836<=2239,22,IF(H836<=2818,23,IF(H836<=3548,24,IF(H836<=4467,25,IF(H836<=5623,26,IF(H836<=7079,27,IF(H836<=8913,28,IF(H836<=11220,29,IF(H836<=14130,30,IF(H836<=17780,31,IF(H836<=22390,32,))))))))))))))))))))))))))))))))","v":16}]
[null,null,null,null,8,6,7,469.12991128585082,"Oblique",0.25,null,{"$f":"H837-H836","v":0.56156468790698},16]
[null,null,null,null,4,8,7,470.7704892523418,"Oblique",0.25,null,1.6405779664909801,16]
[null,null,null,null,8,8,6,471.50945125532377,"Oblique",0.25,null,0.73896200298196391,16]
[null,null,null,null,4,0,9,471.65806805763367,"Tangential",0.5,null,0.1486168023099026,16]
[null,null,null,null,0,3,9,471.74743418415449,"Tangential",0.5,null,8.9366126520815214E-2,16]
[null,null,null,null,7,4,8,471.77130073621538,"Oblique",0.25,null,2.3866552060894719E-2,16]
[null,null,null,null,3,2,9,471.78256011717576,"Oblique",0.25,null,1.1259380960382259E-2,16]
[null,null,null,null,1,3,9,472.50975172915986,"Oblique",0.25,null,0.72719161198409665,16]
[null,null,null,null,4,1,9,473.0226078796415,"Oblique",0.25,null,0.51285615048163891,16]
[null,null,null,null,6,9,6,473.37091217344852,"Oblique",0.25,null,0.34830429380701844,16]
[null,null,null,null,8,3,8,473.64769257945625,"Oblique",0.25,null,0.27678040600773102,16]
[null,null,null,null,4,6,8,473.91461485405193,"Oblique",0.25,null,0.26692227459568585,16]
[null,null,null,null,6,5,8,474.14337510216421,"Oblique",0.25,null,0.22876024811228035,16]
[null,null,null,null,9,0,8,474.3180915906417,"Tangential",0.5,null,0.17471648847748611,16]
[null,null,null,null,2,3,9,474.78936059963422,"Oblique",0.25,null,0.47126900899252178,16]
[null,null,null,null,7,7,7,475.44003153284632,"Oblique",0.25,null,0.65067093321209768,16]
[null,null,null,null,9,1,8,475.67500082681039,"Oblique",0.25,null,0.2349692939640704,16]
[null,null,null,null,4,2,9,477.09281148373015,"Oblique",0.25,null,1.4178106569197553,16]
[null,null,null,null,9,9,5,477.31054428545161,"Oblique",0.25,null,0.21773280172146769,16]
[null,null,null,null,5,8,7,477.60157865030249,"Oblique",0.25,null,0.29103436485087286,16]
[null,null,null,null,5,0,9,478.47648588225434,"Tangential",0.5,null,0.87490723195185183,16]
[null,null,null,null,3,3,9,478.56457875369853,"Oblique",0.25,null,8.8092871444189313E-2,16]
[null,null,null,null,0,7,8,479.41171061346523,"Tangential",0.5,null,0.84713185976670502,16]
[null,null,null,null,9,2,8,479.72270075094332,"Oblique",0.25,null,0.31099013747808613,16]
[null,null,null,null,5,1,9,479.82163555182547,"Oblique",0.25,null,9.8934800882148011E-2,16]
[null,null,null,null,1,7,8,480.16186030665534,"Oblique",0.25,null,0.34022475482987602,16]
[null,null,null,null,5,6,8,480.70102615933342,"Oblique",0.25,null,0.53916585267808159,16]
[null,null,null,null,0,4,9,481.21619098812226,"Tangential",0.5,null,0.51516482878884062,16]
[null,null,null,null,0,9,7,481.68620206265462,"Tangential",0.5,null,0.47001107453235136,16]
[null,null,null,null,1,4,9,481.96353211517572,"Oblique",0.25,null,0.27733005252110843,16]
[null,null,null,null,9,6,7,481.99572466983011,"Oblique",0.25,null,3.219255465438664E-2,16]
[null,null,null,null,2,7,8,482.40531045232615,"Oblique",0.25,null,0.40958578249603761,16]
[null,null,null,null,1,9,7,482.43281509176342,"Oblique",0.25,null,2.7504639437267997E-2,16]
[null,null,null,null,8,4,8,483.07920416389987,"Oblique",0.25,null,0.6463890721364578,16]
[null,null,null,null,7,9,6,483.15394042641401,"Oblique",0.25,null,7.4736262514136342E-2,16]
[null,null,null,null,4,3,9,483.80039559351178,"Oblique",0.25,null,0.64645516709776984,16]
[null,null,null,null,5,2,9,483.83464649384285,"Oblique",0.25,null,3.4250900331073808E-2,16]
[null,null,null,null,7,5,8,483.91078703715596,"Oblique",0.25,null,7.6140543313101716E-2,16]
[null,null,null,null,2,4,9,484.19863459988534,"Oblique",0.25,null,0.28784756272938239,16]
[null,null,null,null,9,8,6,484.31205597220162,"Oblique",0.25,null,0.11342137231628158,16]
[null,null,null,null,2,9,7,484.6657534186017,"Oblique",0.25,null,0.35369744640007639,16]
[null,null,null,null,6,8,7,485.82026506442782,"Oblique",0.25,null,1.1545116458261191,16]
[null,null,null,null,3,7,8,486.12138674584213,"Oblique",0.25,null,0.30112168141431539,16]
[null,null,null,null,9,3,8,486.39401890110395,"Oblique",0.25,null,0.27263215526181739,16]
[null,null,null,null,8,7,7,486.66269723622753,"Oblique",0.25,null,0.26867833512358175,16]
[null,null,null,null,6,0,9,486.68039775631098,"Tangential",0.5,null,1.7700520083451465E-2,16]
[null,null,null,null,3,4,9,487.90105231233991,"Oblique",0.25,null,1.2206545560289328,16]
[null,null,null,null,6,1,9,488.00293437810262,"Oblique",0.25,null,0.10188206576270886,16]
[null,null,null,null,3,9,7,488.36462979613526,"Oblique",0.25,null,0.36169541803263883,16]
[null,null,null,null,6,6,8,488.86760842650028,"Oblique",0.25,null,0.50297863036502122,16]
[null,null,null,null,5,3,9,490.45003532960442,"Oblique",0.25,null,1.5824269031041354,16]
[null,null,null,null,4,7,8,491.27667295571263,"Oblique",0.25,null,0.82663762610820868,16]
[null,null,null,null,6,2,9,491.94921197805746,"Oblique",0.25,null,0.67253902234483576,16]
[null,null,null,null,4,4,9,493.0377303880731,"Oblique",0.25,null,1.088518410015638,16]
[null,null,null,null,0,5,9,493.12322200611891,"Tangential",0.5,null,8.5491618045807627E-2,16]
[null,null,null,null,4,9,7,493.49648263655314,"Oblique",0.25,null,0.37326063043423119,16]
[null,null,null,null,1,5,9,493.85254469478548,"Oblique",0.25,null,0.3560620582323395,16]
[null,null,null,null,8,9,6,494.20146443212514,"Oblique",0.25,null,0.34891973733965642,16]
[null,null,null,null,8,5,8,494.94141785488705,"Oblique",0.25,null,0.73995342276191423,16]
[null,null,null,null,7,8,7,495.35748667494579,"Oblique",0.25,null,0.41606882005874013,16]
[null,null,null,null,9,4,8,495.5830126553484,"Oblique",0.25,null,0.22552598040260818,16]
[null,null,null,null,2,5,9,496.03407883024767,"Oblique",0.25,null,0.45106617489926748,16]
[null,null,null,null,7,0,9,{"$f":"$D$5*SQRT((($E899/$D$2)^2)+(($F899/$D$3)^2)+(($G899/$D$4)^2))","v":496.20108748156639},{"$f":"+IF(+AND(E899=0,F899=0)+OR(+AND(E899=0,G899=0))+OR(+AND(F899=0,G899=0)),\"Axial\",(+IF(+OR(E899=0,F899=0,G899=0),\"Tangential\",\"Oblique\")))","v":"Tangential"},0.5,null,0.16700865131872433,16]
[null,null,null,null,7,1,9,497.4983151924103,"Oblique",{"$f":"IF(I900=\"Axial\",1,IF(I900=\"Tangential\",0.5,IF(I900=\"Oblique\",0.25,\"\")))","v":0.25},null,1.297227710843913,{"$f":"IF(H900<17.8,1,IF(H900<=22.4,2,IF(H900<=28.2,3,IF(H900<=35.5,4,IF(H900<=44.7,5,IF(H900<=56.2,6,IF(H900<=70.8,7,IF(H900<=89.1,8,IF(H900<=112,9,IF(H900<=141,10,IF(H900<=178,11,IF(H900<=224,12,IF(H900<=282,13,IF(H900<=355,14,IF(H900<=447,15,IF(H900<=562,16,IF(H900<=708,17,IF(H900<=891,18,IF(H900<=1122,19,IF(H900<=1413,20,IF(H900<=1778,21,IF(H900<=2239,22,IF(H900<=2818,23,IF(H900<=3548,24,IF(H900<=4467,25,IF(H900<=5623,26,IF(H900<=7079,27,IF(H900<=8913,28,IF(H900<=11220,29,IF(H900<=14130,30,IF(H900<=17780,31,IF(H900<=22390,32,))))))))))))))))))))))))))))))))","v":16}]
[null,null,null,null,5,7,8,497.82645949045929,"Oblique",0.25,null,{"$f":"H901-H900","v":0.32814429804898282},16]
[null,null,null,null,7,6,8,498.34651421103979,"Oblique",0.25,null,0.52005472058050373,16]
[null,null,null,null,6,3,9,498.45691807098041,"Oblique",0.25,null,0.11040385994061808,16]
[null,null,null,null,9,7,7,499.07673339694418,"Oblique",0.25,null,0.61981532596377065,16]
[null,null,null,null,0,8,8,499.17071658330883,"Tangential",0.5,null,9.3983186364653193E-2,16]
[null,null,null,null,5,4,9,499.5644282418375,"Oblique",0.25,null,0.39371165852867307,16]
[null,null,null,null,3,5,9,499.64880312081976,"Oblique",0.25,null,8.4374878982259816E-2,16]
[null,null,null,null,1,8,8,499.89121628021542,"Oblique",0.25,null,0.24241315939565311,16]
[null,null,null,null,5,9,7,500.01719245744096,"Oblique",0.25,null,0.12597617722553878,16]
[null,null,null,null,7,2,9,501.36986030622126,"Oblique",0.25,null,1.3526678487802997,16]
[null,null,null,null,2,8,8,502.04651136480408,"Oblique",0.25,null,0.67665105858282004,16]
[null,null,null,null,4,5,9,504.66592236726399,"Oblique",0.25,null,2.6194110024599127,16]
[null,null,null,null,3,8,8,505.61825389582782,"Oblique",0.25,null,0.95233152856383185,16]
[null,null,null,null,6,7,8,505.71656665252306,"Oblique",0.25,null,9.8312756695236203E-2,16]
[null,null,null,null,8,8,7,506.13871310363646,"Oblique",0.25,null,0.42214645111340587,16]
[null,null,null,null,9,9,6,506.4307379926513,"Oblique",0.25,null,0.29202488901484003,16]
[null,null,null,null,8,0,9,506.9643740098266,"Tangential",0.5,null,0.53363601717529718,16]
[null,null,null,null,9,5,8,507.1528487991863,"Oblique",0.25,null,0.1884747893597023,16]
[null,null,null,null,0,6,9,507.29686624014386,"Tangential",0.5,null,0.14401744095755475,16]
[null,null,null,null,6,4,9,507.42751204738977,"Oblique",0.25,null,0.13064580724591224,16]
[null,null,null,null,7,3,9,507.75684025965438,"Oblique",0.25,null,0.32932821226461328,16]
[null,null,null,null,6,9,7,507.87326644649397,"Oblique",0.25,null,0.11642618683958972,16]
[null,null,null,null,1,6,9,508.00584082950218,"Oblique",0.25,null,0.13257438300820468,16]
[null,null,null,null,8,1,9,508.23413001939673,"Oblique",0.25,null,0.2282891898945536,16]
[null,null,null,null,8,6,8,509.06444142522895,"Oblique",0.25,null,0.83031140583221941,16]
[null,null,null,null,2,6,9,510.12685263211421,"Oblique",0.25,null,1.0624112068852583,16]
[null,null,null,null,4,8,8,510.5767184384726,"Oblique",0.25,null,0.44986580635838891,16]
[null,null,null,null,5,5,9,511.04413466663823,"Oblique",0.25,null,0.46741622816563222,16]
[null,null,null,null,8,2,9,512.02450539087101,"Oblique",0.25,null,0.9803707242327846,16]
[null,null,null,null,3,6,9,513.64240953745457,"Oblique",0.25,null,1.6179041465835553,16]
[null,null,null,null,7,7,8,514.8853808805062,"Oblique",0.25,null,1.2429713430516358,16]
[null,null,null,null,7,4,9,516.5659586541218,"Oblique",0.25,null,1.680577773615596,16]
[null,null,null,null,5,8,8,516.88199793547756,"Oblique",0.25,null,0.31603928135575643,16]
[null,null,null,null,7,9,7,517.00383405607306,"Oblique",0.25,null,0.12183612059550342,16]
[null,null,null,null,9,8,7,518.0862880246201,"Oblique",0.25,null,1.0824539685470427,16]
[null,null,null,null,8,3,9,518.28020040105184,"Oblique",0.25,null,0.19391237643174009,16]
[null,null,null,null,4,6,9,518.52414757094562,"Oblique",0.25,null,0.2439471698937723,16]
[null,null,null,null,6,5,9,518.73323548350254,"Oblique",0.25,null,0.20908791255692449,16]
[null,null,null,null,9,0,9,518.89293833323632,"Tangential",0.5,null,0.15970284973377602,16]
[null,null,null,null,9,1,9,520.13357501078269,"Oblique",0.25,null,1.2406366775463766,16]
[null,null,null,null,0,9,8,520.65855329385931,"Tangential",0.5,null,0.52497828307662076,16]
[null,null,null,null,9,6,8,520.94492075506855,"Oblique",0.25,null,0.28636746120923817,16]
[null,null,null,null,1,9,8,521.34935785696871,"Oblique",0.25,null,0.40443710190015736,16]
[null,null,null,null,2,9,8,523.41630123385619,"Oblique",0.25,null,2.0669433768874796,16]
[null,null,null,null,0,7,9,523.5530705814266,"Tangential",0.5,null,0.13676934757040726,16]
[null,null,null,null,9,2,9,523.83785569362055,"Oblique",0.25,null,0.28478511219395841,16]
[null,null,null,null,1,7,9,524.24006097880317,"Oblique",0.25,null,0.40220528518261744,16]
[null,null,null,null,6,8,8,524.48552106591171,"Oblique",0.25,null,0.24546008710854039,16]
[null,null,null,null,5,6,9,524.733938289251,"Oblique",0.25,null,0.24841722333928828,16]
[null,null,null,null,8,7,8,525.26594477631056,"Oblique",0.25,null,0.53200648705956155,16]
[null,null,null,null,2,7,9,526.29565169637931,"Oblique",0.25,null,1.0297069200687474,16]
[null,null,null,null,3,9,8,526.84318681788636,"Oblique",0.25,null,0.54753512150705319,16]
[null,null,null,null,8,4,9,526.91341502901412,"Oblique",0.25,null,7.0228211127755458E-2,16]
[null,null,null,null,8,9,7,527.34269856134893,"Oblique",0.25,null,0.42928353233480721,16]
[null,null,null,null,7,5,9,527.67592256311173,"Oblique",0.25,null,0.33322400176280098,16]
[null,null,null,null,3,7,9,529.70390983417508,"Oblique",0.25,null,2.0279872710633526,16]
[null,null,null,null,9,3,9,529.95412166024221,"Oblique",0.25,null,0.25021182606712955,16]
[null,null,null,null,4,9,8,531.60371540759559,"Oblique",0.25,null,1.6495937473533786,16]
[null,null,null,null,6,6,9,532.22529816850817,"Oblique",0.25,null,0.62158276091258813,16]
[null,null,null,null,7,8,8,533.33176491320023,"Oblique",0.25,null,1.1064667446920566,16]
[null,null,null,null,4,7,9,534.43895706838737,"Oblique",0.25,null,1.1071921551871355,16]
[null,null,null,null,9,7,8,536.78796342566636,"Oblique",0.25,null,2.349006357278995,16]
[null,null,null,null,5,9,8,{"$f":"$D$5*SQRT((($E963/$D$2)^2)+(($F963/$D$3)^2)+(($G963/$D$4)^2))","v":537.66246345967988},{"$f":"+IF(+AND(E963=0,F963=0)+OR(+AND(E963=0,G963=0))+OR(+AND(F963=0,G963=0)),\"Axial\",(+IF(+OR(E963=0,F963=0,G963=0),\"Tangential\",\"Oblique\")))","v":"Oblique"},0.25,null,0.87450003401352205,16]
[null,null,null,null,8,5,9,537.80966572767852,"Oblique",{"$f":"IF(I964=\"Axial\",1,IF(I964=\"Tangential\",0.5,IF(I964=\"Oblique\",0.25,\"\")))","v":0.25},null,0.14720226799863667,{"$f":"IF(H964<17.8,1,IF(H964<=22.4,2,IF(H964<=28.2,3,IF(H964<=35.5,4,IF(H964<=44.7,5,IF(H964<=56.2,6,IF(H964<=70.8,7,IF(H964<=89.1,8,IF(H964<=112,9,IF(H964<=141,10,IF(H964<=178,11,IF(H964<=224,12,IF(H964<=282,13,IF(H964<=355,14,IF(H964<=447,15,IF(H964<=562,16,IF(H964<=708,17,IF(H964<=891,18,IF(H964<=1122,19,IF(H964<=1413,20,IF(H964<=1778,21,IF(H964<=2239,22,IF(H964<=2818,23,IF(H964<=3548,24,IF(H964<=4467,25,IF(H964<=5623,26,IF(H964<=7079,27,IF(H964<=8913,28,IF(H964<=11220,29,IF(H964<=14130,30,IF(H964<=17780,31,IF(H964<=22390,32,))))))))))))))))))))))))))))))))","v":16}]
[null,null,null,null,9,4,9,538.40017818947888,"Oblique",0.25,null,{"$f":"H965-H964","v":0.59051246180035832},16]
[null,null,null,null,9,9,7,538.82031018038856,"Oblique",0.25,null,0.42013199090968101,16]
[null,null,null,null,5,7,9,540.4659223398985,"Oblique",0.25,null,1.6456121595099376,16]
[null,null,null,null,7,6,9,540.94498580558582,"Oblique",0.25,null,0.47906346568731806,16]
[null,null,null,null,0,8,9,541.70437854627437,"Tangential",0.5,null,0.75939274068855411,16]
[null,null,null,null,1,8,9,542.36837809373105,"Oblique",0.25,null,0.6639995474566831,16]
[null,null,null,null,8,8,8,543.36003603753863,"Oblique",0.25,null,0.99165794380758143,16]
[null,null,null,null,2,8,9,544.35551711678431,"Oblique",0.25,null,0.9954810792456783,16]
[null,null,null,null,6,9,8,544.97613400179409,"Oblique",0.25,null,0.62061688500978107,16]
[null,null,null,null,3,8,9,547.65139287194108,"Oblique",0.25,null,2.6752588701469904,16]
[null,null,null,null,6,7,9,547.74216126634542,"Oblique",0.25,null,9.0768394404335595E-2,16]
[null,null,null,null,9,5,9,549.06852166832664,"Oblique",0.25,null,1.3263604019812192,16]
[null,null,null,null,8,6,9,550.83467117229611,"Oblique",0.25,null,1.7661495039694728,16]
[null,null,null,null,4,8,9,552.23257315492594,"Oblique",0.25,null,1.3979019826298327,16]
[null,null,null,null,7,9,8,553.4949830749955,"Oblique",0.25,null,1.2624099200695582,16]
[null,null,null,null,9,8,8,554.50620708846861,"Oblique",0.25,null,1.011224013473111,16]
[null,null,null,null,7,7,9,556.21864845254447,"Oblique",0.25,null,1.7124413640758576,16]
[null,null,null,null,5,8,9,558.06740563455458,"Oblique",0.25,null,1.8487571820101039,16]
[null,null,null,null,0,9,9,561.56705615622241,"Tangential",0.5,null,3.4996505216678315,16]
[null,null,null,null,9,6,9,561.83257283857802,"Oblique",0.25,null,0.2655166823556101,16]
[null,null,null,null,1,9,9,562.20759722702519,"Oblique",0.25,null,0.3750243884471729,17]
[null,null,null,null,8,9,8,563.16432201132534,"Oblique",0.25,null,0.95672478430014962,17]
[null,null,null,null,2,9,9,564.12485660467246,"Oblique",0.25,null,0.96053459334711988,17]
[null,null,null,null,6,8,9,565.11705977584177,"Oblique",0.25,null,0.99220317116930801,17]
[null,null,null,null,8,7,9,565.84144615224284,"Oblique",0.25,null,0.72438637640107117,17]
[null,null,null,null,3,9,9,567.30589009663697,"Oblique",0.25,null,1.4644439443941337,17]
[null,null,null,null,4,9,9,571.72960363888023,"Oblique",0.25,null,4.423713542243263,17]
[null,null,null,null,7,8,9,573.33672558745127,"Oblique",0.25,null,1.6071219485710344,17]
[null,null,null,null,9,9,8,573.92600439725686,"Oblique",0.25,null,0.58927880980559166,17]
[null,null,null,null,9,7,9,576.55316070643983,"Oblique",0.25,null,2.6271563091829648,17]
[null,null,null,null,5,9,9,577.36743418333094,"Oblique",0.25,null,0.81427347689111684,17]
[null,null,null,null,8,8,9,582.67689005539478,"Oblique",0.25,null,5.3094558720638361,17]
[null,null,null,null,6,9,9,584.18423127764481,"Oblique",0.25,null,1.5073412222500338,17]
[null,null,null,null,7,9,9,592.13927899701173,"Oblique",0.25,null,7.9550477193669167,17]
[null,null,null,null,9,8,9,593.08461718506157,"Oblique",0.25,null,0.94533818804984548,17]
[null,null,null,null,8,9,9,601.18739426936349,"Oblique",0.25,null,8.1027770843019198,17]
[null,null,null,null,9,9,9,611.28004054223095,"Oblique",0.25,null,10.092646272867455,17]

{"sheet":"Mode Strength","index":1,"n_rows":1000,"n_cols":17,"rows_kept":1000,"cut":false,"hidden":false,"merged":[[2,6,3,6],[42,16,45,19]]}
["f","Strength","Interval **","No Support\nAlerts","0.5% Near\nCo-Incidence",null,null,"** NOTE:"]
[26.829532605304212,1,null,null,null,null,null,"IDEAL Interval should not be greater than 5.611807",5.6118069999999998,1,0,{"$f":"I2/50","v":0.11223614}]
[35.903403757828812,{"$f":"IF(A3=A2,B2+1,1)","v":1},{"$f":"((A3-A2)/A3)*100","v":25.273010920436821},{"$f":"IF(C3>I2,J2,K2)","v":1},{"$f":"IF(C3<(A2*1.005)-(A2),J2,K2)","v":0},null,null,null,5.6118069999999998,1,0,{"$f":"I3/50","v":0.11223614}]
[44.820511166392983,{"$f":"IF(A4=A3,B3+1,1)","v":1},{"$f":"((A4-A3)/A4)*100","v":19.895148842591372},1,{"$f":"IF(C4<(A3*1.005)-(A3),J3,K3)","v":0},null,null,null,5.6118069999999998,1,0,0.11223614]
[51.031840949554898,1,12.171478958209308,1,0,null,null,null,5.6118069999999998,1,0,0.11223614]
[53.659065210608425,1,4.8961424332344201,0,0,null,null,null,5.6118069999999998,1,0,0.11223614]
[57.654770925915138,1,6.930399082568707,1,0,null,null,null,5.6118069999999998,1,0,0.11223614]
[62.396339572913604,1,7.5991134727665859,1,0,null,null,null,5.6118069999999998,1,0,0.11223614]
[64.562757691055936,1,3.3555228983697081,0,0,null,null,null,5.6118069999999998,1,0,0.11223614]
[67.920004504692329,1,4.9429425662132491,0,0,null,null,null,5.6118069999999998,1,0,0.11223614]
[71.806807515657624,1,5.4128614618018904,0,0,null,null,null,5.6118069999999998,1,0,0.11223614]
[74.050955901845015,1,3.0305461406359462,0,0,null,null,null,5.6118069999999998,1,0,0.11223614]
[76.655341793053054,1,3.3975269437048725,0,0,null,null,null,5.6118069999999998,1,0,0.11223614]
[80.488597815912641,1,4.7624832918902582,0,0,null,null,null,5.6118069999999998,1,0,0.11223614]
[82.295798625292363,1,2.1959818600318028,0,0,null,null,null,5.6118069999999998,1,0,0.11223614]
[88.093509387987112,1,6.5813143362924693,1,0,null,null,null,5.6118069999999998,1,0,0.11223614]
[88.133244464103385,1,4.5085230162446546E-2,0,1,null,null,null,5.6118069999999998,1,0,0.11223614]
[89.641022332785965,1,1.6820177073450391,0,0,null,null,null,5.6118069999999998,1,0,0.11223614]
[92.088491225073582,1,2.6577359013362001,0,0,null,null,null,5.6118069999999998,1,0,0.11223614]
[95.303007135516992,1,3.3729427927415756,0,0,null,null,null,5.6118069999999998,1,0,0.11223614]
[101.84162984983145,1,6.4203830240696789,1,0,null,null,null,5.6118069999999998,1,0,0.11223614]
[102.0636818991098,1,0.21756225637425608,0,1,null,null,null,5.6118069999999998,1,0,0.11223614]
[103.14922043121655,1,1.0523962542505374,0,0,null,null,null,5.6118069999999998,1,0,0.11223614]
[105.53112802686114,1,2.2570663653271268,0,0,null,null,null,5.6118069999999998,1,0,0.11223614]
[107.31813042121685,1,1.6651449175846049,0,0,null,null,null,5.6118069999999998,1,0,0.11223614]
[107.71021127348642,1,0.36401456058241483,0,1,null,null,null,5.6118069999999998,1,0,0.11223614]
[107.863951271787,1,0.14253139857003569,0,1,null,null,null,5.6118069999999998,1,0,0.11223614]
[108.19449877050289,1,0.30551229727218321,0,1,null,null,null,5.6118069999999998,1,0,0.11223614]
[111.00141184867047,1,2.5287183571991676,0,0,null,null,null,5.6118069999999998,1,0,0.11223614]
[111.47140164194326,1,0.42162365086467629,0,1,null,null,null,5.6118069999999998,1,0,0.11223614]
[113.16463899338426,1,1.4962601096089632,0,0,null,null,null,5.6118069999999998,1,0,0.11223614]
[115.30954185183028,1,1.8601260780327793,0,0,null,null,null,5.6118069999999998,1,0,0.11223614]
[118.83362280014011,1,2.9655587915861097,0,0,null,null,null,5.6118069999999998,1,0,0.11223614]
[119.18782825137703,1,0.29718257009421567,0,1,null,null,null,5.6118069999999998,1,0,0.11223614]
[119.32678146444373,1,0.11644763343265378,0,1,null,null,null,5.6118069999999998,1,0,0.11223614]
[120.33613294374805,1,0.83877672866233488,0,0,null,null,null,5.6118069999999998,1,0,0.11223614]
[120.76980104097497,1,0.35908653776764771,0,1,null,null,null,5.6118069999999998,1,0,0.11223614]
[122.17021823299993,1,1.1462836133714032,0,0,null,null,null,5.6118069999999998,1,0,0.11223614]
[124.13897175828247,1,1.5859270440196658,0,0,null,null,null,5.6118069999999998,1,0,0.11223614]
[124.79267914582721,1,0.52383472493674754,0,1,null,null,null,5.6118069999999998,1,0,0.11223614]
[127.64417960961815,1,2.2339447615330807,0,0,null,null,null,5.6118069999999998,1,0,0.11223614]
[129.12551538211187,1,1.1472060871239207,0,0,null,null,null,5.6118069999999998,1,0,0.11223614]
[129.98234319004411,1,0.65918784575185441,0,0,null,null,null,5.6118069999999998,1,0,0.11223614,null,null,null,null,"If you found this spreadsheet helpful, please send a donation via PayPal to erika@jhbrandt.net"]
[130.70973063454792,1,0.55649066138581949,0,1,null,null,null,5.6118069999999998,1,0,0.11223614]
[134.14766302652106,1,2.56279708077617,0,0,null,null,null,5.6118069999999998,1,0,0.11223614]
[134.46153349917893,1,0.23342770567151436,0,1,null,null,null,5.6118069999999998,1,0,0.11223614]
[134.84978287921746,1,0.28791249918902617,0,1,null,null,null,5.6118069999999998,1,0,0.11223614]
[135.84000900938466,1,0.72896500625142802,0,0,null,null,null,5.6118069999999998,1,0,0.11223614]
[138.84396822835583,1,2.1635503920707464,0,0,null,null,null,5.6118069999999998,1,0,0.11223614]
[138.86918267518794,1,1.8156977917184992E-2,0,1,null,null,null,5.6118069999999998,1,0,0.11223614]
[143.52645848824429,1,3.2448900795791631,0,0,null,null,null,5.6118069999999998,1,0,0.11223614]
[143.61361503131525,1,6.0688217514722552E-2,0,1,null,null,null,5.6118069999999998,1,0,0.11223614]
[143.81986226405408,1,0.14340664042645304,0,1,null,null,null,5.6118069999999998,1,0,0.11223614]
[146.09823490440226,1,1.5594799224227509,0,0,null,null,null,5.6118069999999998,1,0,0.11223614]
[147.94897325623921,1,1.2509301761976939,0,0,null,null,null,5.6118069999999998,1,0,0.11223614]
[148.10191180369003,1,0.10326574828658322,0,1,null,null,null,5.6118069999999998,1,0,0.11223614]
[148.38626882357329,1,0.19163297395215942,0,1,null,null,null,5.6118069999999998,1,0,0.11223614]
[148.49790283625259,1,7.5175480964469438E-2,0,1,null,null,null,5.6118069999999998,1,0,0.11223614]
[150.79226967985073,1,1.5215414214994871,0,0,null,null,null,5.6118069999999998,1,0,0.11223614]
[152.04825132070539,1,0.8260414900829719,0,0,null,null,null,5.6118069999999998,1,0,0.11223614]
[152.15719865017149,1,7.1601823924603361E-2,0,1,null,null,null,5.6118069999999998,1,0,0.11223614]
[152.39170148438419,1,0.15388162998936053,0,1,null,null,null,5.6118069999999998,1,0,0.11223614]
[152.41102064176161,1,1.2675695823095037E-2,0,1,null,null,null,5.6118069999999998,1,0,0.11223614]
[153.0955228486647,1,0.44710791939991773,0,1,null,null,null,5.6118069999999998,1,0,0.11223614]
[153.31068358610611,1,0.14034295093372573,0,1,null,null,null,5.6118069999999998,1,0,0.11223614]
[154.75446046199303,1,0.93294685760706086,0,0,null,null,null,5.6118069999999998,1,0,0.11223614]
[155.42864258599536,1,0.43375668267148243,{"$f":"IF(C67>I66,J66,K66)","v":0},1,null,null,null,5.6118069999999998,1,0,{"$f":"I67/50","v":0.11223614}]
[157.2491447280515,{"$f":"IF(A68=A67,B67+1,1)","v":1},{"$f":"((A68-A67)/A68)*100","v":1.1577183107765323},0,{"$f":"IF(C68<(A67*1.005)-(A67),J67,K67)","v":0},null,null,null,5.6118069999999998,1,0,0.11223614]
[157.7903040578162,1,0.34296107926023695,0,1,null,null,null,5.6118069999999998,1,0,0.11223614]
[159.52152625123284,1,1.0852592964100116,0,0,null,null,null,5.6118069999999998,1,0,0.11223614]
[160.38366350842927,1,0.53754680391816323,0,1,null,null,null,5.6118069999999998,1,0,0.11223614]
[160.486952403516,1,6.4359683787273206E-2,0,1,null,null,null,5.6118069999999998,1,0,0.11223614]
[160.97719563182528,1,0.30454203552565851,0,1,null,null,null,5.6118069999999998,1,0,0.11223614]
[161.58098431541939,1,0.37367558203226348,0,1,null,null,null,5.6118069999999998,1,0,0.11223614]
[162.22679925210366,1,0.3980938659097043,0,1,null,null,null,5.6118069999999998,1,0,0.11223614]
[164.59159725058473,1,1.4367671484958902,0,0,null,null,null,5.6118069999999998,1,0,0.11223614]
[164.6307529009527,1,2.3783922309783205E-2,0,1,null,null,null,5.6118069999999998,1,0,0.11223614]
[164.93244651942993,1,0.18291950725516545,0,1,null,null,null,5.6118069999999998,1,0,0.11223614]
[166.15230602366015,1,0.7341815069701807,0,1,null,null,null,5.6118069999999998,1,0,0.11223614]
[168.56034722994525,1,1.4285929317647428,0,0,null,null,null,5.6118069999999998,1,0,0.11223614]
[168.81024599755042,1,0.14803530800423112,0,1,null,null,null,5.6118069999999998,1,0,0.11223614]
[168.87245572972407,1,3.6838294264641323E-2,0,1,null,null,null,5.6118069999999998,1,0,0.11223614]
[169.0989554133813,1,0.13394505193928261,0,1,null,null,null,5.6118069999999998,1,0,0.11223614]
[171.21413651248486,1,1.2354009675768296,0,0,null,null,null,5.6118069999999998,1,0,0.11223614]
[172.0380338996471,1,0.47890421000907391,0,1,null,null,null,5.6118069999999998,1,0,0.11223614]
[172.34165213226137,1,0.17617228850821359,0,1,null,null,null,5.6118069999999998,1,0,0.11223614]
[172.35873517589764,1,9.9113303534214964E-3,0,1,null,null,null,5.6118069999999998,1,0,0.11223614]
[172.64692498155097,1,0.16692437799522208,0,1,null,null,null,5.6118069999999998,1,0,0.11223614]
[172.96431277774542,1,0.18349900687449186,0,1,null,null,null,5.6118069999999998,1,0,0.11223614]
[176.18701877597422,1,1.8291392978994367,0,0,null,null,null,5.6118069999999998,1,0,0.11223614]
[176.26648892820677,1,4.5085230162446546E-2,0,1,null,null,null,5.6118069999999998,1,0,0.11223614]
[176.65137388674742,1,0.21787827067079896,0,1,null,null,null,5.6118069999999998,1,0,0.11223614]
[177.40843272283604,1,0.42673215949738158,0,1,null,null,null,5.6118069999999998,1,0,0.11223614]
[178.21809505486411,1,0.45430983412700909,0,1,null,null,null,5.6118069999999998,1,0,0.11223614]
[179.28204466557193,1,0.59345017661555954,0,1,null,null,null,5.6118069999999998,1,0,0.11223614]
[179.44730117434699,1,9.2091944372291942E-2,0,1,null,null,null,5.6118069999999998,1,0,0.11223614]
[179.51701878914406,1,3.8836214676091135E-2,0,1,null,null,null,5.6118069999999998,1,0,0.11223614]
[181.51083674194493,1,1.0984567029656145,0,0,null,null,null,5.6118069999999998,1,0,0.11223614]
[183.12745805172707,1,0.88278477022572344,0,1,null,null,null,5.6118069999999998,1,0,0.11223614]
[183.21792560737725,1,4.937702211739043E-2,0,1,null,null,null,5.6118069999999998,1,0,0.11223614]
[183.50510595015689,1,0.15649719461083453,0,1,null,null,null,5.6118069999999998,1,0,0.11223614]
[184.17698245014716,1,0.36479938538038481,0,1,null,null,null,5.6118069999999998,1,0,0.11223614]
[186.40359527157406,1,1.1945117357757578,0,0,null,null,null,5.6118069999999998,1,0,0.11223614]
[186.62960329391095,1,0.1210997710695227,0,1,null,null,null,5.6118069999999998,1,0,0.11223614]
[186.96368693789529,1,0.17868905425218598,0,1,null,null,null,5.6118069999999998,1,0,0.11223614]
[187.18901871874078,1,0.12037660242455998,0,1,null,null,null,5.6118069999999998,1,0,0.11223614]
[187.27752427952601,1,4.7259040360401711E-2,0,1,null,null,null,5.6118069999999998,1,0,0.11223614]
[187.36503226114053,1,4.6704542762577586E-2,0,1,null,null,null,5.6118069999999998,1,0,0.11223614]
[187.80672823712951,1,0.23518644946057596,0,1,null,null,null,5.6118069999999998,1,0,0.11223614]
[188.54822366031894,1,0.39326566370908017,0,1,null,null,null,5.6118069999999998,1,0,0.11223614]
[189.10196336554566,1,0.29282599470228948,0,1,null,null,null,5.6118069999999998,1,0,0.11223614]
[190.37981677375626,1,0.67121264736228847,0,1,null,null,null,5.6118069999999998,1,0,0.11223614]
[190.60601427103398,1,0.1186728016651564,0,1,null,null,null,5.6118069999999998,1,0,0.11223614]
[191.20779684032942,1,0.31472700341710641,0,1,null,null,null,5.6118069999999998,1,0,0.11223614]
[193.68827307316781,1,1.2806538018444504,0,0,null,null,null,5.6118069999999998,1,0,0.11223614]
[193.7015228735624,1,6.8403181338117401E-3,0,1,null,null,null,5.6118069999999998,1,0,0.11223614]
[193.95800338652515,1,0.13223507588476829,0,1,null,null,null,5.6118069999999998,1,0,0.11223614]
[194.19038108237726,1,0.11966488481915659,0,1,null,null,null,5.6118069999999998,1,0,0.11223614]
[194.61658706758703,1,0.21899776973365701,0,1,null,null,null,5.6118069999999998,1,0,0.11223614]
[194.72807709254826,1,5.7254211424395587E-2,0,1,null,null,null,5.6118069999999998,1,0,0.11223614]
[196.52090453140056,1,0.91228332330713313,0,1,null,null,null,5.6118069999999998,1,0,0.11223614]
[196.73529020822278,1,0.1089716423501417,0,1,null,null,null,5.6118069999999998,1,0,0.11223614]
[197.90065781404914,1,0.58886494804952128,0,1,null,null,null,5.6118069999999998,1,0,0.11223614]
[200.03519757997293,1,1.067082089425994,0,0,null,null,null,5.6118069999999998,1,0,0.11223614]
[200.2789001342928,1,0.12168159209804807,0,1,null,null,null,5.6118069999999998,1,0,0.11223614]
[200.29826738333682,1,9.669204480415158E-3,0,1,null,null,null,5.6118069999999998,1,0,0.11223614]
[201.06612040999278,1,0.38189080541775583,0,1,null,null,null,5.6118069999999998,1,0,0.11223614]
[203.03870248930505,1,0.97153008521426099,0,1,null,null,null,5.6118069999999998,1,0,0.11223614]
[203.24621325873284,1,0.10209822170887044,0,1,null,null,null,5.6118069999999998,1,0,0.11223614]
[203.55302653555179,1,0.15072891916218709,0,1,null,null,null,5.6118069999999998,1,0,0.11223614]
[203.6832596996629,1,6.3939061218450929E-2,{"$f":"IF(C131>I130,J130,K130)","v":0},1,null,null,null,5.6118069999999998,1,0,{"$f":"I131/50","v":0.11223614}]
[203.76001351407697,{"$f":"IF(A132=A131,B131+1,1)","v":1},{"$f":"((A132-A131)/A132)*100","v":3.7668732490917893E-2},0,{"$f":"IF(C132<(A131*1.005)-(A131),J131,K131)","v":1},null,null,null,5.6118069999999998,1,0,0.11223614]
[204.12736379821959,1,0.17996131302893018,0,1,null,null,null,5.6118069999999998,1,0,0.11223614]
[205.88298732782602,1,0.85272880114710869,0,1,null,null,null,5.6118069999999998,1,0,0.11223614]
[206.2984408624331,1,0.20138471860004034,0,1,null,null,null,5.6118069999999998,1,0,0.11223614]
[206.50267600625563,1,9.8901935690335896E-2,0,1,null,null,null,5.6118069999999998,1,0,0.11223614]
[206.69515962687836,1,9.3124396802617707E-2,0,1,null,null,null,5.6118069999999998,1,0,0.11223614]
[207.26078995460858,1,0.27290754216178331,0,1,null,null,null,5.6118069999999998,1,0,0.11223614]
[207.44115687930972,1,8.6948476095354194E-2,0,1,null,null,null,5.6118069999999998,1,0,0.11223614]
[208.23827462203883,1,0.3827911771627554,0,1,null,null,null,5.6118069999999998,1,0,0.11223614]
[208.99009276142124,1,0.35973865050180537,0,1,null,null,null,5.6118069999999998,1,0,0.11223614]
[209.14956646392363,1,7.6248641199026232E-2,0,1,null,null,null,5.6118069999999998,1,0,0.11223614]
[209.91214719179268,1,0.36328565929645551,0,1,null,null,null,5.6118069999999998,1,0,0.11223614]
[211.06225605372228,1,0.54491451168647376,0,1,null,null,null,5.6118069999999998,1,0,0.11223614]
[211.61978489377574,1,0.26345780491806126,0,1,null,null,null,5.6118069999999998,1,0,0.11223614]
[213.36037700805861,1,0.81579913697711526,0,1,null,null,null,5.6118069999999998,1,0,0.11223614]
[213.74836217837483,1,0.18151492079852777,0,1,null,null,null,5.6118069999999998,1,0,0.11223614]
[214.09420901062387,1,0.16153955487505775,0,1,null,null,null,5.6118069999999998,1,0,0.11223614]
[214.6362608424337,1,0.25254438820463504,0,1,null,null,null,5.6118069999999998,1,0,0.11223614]
[215.28536862208699,1,0.30151040166261328,0,1,null,null,null,5.6118069999999998,1,0,0.11223614]
[215.42042254697284,1,6.2693185394900833E-2,0,1,null,null,null,5.6118069999999998,1,0,0.11223614]
[215.727902543574,1,0.14253139857003569,0,1,null,null,null,5.6118069999999998,1,0,0.11223614]
[215.77050272451609,1,1.9743282980842727E-2,0,1,null,null,null,5.6118069999999998,1,0,0.11223614]
[215.84728911286737,1,3.5574404787232873E-2,0,1,null,null,null,5.6118069999999998,1,0,0.11223614]
[216.38899754100578,1,0.25034009783041417,0,1,null,null,null,5.6118069999999998,1,0,0.11223614]
[216.50140134353427,1,5.1918279434197877E-2,0,1,null,null,null,5.6118069999999998,1,0,0.11223614]
[216.66195978515736,1,7.4105506006825389E-2,0,1,null,null,null,5.6118069999999998,1,0,0.11223614]
[216.74274321262837,1,3.7271571944512444E-2,0,1,null,null,null,5.6118069999999998,1,0,0.11223614]
[217.0847352305901,1,0.15753849186975818,0,1,null,null,null,5.6118069999999998,1,0,0.11223614]
[217.61842493184926,1,0.24524104584724254,0,1,null,null,null,5.6118069999999998,1,0,0.11223614]
[218.04591735829513,1,0.19605614800088486,0,1,null,null,null,5.6118069999999998,1,0,0.11223614]
[218.93410490115215,1,0.40568715562065505,0,1,null,null,null,5.6118069999999998,1,0,0.11223614]
[219.42286806434382,1,0.22274941873804049,0,1,null,null,null,5.6118069999999998,1,0,0.11223614]
[220.61952148239718,1,0.54240595302389749,0,1,null,null,null,5.6118069999999998,1,0,0.11223614]
[221.38249081853107,1,0.34463851830057513,0,1,null,null,null,5.6118069999999998,1,0,0.11223614]
[221.44403600152012,1,2.7792657729841883E-2,0,1,null,null,null,5.6118069999999998,1,0,0.11223614]
[221.63431497878733,1,8.5852670100035652E-2,0,1,null,null,null,5.6118069999999998,1,0,0.11223614]
[221.68170137959163,1,2.1375873835954746E-2,0,1,null,null,null,5.6118069999999998,1,0,0.11223614]
[222.00282369734094,1,0.14464785285213475,0,1,null,null,null,5.6118069999999998,1,0,0.11223614]
[222.15286770553504,1,6.7540882881145167E-2,0,1,null,null,null,5.6118069999999998,1,0,0.11223614]
[222.34084067255864,1,8.4542707698234007E-2,0,1,null,null,null,5.6118069999999998,1,0,0.11223614]
[222.43449726698142,1,4.2105246970917956E-2,0,1,null,null,null,5.6118069999999998,1,0,0.11223614]
[222.94280328388652,1,0.22799839663711347,0,1,null,null,null,5.6118069999999998,1,0,0.11223614]
[223.00231178361372,1,2.6685149248562082E-2,0,1,null,null,null,5.6118069999999998,1,0,0.11223614]
[223.5218728905956,1,0.23244307157187491,0,1,null,null,null,5.6118069999999998,1,0,0.11223614]
[224.10255583196491,1,0.25911482321723611,0,1,null,null,null,5.6118069999999998,1,0,0.11223614]
[224.81442106110669,1,0.31664571417697762,0,1,null,null,null,5.6118069999999998,1,0,0.11223614]
[225.03544394426098,1,9.8216920534987276E-2,0,1,null,null,null,5.6118069999999998,1,0,0.11223614]
[225.48742745334692,1,0.20044732169356255,0,1,null,null,null,5.6118069999999998,1,0,0.11223614]
[226.32927798676852,1,0.37195829939015129,0,1,null,null,null,5.6118069999999998,1,0,0.11223614]
[227.79267442192543,1,0.64242471311713734,0,1,null,null,null,5.6118069999999998,1,0,0.11223614]
[229.8395186235814,1,0.89055364104211399,0,1,null,null,null,5.6118069999999998,1,0,0.11223614]
[229.96602537915911,1,5.501106320776232E-2,0,1,null,null,null,5.6118069999999998,1,0,0.11223614]
[230.29399519822948,1,0.14241353483319003,0,1,null,null,null,5.6118069999999998,1,0,0.11223614]
[230.61908370366055,1,0.14096340173166189,0,1,null,null,null,5.6118069999999998,1,0,0.11223614]
[230.80179865804723,1,7.9165307830806969E-2,0,1,null,null,null,5.6118069999999998,1,0,0.11223614]
[230.8735858325355,1,3.1093714869718906E-2,0,1,null,null,null,5.6118069999999998,1,0,0.11223614]
[232.01118693871769,1,0.49032166129242244,0,1,null,null,null,5.6118069999999998,1,0,0.11223614]
[232.35596416620953,1,0.14838320536726973,0,1,null,null,null,5.6118069999999998,1,0,0.11223614]
[232.7241635818032,1,0.15821280004911989,0,1,null,null,null,5.6118069999999998,1,0,0.11223614]
[233.39712116843617,1,0.28833157121390568,0,1,null,null,null,5.6118069999999998,1,0,0.11223614]
[233.46972873454848,1,3.1099349155823169E-2,0,1,null,null,null,5.6118069999999998,1,0,0.11223614]
[235.56022928200065,1,0.88745903916977664,0,1,null,null,null,5.6118069999999998,1,0,0.11223614]
[235.75472562766188,1,8.2499447314753949E-2,0,1,null,null,null,5.6118069999999998,1,0,0.11223614]
[235.93346339857752,1,7.5757702337323193E-2,{"$f":"IF(C195>I194,J194,K194)","v":0},1,null,null,null,5.6118069999999998,1,0,{"$f":"I195/50","v":0.11223614}]
[236.42385157487354,{"$f":"IF(A196=A195,B195+1,1)","v":1},{"$f":"((A196-A195)/A196)*100","v":0.20741907934814285},0,{"$f":"IF(C196<(A195*1.005)-(A195),J195,K195)","v":1},null,null,null,5.6118069999999998,1,0,0.11223614]
[236.95730742702597,1,0.22512741132354111,0,1,null,null,null,5.6118069999999998,1,0,0.11223614]
[237.45404391390559,1,0.20919268364186289,0,1,null,null,null,5.6118069999999998,1,0,0.11223614]
[237.66724560028021,1,8.9705960884988681E-2,0,1,null,null,null,5.6118069999999998,1,0,0.11223614]
[238.37565650275405,1,0.29718257009421567,0,1,null,null,null,5.6118069999999998,1,0,0.11223614]
[238.65356292888745,1,0.11644763343265378,0,1,null,null,null,5.6118069999999998,1,0,0.11223614]
[239.35298608230642,1,0.2922140913581297,0,1,null,null,null,5.6118069999999998,1,0,0.11223614]
[239.880756695776,1,0.22001373546562528,0,1,null,null,null,5.6118069999999998,1,0,0.11223614]
[240.14623478414214,1,0.11054851166197341,0,1,null,null,null,5.6118069999999998,1,0,0.11223614]
[240.36383678211993,1,9.0530256502371523E-2,0,1,null,null,null,5.6118069999999998,1,0,0.11223614]
[240.67226588749611,1,0.12815315642574066,0,1,null,null,null,5.6118069999999998,1,0,0.11223614]
[241.12241195796972,1,0.18668777689237487,0,1,null,null,null,5.6118069999999998,1,0,0.11223614]
[241.46579344773792,1,0.14220709478774513,0,1,null,null,null,5.6118069999999998,1,0,0.11223614]
[241.53960208194994,1,3.0557570508446975E-2,0,1,null,null,null,5.6118069999999998,1,0,0.11223614]
[241.86873792244936,1,0.13608035636459545,0,1,null,null,null,5.6118069999999998,1,0,0.11223614]
[241.95845600128186,1,3.7079951788099183E-2,0,1,null,null,null,5.6118069999999998,1,0,0.11223614]
[242.30065267646521,1,0.14122812770144177,0,1,null,null,null,5.6118069999999998,1,0,0.11223614]
[244.1204289008671,1,0.7454420068796741,0,1,null,null,null,5.6118069999999998,1,0,0.11223614]
[244.26128663111501,1,5.7666825631947229E-2,0,1,null,null,null,5.6118069999999998,1,0,0.11223614]
[244.34043646599986,1,3.2393260824783172E-2,0,1,null,null,null,5.6118069999999998,1,0,0.11223614]
[244.43380421325014,1,3.8197559274095856E-2,0,1,null,null,null,5.6118069999999998,1,0,0.11223614]
[244.94624040560149,1,0.20920353441751632,0,1,null,null,null,5.6118069999999998,1,0,0.11223614]
[245.50858003683084,1,0.22905090777071338,0,1,null,null,null,5.6118069999999998,1,0,0.11223614]
[246.02314598045911,1,0.20915346870214413,0,1,null,null,null,5.6118069999999998,1,0,0.11223614]
[246.24977298105603,1,9.2031354122042094E-2,0,1,null,null,null,5.6118069999999998,1,0,0.11223614]
[246.46351928658632,1,8.6725332069023206E-2,0,1,null,null,null,5.6118069999999998,1,0,0.11223614]
[246.79946960244121,1,0.13612278680989698,0,1,null,null,null,5.6118069999999998,1,0,0.11223614]
[246.88586542790458,1,3.4994237241418487E-2,0,1,null,null,null,5.6118069999999998,1,0,0.11223614]
[246.88739587587708,1,6.1989716691261936E-4,0,1,null,null,null,5.6118069999999998,1,0,0.11223614]
[248.27794351656493,1,0.56007699314420978,0,1,null,null,null,5.6118069999999998,1,0,0.11223614]
[249.11584661387135,1,0.33635078165267018,0,1,null,null,null,5.6118069999999998,1,0,0.11223614]
[249.28500462245947,1,6.7857273984169852E-2,0,1,null,null,null,5.6118069999999998,1,0,0.11223614]
[249.39733879382911,1,4.5042249413295904E-2,0,1,null,null,null,5.6118069999999998,1,0,0.11223614]
[249.58535829165442,1,7.5332743519993445E-2,0,1,null,null,null,5.6118069999999998,1,0,0.11223614]
[251.02325568240204,1,0.57281441388317789,0,1,null,null,null,5.6118069999999998,1,0,0.11223614]
[251.32382630480166,1,0.1195949571590125,0,1,null,null,null,5.6118069999999998,1,0,0.11223614]
[251.59763113251032,1,0.10882647283926644,0,1,null,null,null,5.6118069999999998,1,0,0.11223614]
[251.91654771161089,1,0.12659612161153577,0,1,null,null,null,5.6118069999999998,1,0,0.11223614]
[252.71688485938515,1,0.31669318344897102,0,1,null,null,null,5.6118069999999998,1,0,0.11223614]
[252.75183379810559,1,1.382737295918645E-2,0,1,null,null,null,5.6118069999999998,1,0,0.11223614]
[253.77461249264744,1,0.40302640382180638,0,1,null,null,null,5.6118069999999998,1,0,0.11223614]
[254.53222071261447,1,0.29764727540032537,0,1,null,null,null,5.6118069999999998,1,0,0.11223614]
[254.5973168599356,1,2.5568277043917273E-2,0,1,null,null,null,5.6118069999999998,1,0,0.11223614]
[255.15920474777448,1,0.22021070664266493,0,1,null,null,null,5.6118069999999998,1,0,0.11223614]
[255.2883592192363,1,5.059160231857722E-2,0,1,null,null,null,5.6118069999999998,1,0,0.11223614]
[256.45255791117933,1,0.45396259699084018,0,1,null,null,null,5.6118069999999998,1,0,0.11223614]
[256.56586598247202,1,4.4163346070530497E-2,0,1,null,null,null,5.6118069999999998,1,0,0.11223614]
[256.9882506025566,1,0.16435950635650715,0,1,null,null,null,5.6118069999999998,1,0,0.11223614]
[257.03345268979484,1,1.7586071682580015E-2,0,1,null,null,null,5.6118069999999998,1,0,0.11223614]
[257.51355839314658,1,0.18643900008509881,0,1,null,null,null,5.6118069999999998,1,0,0.11223614]
[257.67280448063269,1,6.1801666577537363E-2,0,1,null,null,null,5.6118069999999998,1,0,0.11223614]
[257.85216361125589,1,6.9558900771375165E-2,0,1,null,null,null,5.6118069999999998,1,0,0.11223614]
[258.25103076422374,1,0.15444939436931335,0,1,null,null,null,5.6118069999999998,1,0,0.11223614]
[258.85479083164375,1,0.23324276343515341,0,1,null,null,null,5.6118069999999998,1,0,0.11223614]
[259.06581787015722,1,8.145692096640475E-2,0,1,null,null,null,5.6118069999999998,1,0,0.11223614]
[259.19448348364443,1,4.9640567869313319E-2,0,1,null,null,null,5.6118069999999998,1,0,0.11223614]
[259.80324710456745,1,0.23431717182425923,0,1,null,null,null,5.6118069999999998,1,0,0.11223614]
[259.96468638008821,1,6.2100463631712906E-2,0,1,null,null,null,5.6118069999999998,1,0,0.11223614]
[260.7403210989682,1,0.29747402151337399,0,1,null,null,null,5.6118069999999998,1,0,0.11223614]
[260.93525872101492,1,7.4707275284381966E-2,0,1,null,null,null,5.6118069999999998,1,0,0.11223614]
[261.41946126909585,1,0.18522054392213325,0,1,null,null,null,5.6118069999999998,1,0,0.11223614]
[261.83394109861223,1,0.15829873994841603,0,1,null,null,null,5.6118069999999998,1,0,0.11223614]
[262.0061253834786,1,6.5717656262563456E-2,0,1,null,null,null,5.6118069999999998,1,0,0.11223614]
[262.15019467501509,1,5.495677457538542E-2,{"$f":"IF(C259>I258,J258,K258)","v":0},1,null,null,null,5.6118069999999998,1,0,{"$f":"I259/50","v":0.11223614}]
[262.24276053295586,{"$f":"IF(A260=A259,B259+1,1)","v":1},{"$f":"((A260-A259)/A260)*100","v":3.5297774379985929E-2},0,{"$f":"IF(C260<(A259*1.005)-(A259),J259,K259)","v":1},null,null,null,5.6118069999999998,1,0,0.11223614]
[262.43226281479821,1,7.2209978990306331E-2,0,1,null,null,null,5.6118069999999998,1,0,0.11223614]
[263.200625850682,1,0.29193055046901728,0,1,null,null,null,5.6118069999999998,1,0,0.11223614]
[263.24483600155338,1,1.679430888099858E-2,0,1,null,null,null,5.6118069999999998,1,0,0.11223614]
[263.64173338970301,1,0.15054421887105029,0,1,null,null,null,5.6118069999999998,1,0,0.11223614]
[263.89785911760981,1,9.7054871442765228E-2,0,1,null,null,null,5.6118069999999998,1,0,0.11223614]
[264.28052816396132,1,0.14479653458014088,0,1,null,null,null,5.6118069999999998,1,0,0.11223614]
[264.39973339231017,1,4.5085230162457302E-2,0,1,null,null,null,5.6118069999999998,1,0,0.11223614]
[264.53122131830821,1,4.9706014035986339E-2,0,1,null,null,null,5.6118069999999998,1,0,0.11223614]
[264.5973903301882,1,2.5007431780570806E-2,0,1,null,null,null,5.6118069999999998,1,0,0.11223614]
[264.76777748959103,1,6.4353434930170067E-2,0,1,null,null,null,5.6118069999999998,1,0,0.11223614]
[265.07062714134776,1,0.114252437179785,0,1,null,null,null,5.6118069999999998,1,0,0.11223614]
[265.16239533542483,1,3.4608298797795756E-2,0,1,null,null,null,5.6118069999999998,1,0,0.11223614]
[265.6388928346928,1,0.17937791194020999,0,1,null,null,null,5.6118069999999998,1,0,0.11223614]
[266.07521114550474,1,0.16398307415918514,0,1,null,null,null,5.6118069999999998,1,0,0.11223614]
[266.42496353181036,1,0.1312761318118244,0,1,null,null,null,5.6118069999999998,1,0,0.11223614]
[266.95517556186621,1,0.19861462844460737,0,1,null,null,null,5.6118069999999998,1,0,0.11223614]
[267.55304921807272,1,0.22345985514042763,0,1,null,null,null,5.6118069999999998,1,0,0.11223614]
[268.78677206581153,1,0.45899686143659824,0,1,null,null,null,5.6118069999999998,1,0,0.11223614]
[268.92306699835785,1,5.06817559637429E-2,0,1,null,null,null,5.6118069999999998,1,0,0.11223614]
[269.27953470069974,1,0.13237831190480059,0,1,null,null,null,5.6118069999999998,1,0,0.11223614]
[269.67293680660407,1,0.14588119614926623,0,1,null,null,null,5.6118069999999998,1,0,0.11223614]
[269.69956575843491,1,9.8735612554508492E-3,0,1,null,null,null,5.6118069999999998,1,0,0.11223614]
[269.95127069026017,1,9.3240876837384107E-2,0,1,null,null,null,5.6118069999999998,1,0,0.11223614]
[270.4472825753362,1,0.18340427766652073,0,1,null,null,null,5.6118069999999998,1,0,0.11223614]
[271.25755442252438,1,0.29870941250397609,0,1,null,null,null,5.6118069999999998,1,0,0.11223614]
[271.40411685662571,1,5.4001551560380751E-2,0,1,null,null,null,5.6118069999999998,1,0,0.11223614]
[271.68001801876932,1,0.10155371902417595,0,1,null,null,null,5.6118069999999998,1,0,0.11223614]
[271.8068103888109,1,4.6647973926853617E-2,0,1,null,null,null,5.6118069999999998,1,0,0.11223614]
[271.83513512081652,1,1.0419820084341173E-2,0,1,null,null,null,5.6118069999999998,1,0,0.11223614]
[272.58115241356631,1,0.27368630814867329,0,1,null,null,null,5.6118069999999998,1,0,0.11223614]
[273.15593441470696,1,0.21042266658867825,0,1,null,null,null,5.6118069999999998,1,0,0.11223614]
[273.24564258249012,1,3.2830594089373603E-2,0,1,null,null,null,5.6118069999999998,1,0,0.11223614]
[273.27796615459397,1,1.1828093043389784E-2,0,1,null,null,null,5.6118069999999998,1,0,0.11223614]
[273.52979565048491,1,9.2066568211359168E-2,0,1,null,null,null,5.6118069999999998,1,0,0.11223614]
[273.72224015323258,1,7.0306491222609374E-2,0,1,null,null,null,5.6118069999999998,1,0,0.11223614]
[276.26547367522068,1,0.92057595477093157,0,1,null,null,null,5.6118069999999998,1,0,0.11223614]
[276.5139347493452,1,8.9854811241157143E-2,0,1,null,null,null,5.6118069999999998,1,0,0.11223614]
[276.80932225021252,1,0.10671154369588577,0,1,null,null,null,5.6118069999999998,1,0,0.11223614]
[276.96156661186006,1,5.4969490355644038E-2,0,1,null,null,null,5.6118069999999998,1,0,0.11223614]
[277.02139222716926,1,2.1596027233930837E-2,0,1,null,null,null,5.6118069999999998,1,0,0.11223614]
[277.08055862046496,1,2.1353498632410955E-2,0,1,null,null,null,5.6118069999999998,1,0,0.11223614]
[277.3794293424545,1,0.10774797637230579,0,1,null,null,null,5.6118069999999998,1,0,0.11223614]
[277.68793645671167,1,0.1110984935801345,0,1,null,null,null,5.6118069999999998,1,0,0.11223614]
[278.00197045397374,1,0.11296106885474902,0,1,null,null,null,5.6118069999999998,1,0,0.11223614]
[278.25803348675282,1,9.2023590323861162E-2,0,1,null,null,null,5.6118069999999998,1,0,0.11223614]
[279.12802669388054,1,0.31168249832606065,0,1,null,null,null,5.6118069999999998,1,0,0.11223614]
[279.13208767334436,1,1.4548594171545637E-3,0,1,null,null,null,5.6118069999999998,1,0,0.11223614]
[279.69340754430266,1,0.20069113386928464,0,1,null,null,null,5.6118069999999998,1,0,0.11223614]
[279.81258817887937,1,4.2593021047543998E-2,0,1,null,null,null,5.6118069999999998,1,0,0.11223614]
[280.94590195927123,1,0.40339217354241941,0,1,null,null,null,5.6118069999999998,1,0,0.11223614]
[281.39496757631741,1,0.15958551814697824,0,1,null,null,null,5.6118069999999998,1,0,0.11223614]
[281.66376534762833,1,9.5432144414872008E-2,0,1,null,null,null,5.6118069999999998,1,0,0.11223614]
[282.11168827145769,1,0.15877503217745445,0,1,null,null,null,5.6118069999999998,1,0,0.11223614]
[282.94712440606372,1,0.29526228137490251,0,1,null,null,null,5.6118069999999998,1,0,0.11223614]
[283.35215998656258,1,0.14294423607643197,0,1,null,null,null,5.6118069999999998,1,0,0.11223614]
[283.41526807976908,1,2.2267005456012519E-2,0,1,null,null,null,5.6118069999999998,1,0,0.11223614]
[283.50089076495743,1,3.0201910462193979E-2,0,1,null,null,null,5.6118069999999998,1,0,0.11223614]
[284.42808105752113,1,0.3259840902896588,0,1,null,null,null,5.6118069999999998,1,0,0.11223614]
[284.79545852647709,1,0.12899695481689374,0,1,null,null,null,5.6118069999999998,1,0,0.11223614]
[284.88464536363335,1,3.1306298394012132E-2,0,1,null,null,null,5.6118069999999998,1,0,0.11223614]
[285.23916050172295,1,0.12428697990346751,0,1,null,null,null,5.6118069999999998,1,0,0.11223614]
[285.54307664240275,1,0.10643442812672695,0,1,null,null,null,5.6118069999999998,1,0,0.11223614]
[285.61907615692417,1,2.660869699041318E-2,{"$f":"IF(C323>I322,J322,K322)","v":0},1,null,null,null,5.6118069999999998,1,0,{"$f":"I323/50","v":0.11223614}]
[285.79245200223772,{"$f":"IF(A324=A323,B323+1,1)","v":1},{"$f":"((A324-A323)/A324)*100","v":6.0664949021187013E-2},0,{"$f":"IF(C324<(A323*1.005)-(A323),J323,K323)","v":1},null,null,null,5.6118069999999998,1,0,0.11223614]
[285.90902140655101,1,4.077150267585461E-2,0,1,null,null,null,5.6118069999999998,1,0,0.11223614]
[285.97135956282875,1,2.1798741095277716E-2,0,1,null,null,null,5.6118069999999998,1,0,0.11223614]
[286.52323715178215,1,0.19261180853581253,0,1,null,null,null,5.6118069999999998,1,0,0.11223614]
[287.2272300626305,1,0.24509964138665924,0,1,null,null,null,5.6118069999999998,1,0,0.11223614]
[287.63972452810816,1,0.14340664042645304,0,1,null,null,null,5.6118069999999998,1,0,0.11223614]
[288.1545122378779,1,0.17864988674713725,0,1,null,null,null,5.6118069999999998,1,0,0.11223614]
[288.27385462957568,1,4.1398964831943143E-2,0,1,null,null,null,5.6118069999999998,1,0,0.11223614]
[288.42004742816948,1,5.0687460839632145E-2,0,1,null,null,null,5.6118069999999998,1,0,0.11223614]
[288.47756500163121,1,1.9938317720269865E-2,0,1,null,null,null,5.6118069999999998,1,0,0.11223614]
[289.41926327503467,1,0.32537511938469904,0,1,null,null,null,5.6118069999999998,1,0,0.11223614]
[290.31289053735111,1,0.30781521986929145,0,1,null,null,null,5.6118069999999998,1,0,0.11223614]
[290.50106654604804,1,6.4776357255507608E-2,0,1,null,null,null,5.6118069999999998,1,0,0.11223614]
[291.71534404003177,1,0.41625424194933525,0,1,null,null,null,5.6118069999999998,1,0,0.11223614]
[291.72543680685777,1,3.4596800801733572E-3,0,1,null,null,null,5.6118069999999998,1,0,0.11223614]
[292.19646980880452,1,0.16120420696901838,0,1,null,null,null,5.6118069999999998,1,0,0.11223614]
[292.25249665872468,1,1.9170700185868132E-2,0,1,null,null,null,5.6118069999999998,1,0,0.11223614]
[292.79871958374326,1,0.1865523612245025,0,1,null,null,null,5.6118069999999998,1,0,0.11223614]
[292.95657408559896,1,5.3883242712133739E-2,0,1,null,null,null,5.6118069999999998,1,0,0.11223614]
[294.02536286806719,1,0.3635022407736338,0,1,null,null,null,5.6118069999999998,1,0,0.11223614]
[294.28201573455374,1,8.7213235183916757E-2,0,1,null,null,null,5.6118069999999998,1,0,0.11223614]
[294.78837515621672,1,0.17177048497744998,0,1,null,null,null,5.6118069999999998,1,0,0.11223614]
[295.50250185846346,1,0.24166519665839886,0,1,null,null,null,5.6118069999999998,1,0,0.11223614]
[296.20382360738006,1,0.23676998506481278,0,1,null,null,null,5.6118069999999998,1,0,0.11223614]
[296.37778773399901,1,5.869674915553693E-2,0,1,null,null,null,5.6118069999999998,1,0,0.11223614]
[296.6193280274033,1,8.143107025782545E-2,0,1,null,null,null,5.6118069999999998,1,0,0.11223614]
[296.77253764714658,1,5.1625268617489409E-2,0,1,null,null,null,5.6118069999999998,1,0,0.11223614]
[296.99580567250518,1,7.5175480964469438E-2,0,1,null,null,null,5.6118069999999998,1,0,0.11223614]
[297.02675047409639,1,1.0418186759883308E-2,0,1,null,null,null,5.6118069999999998,1,0,0.11223614]
[297.08253544862657,1,1.8777601465512744E-2,0,1,null,null,null,5.6118069999999998,1,0,0.11223614]
[297.55812446465779,1,0.15983062700333348,0,1,null,null,null,5.6118069999999998,1,0,0.11223614]
[297.67496614454473,1,3.9251429638257097E-2,0,1,null,null,null,5.6118069999999998,1,0,0.11223614]
[297.84573132104111,1,5.7333430880137259E-2,0,1,null,null,null,5.6118069999999998,1,0,0.11223614]
[297.98282319849602,1,4.6006637558294913E-2,0,1,null,null,null,5.6118069999999998,1,0,0.11223614]
[298.29162922855045,1,0.10352487290812326,0,1,null,null,null,5.6118069999999998,1,0,0.11223614]
[298.37184773538803,1,2.6885414105396448E-2,0,1,null,null,null,5.6118069999999998,1,0,0.11223614]
[298.45824361537251,1,2.8947392753479826E-2,0,1,null,null,null,5.6118069999999998,1,0,0.11223614]
[298.91068062301008,1,0.15136194086292606,0,1,null,null,null,5.6118069999999998,1,0,0.11223614]
[299.13408375520908,1,7.4683275604866831E-2,0,1,null,null,null,5.6118069999999998,1,0,0.11223614]
[300.21964294011491,1,0.36158832722426837,0,1,null,null,null,5.6118069999999998,1,0,0.11223614]
[300.88550885725215,1,0.22130208917875907,0,1,null,null,null,5.6118069999999998,1,0,0.11223614]
[301.5559091153462,1,0.22231375271695233,0,1,null,null,null,5.6118069999999998,1,0,0.11223614]
[301.58453935970147,1,9.4932732347802855E-3,0,1,null,null,null,5.6118069999999998,1,0,0.11223614]
[301.69500705348713,1,3.6615685113436616E-2,0,1,null,null,null,5.6118069999999998,1,0,0.11223614]
[302.6156908138866,1,0.30424191089473446,0,1,null,null,null,5.6118069999999998,1,0,0.11223614]
[302.62542004683559,1,3.2149424022208405E-3,0,1,null,null,null,5.6118069999999998,1,0,0.11223614]
[302.78964971193074,1,5.4238863597680723E-2,0,1,null,null,null,5.6118069999999998,1,0,0.11223614]
[303.13352863322399,1,0.11344140083868097,0,1,null,null,null,5.6118069999999998,1,0,0.11223614]
[303.47046113955474,1,0.11102645874183173,0,1,null,null,null,5.6118069999999998,1,0,0.11223614]
[303.66017942471689,1,6.2477169552347736E-2,0,1,null,null,null,5.6118069999999998,1,0,0.11223614]
[303.82384975903608,1,5.3870140362252718E-2,0,1,null,null,null,5.6118069999999998,1,0,0.11223614]
[304.09650264141078,1,8.9659986223587507E-2,0,1,null,null,null,5.6118069999999998,1,0,0.11223614]
[304.78340296876837,1,0.22537327186020659,0,1,null,null,null,5.6118069999999998,1,0,0.11223614]
[304.82204128352322,1,1.2675695823095037E-2,0,1,null,null,null,5.6118069999999998,1,0,0.11223614]
[305.09067367450592,1,8.805001731036198E-2,0,1,null,null,null,5.6118069999999998,1,0,0.11223614]
[305.18246710941344,1,3.0078213790245605E-2,0,1,null,null,null,5.6118069999999998,1,0,0.11223614]
[305.52488954949439,1,0.11207677403496136,0,1,null,null,null,5.6118069999999998,1,0,0.11223614]
[306.00049129384257,1,0.15542515710913585,0,1,null,null,null,5.6118069999999998,1,0,0.11223614]
[306.1910456973294,1,6.2233826287393136E-2,0,1,null,null,null,5.6118069999999998,1,0,0.11223614]
[306.62136717221222,1,0.14034295093372573,0,1,null,null,null,5.6118069999999998,1,0,0.11223614]
[307.36424692056028,1,0.24169361133927203,0,1,null,null,null,5.6118069999999998,1,0,0.11223614]
[307.49366412968374,1,4.2087764471426314E-2,0,1,null,null,null,5.6118069999999998,1,0,0.11223614]
[307.73902072303542,1,7.9728788625901145E-2,0,1,null,null,null,5.6118069999999998,1,0,0.11223614]
[308.28884324059101,1,0.17834655051934439,{"$f":"IF(C387>I386,J386,K386)","v":0},1,null,null,null,5.6118069999999998,1,0,{"$f":"I387/50","v":0.11223614}]
[308.34871770357375,{"$f":"IF(A388=A387,B387+1,1)","v":1},{"$f":"((A388-A387)/A388)*100","v":1.9417775896284829E-2},0,{"$f":"IF(C388<(A387*1.005)-(A387),J387,K387)","v":1},null,null,null,5.6118069999999998,1,0,0.11223614]
[309.44766129364962,1,0.35513068202930198,0,1,null,null,null,5.6118069999999998,1,0,0.11223614]
[309.45409140362131,1,2.0778881747928746E-3,0,1,null,null,null,5.6118069999999998,1,0,0.11223614]
[309.50892092398607,1,1.7715004853843454E-2,0,1,null,null,null,5.6118069999999998,1,0,0.11223614]
[310.12270940160823,1,0.19791793990401094,0,1,null,null,null,5.6118069999999998,1,0,0.11223614]
[310.83904451863384,1,0.2304521036393373,0,1,null,null,null,5.6118069999999998,1,0,0.11223614]
[310.85728517199072,1,5.8678545515803418E-3,0,1,null,null,null,5.6118069999999998,1,0,0.11223614]
[311.84655089800953,1,0.31722836862234305,0,1,null,null,null,5.6118069999999998,1,0,0.11223614]
[311.98169786456805,1,4.3318876550633545E-2,0,1,null,null,null,5.6118069999999998,1,0,0.11223614]
[312.35271448269583,1,0.11878130105007839,0,1,null,null,null,5.6118069999999998,1,0,0.11223614]
[312.923802459797,1,0.18250065115278108,0,1,null,null,null,5.6118069999999998,1,0,0.11223614]
[313.13320427938919,1,6.6873080443219768E-2,0,1,null,null,null,5.6118069999999998,1,0,0.11223614]
[313.23966208304051,1,3.3986054940610223E-2,0,1,null,null,null,5.6118069999999998,1,0,0.11223614]
[313.74357816475083,1,0.16061399078125588,0,1,null,null,null,5.6118069999999998,1,0,0.11223614]
[314.49828945610301,1,0.23997309894988189,0,1,null,null,null,5.6118069999999998,1,0,0.11223614]
[315.17962296476435,1,0.21617308322546894,0,1,null,null,null,5.6118069999999998,1,0,0.11223614]
[315.26955328833401,1,2.8524899607864668E-2,0,1,null,null,null,5.6118069999999998,1,0,0.11223614]
[315.42719975419959,1,4.9978716479881946E-2,0,1,null,null,null,5.6118069999999998,1,0,0.11223614]
[315.5806081156324,1,4.8611466448723953E-2,0,1,null,null,null,5.6118069999999998,1,0,0.11223614]
[315.64061508404433,1,1.9011168254107098E-2,0,1,null,null,null,5.6118069999999998,1,0,0.11223614]
[315.9240386542935,1,8.9712568710009377E-2,0,1,null,null,null,5.6118069999999998,1,0,0.11223614]
[316.18619523400503,1,8.2912089035864153E-2,0,1,null,null,null,5.6118069999999998,1,0,0.11223614]
[316.56259267597449,1,0.11890142760952495,0,1,null,null,null,5.6118069999999998,1,0,0.11223614]
[316.59338408058335,1,9.7258521994335895E-3,0,1,null,null,null,5.6118069999999998,1,0,0.11223614]
[316.82422088383919,1,7.2859582077367382E-2,0,1,null,null,null,5.6118069999999998,1,0,0.11223614]
[317.00958532026806,1,5.8472817546384295E-2,0,1,null,null,null,5.6118069999999998,1,0,0.11223614]
[317.72485675988622,1,0.22512290883137126,0,1,null,null,null,5.6118069999999998,1,0,0.11223614]
[317.86676710584544,1,4.464459976464405E-2,0,1,null,null,null,5.6118069999999998,1,0,0.11223614]
[318.21810831244977,1,0.11040892941873662,0,1,null,null,null,5.6118069999999998,1,0,0.11223614]
[318.62270045461838,1,0.12698158090786649,0,1,null,null,null,5.6118069999999998,1,0,0.11223614]
[318.85206811317596,1,7.193544640148436E-2,0,1,null,null,null,5.6118069999999998,1,0,0.11223614]
[318.95661714356885,1,3.2778448470259833E-2,0,1,null,null,null,5.6118069999999998,1,0,0.11223614]
[319.04305250246568,1,2.7092067424401171E-2,0,1,null,null,null,5.6118069999999998,1,0,0.11223614]
[319.95130714534429,1,0.28387277144831613,0,1,null,null,null,5.6118069999999998,1,0,0.11223614]
[320.34569904024426,1,0.12311446542955506,0,1,null,null,null,5.6118069999999998,1,0,0.11223614]
[320.76732701685853,1,0.13144355459623083,0,1,null,null,null,5.6118069999999998,1,0,0.11223614]
[321.09083757657896,1,0.10075359426700438,0,1,null,null,null,5.6118069999999998,1,0,0.11223614]
[322.06627529959815,1,0.30286863227507899,0,1,null,null,null,5.6118069999999998,1,0,0.11223614]
[322.19713558756285,1,4.0614975588181369E-2,0,1,null,null,null,5.6118069999999998,1,0,0.11223614]
[323.13063382045931,1,0.28889190166201723,0,1,null,null,null,5.6118069999999998,1,0,0.11223614]
[323.16196863083877,1,9.6963174572245042E-3,0,1,null,null,null,5.6118069999999998,1,0,0.11223614]
[323.41536803353853,1,7.8351070402281661E-2,0,1,null,null,null,5.6118069999999998,1,0,0.11223614]
[323.59185381536099,1,5.4539624450238952E-2,0,1,null,null,null,5.6118069999999998,1,0,0.11223614]
[323.77715533943535,1,5.7231191583019106E-2,0,1,null,null,null,5.6118069999999998,1,0,0.11223614]
[324.21530614355225,1,0.13514192446019252,0,1,null,null,null,5.6118069999999998,1,0,0.11223614]
[324.23745567430518,1,6.8312683699244727E-3,0,1,null,null,null,5.6118069999999998,1,0,0.11223614]
[324.24254861604891,1,1.5707197483686151E-3,0,1,null,null,null,5.6118069999999998,1,0,0.11223614]
[324.45359850420732,1,6.5047787767308976E-2,0,1,null,null,null,5.6118069999999998,1,0,0.11223614]
[324.58349631150861,1,4.0019843515588099E-2,0,1,null,null,null,5.6118069999999998,1,0,0.11223614]
[324.63454598854156,1,1.5725275594899713E-2,0,1,null,null,null,5.6118069999999998,1,0,0.11223614]
[324.8596690022361,1,6.929854185531191E-2,0,1,null,null,null,5.6118069999999998,1,0,0.11223614]
[324.88685744350425,1,8.3685876006478529E-3,0,1,null,null,null,5.6118069999999998,1,0,0.11223614]
[325.48075335687253,1,0.18246729099741757,0,1,null,null,null,5.6118069999999998,1,0,0.11223614]
[325.68318132351266,1,6.2154872664133977E-2,0,1,null,null,null,5.6118069999999998,1,0,0.11223614]
[325.69045103843956,1,2.2320933585025749E-3,0,1,null,null,null,5.6118069999999998,1,0,0.11223614]
[326.43405457109867,1,0.22779594293129987,0,1,null,null,null,5.6118069999999998,1,0,0.11223614]
[326.58466685620186,1,4.6117377938477797E-2,0,1,null,null,null,5.6118069999999998,1,0,0.11223614]
[327.13553048226419,1,0.16839003248905388,0,1,null,null,null,5.6118069999999998,1,0,0.11223614]
[327.5556468639918,1,0.12825801837024997,0,1,null,null,null,5.6118069999999998,1,0,0.11223614]
[327.5911119770538,1,1.0826030305879267E-2,0,1,null,null,null,5.6118069999999998,1,0,0.11223614]
[328.19345148703553,1,0.18353184905199915,0,1,null,null,null,5.6118069999999998,1,0,0.11223614]
[328.23387869586452,1,1.2316586267576089E-2,0,1,null,null,null,5.6118069999999998,1,0,0.11223614]
[328.98896844283314,1,0.22951825726637712,0,1,null,null,null,5.6118069999999998,1,0,0.11223614]
[329.18319450116945,1,5.9002422231983723E-2,{"$f":"IF(C451>I450,J450,K450)","v":0},1,null,null,null,5.6118069999999998,1,0,{"$f":"I451/50","v":0.11223614}]
[329.2615058019054,{"$f":"IF(A452=A451,B451+1,1)","v":1},{"$f":"((A452-A451)/A452)*100","v":2.3783922309783205E-2},0,{"$f":"IF(C452<(A451*1.005)-(A451),J451,K451)","v":1},null,null,null,5.6118069999999998,1,0,0.11223614]
[329.87424283358894,1,0.18574867392500333,0,1,null,null,null,5.6118069999999998,1,0,0.11223614]
[329.92387140000028,1,1.5042429697720534E-2,0,1,null,null,null,5.6118069999999998,1,0,0.11223614]
[329.92730714874722,1,1.0413653773098748E-3,0,1,null,null,null,5.6118069999999998,1,0,0.11223614]
[330.40234239073976,1,0.14377478033456501,0,1,null,null,null,5.6118069999999998,1,0,0.11223614]
[330.50323771017338,1,3.0527785486354684E-2,0,1,null,null,null,5.6118069999999998,1,0,0.11223614]
[331.50708979324821,1,0.30281466489929587,0,1,null,null,null,5.6118069999999998,1,0,0.11223614]
[332.30461204732029,1,0.23999734736107436,0,1,null,null,null,5.6118069999999998,1,0,0.11223614]
[333.0042355460115,1,0.21009447448741003,0,1,null,null,null,5.6118069999999998,1,0,0.11223614]
[333.03464136292337,1,9.1299261804814874E-3,0,1,null,null,null,5.6118069999999998,1,0,0.11223614]
[333.19271899853823,1,4.7443304310485997E-2,0,1,null,null,null,5.6118069999999998,1,0,0.11223614]
[333.42906927251852,1,7.0884723547339698E-2,0,1,null,null,null,5.6118069999999998,1,0,0.11223614]
[333.63162424756524,1,6.0712162854328608E-2,0,1,null,null,null,5.6118069999999998,1,0,0.11223614]
[333.93439208598005,1,9.0666863189357724E-2,0,1,null,null,null,5.6118069999999998,1,0,0.11223614]
[334.02874078308798,1,2.8245682358573044E-2,0,1,null,null,null,5.6118069999999998,1,0,0.11223614]
[334.1328294307018,1,3.11518768721913E-2,0,1,null,null,null,5.6118069999999998,1,0,0.11223614]
[334.28812716083877,1,4.6456250617074854E-2,0,1,null,null,null,5.6118069999999998,1,0,0.11223614]
[334.41420492582978,1,3.7701079420048147E-2,0,1,null,null,null,5.6118069999999998,1,0,0.11223614]
[334.41985426647148,1,1.6892958266750235E-3,0,1,null,null,null,5.6118069999999998,1,0,0.11223614]
[334.63274877278639,1,6.3620344122225891E-2,0,1,null,null,null,5.6118069999999998,1,0,0.11223614]
[335.01045063945708,1,0.11274330873850226,0,1,null,null,null,5.6118069999999998,1,0,0.11223614]
[335.28515503095127,1,8.1931570000120663E-2,0,1,null,null,null,5.6118069999999998,1,0,0.11223614]
[335.35652466790566,1,2.1281720111174875E-2,0,1,null,null,null,5.6118069999999998,1,0,0.11223614]
[335.43339472729764,1,2.2916638772497028E-2,0,1,null,null,null,5.6118069999999998,1,0,0.11223614]
[336.21065771640673,1,0.23118332844900782,0,1,null,null,null,5.6118069999999998,1,0,0.11223614]
[336.89177740378909,1,0.20217759324116488,0,1,null,null,null,5.6118069999999998,1,0,0.11223614]
[337.59491784769739,1,0.20827933322903608,0,1,null,null,null,5.6118069999999998,1,0,0.11223614]
[337.62049199510085,1,7.574820844651769E-3,0,1,null,null,null,5.6118069999999998,1,0,0.11223614]
[338.19791082676261,1,0.17073400313153761,0,1,null,null,null,5.6118069999999998,1,0,0.11223614]
[338.21808570375021,1,5.9650497239428181E-3,0,1,null,null,null,5.6118069999999998,1,0,0.11223614]
[338.86634780694055,1,0.1913031811467088,0,1,null,null,null,5.6118069999999998,1,0,0.11223614]
[339.26044671816067,1,0.11616411964095198,0,1,null,null,null,5.6118069999999998,1,0,0.11223614]
[339.30617886867992,1,1.3478136670466065E-2,0,1,null,null,null,5.6118069999999998,1,0,0.11223614]
[339.60002252346163,1,8.6526394373666451E-2,0,1,null,null,null,5.6118069999999998,1,0,0.11223614]
[339.92679431876724,1,9.6130049400922596E-2,0,1,null,null,null,5.6118069999999998,1,0,0.11223614]
[340.45986846476274,1,0.15657473769207897,0,1,null,null,null,5.6118069999999998,1,0,0.11223614]
[340.485811202636,1,7.6193300923854896E-3,0,1,null,null,null,5.6118069999999998,1,0,0.11223614]
[341.07354315679288,1,0.17231824805792595,0,1,null,null,null,5.6118069999999998,1,0,0.11223614]
[341.0994392208849,1,7.5919398024146727E-3,0,1,null,null,null,5.6118069999999998,1,0,0.11223614]
[341.86492536513373,1,0.22391479425133684,0,1,null,null,null,5.6118069999999998,1,0,0.11223614]
[341.9133948330948,1,1.4175948849482823E-2,0,1,null,null,null,5.6118069999999998,1,0,0.11223614]
[342.42827302496971,1,0.15036088793911273,0,1,null,null,null,5.6118069999999998,1,0,0.11223614]
[342.71694140042536,1,8.4229385998857612E-2,0,1,null,null,null,5.6118069999999998,1,0,0.11223614]
[343.08846811761356,1,0.10828889680455271,0,1,null,null,null,5.6118069999999998,1,0,0.11223614]
[343.17757627879223,1,2.5965612947356911E-2,0,1,null,null,null,5.6118069999999998,1,0,0.11223614]
[343.4975874678085,1,9.3162572516251124E-2,0,1,null,null,null,5.6118069999999998,1,0,0.11223614]
[344.28888512558422,1,0.22983537719699487,0,1,null,null,null,5.6118069999999998,1,0,0.11223614]
[344.71747035179527,1,0.12432941845786645,0,1,null,null,null,5.6118069999999998,1,0,0.11223614]
[345.9037225872396,1,0.34294289363860392,0,1,null,null,null,5.6118069999999998,1,0,0.11223614]
[345.92862555549084,1,7.1988746844095265E-3,0,1,null,null,null,5.6118069999999998,1,0,0.11223614]
[346.35684655362854,1,0.12363578269020865,0,1,null,null,null,5.6118069999999998,1,0,0.11223614]
[346.95114591435919,1,0.17129194347072155,0,1,null,null,null,5.6118069999999998,1,0,0.11223614]
[347.27306327862397,1,9.269862776730739E-2,0,1,null,null,null,5.6118069999999998,1,0,0.11223614]
[347.64384255435709,1,0.10665492390395297,0,1,null,null,null,5.6118069999999998,1,0,0.11223614]
[347.78681455758016,1,4.1109092478085918E-2,0,1,null,null,null,5.6118069999999998,1,0,0.11223614]
[347.85407480869691,1,1.9335766342176566E-2,0,1,null,null,null,5.6118069999999998,1,0,0.11223614]
[348.29415162242702,1,0.12635205376838682,0,1,null,null,null,5.6118069999999998,1,0,0.11223614]
[348.52459751620364,1,6.6120410272019495E-2,0,1,null,null,null,5.6118069999999998,1,0,0.11223614]
[349.10352612932331,1,0.16583293200688301,0,1,null,null,null,5.6118069999999998,1,0,0.11223614]
[349.86997871879316,1,0.21906783550751111,0,1,null,null,null,5.6118069999999998,1,0,0.11223614]
[350.39468296268001,1,0.14974663412421993,0,1,null,null,null,5.6118069999999998,1,0,0.11223614]
[350.46717651610948,1,2.0684833926561754E-2,0,1,null,null,null,5.6118069999999998,1,0,0.11223614]
[350.75541241004157,1,8.2175750889095858E-2,0,1,null,null,null,5.6118069999999998,1,0,0.11223614]
[351.0644347067153,1,8.8024381316749875E-2,{"$f":"IF(C515>I514,J514,K514)","v":0},1,null,null,null,5.6118069999999998,1,0,{"$f":"I515/50","v":0.11223614}]
[351.20550433138436,{"$f":"IF(A516=A515,B515+1,1)","v":1},{"$f":"((A516-A515)/A516)*100","v":4.0167259034741574E-2},0,{"$f":"IF(C516<(A515*1.005)-(A515),J515,K515)","v":1},null,null,null,5.6118069999999998,1,0,0.11223614]
[351.212245762132,1,1.9194748557270266E-3,0,1,null,null,null,5.6118069999999998,1,0,0.11223614]
[351.30036887663857,1,2.5084834037711366E-2,0,1,null,null,null,5.6118069999999998,1,0,0.11223614]
[352.04164001043159,1,0.21056348157310464,0,1,null,null,null,5.6118069999999998,1,0,0.11223614]
[352.24088897306115,1,5.6566108270522782E-2,0,1,null,null,null,5.6118069999999998,1,0,0.11223614]
[352.37403755194845,1,3.7786149005847716E-2,0,1,null,null,null,5.6118069999999998,1,0,0.11223614]
[353.13029263185564,1,0.21415752080368827,0,1,null,null,null,5.6118069999999998,1,0,0.11223614]
[353.30274777349484,1,4.8812284287629418E-2,0,1,null,null,null,5.6118069999999998,1,0,0.11223614]
[353.39395320305215,1,2.5808429581391602E-2,0,1,null,null,null,5.6118069999999998,1,0,0.11223614]
[353.57212955688334,1,5.0393212285847137E-2,0,1,null,null,null,5.6118069999999998,1,0,0.11223614]
[354.81686544567208,1,0.35081080129189268,0,1,null,null,null,5.6118069999999998,1,0,0.11223614]
[354.93565121042144,1,3.3466845143414491E-2,0,1,null,null,null,5.6118069999999998,1,0,0.11223614]
[355.45405159193177,1,0.14584174218541929,0,1,null,null,null,5.6118069999999998,1,0,0.11223614]
[355.94822702183114,1,0.13883351352360088,0,1,null,null,null,5.6118069999999998,1,0,0.11223614]
[356.43619010972822,1,0.13690054529728113,0,1,null,null,null,5.6118069999999998,1,0,0.11223614]
[357.22288664688426,1,0.22022568165787718,0,1,null,null,null,5.6118069999999998,1,0,0.11223614]
[357.56348475413114,1,9.5255282423785323E-2,0,1,null,null,null,5.6118069999999998,1,0,0.11223614]
[357.98034439333117,1,0.11644763343263392,0,1,null,null,null,5.6118069999999998,1,0,0.11223614]
[358.03330015989985,1,1.479073777356359E-2,0,1,null,null,null,5.6118069999999998,1,0,0.11223614]
[358.14785415523966,1,3.1985112855136832E-2,0,1,null,null,null,5.6118069999999998,1,0,0.11223614]
[358.22899738037933,1,2.2651216326161613E-2,0,1,null,null,null,5.6118069999999998,1,0,0.11223614]
[358.56403441847459,1,9.3438550979780877E-2,0,1,null,null,null,5.6118069999999998,1,0,0.11223614]
[358.56408933114386,1,1.5314603694087737E-5,0,1,null,null,null,5.6118069999999998,1,0,0.11223614]
[358.56863980183323,1,1.2690654408264799E-3,0,1,null,null,null,5.6118069999999998,1,0,0.11223614]
[358.96881728005604,1,0.11147973276759847,0,1,null,null,null,5.6118069999999998,1,0,0.11223614]
[359.02262483822722,1,1.4987233240639806E-2,0,1,null,null,null,5.6118069999999998,1,0,0.11223614]
[359.15137373511726,1,3.5848086992143917E-2,0,1,null,null,null,5.6118069999999998,1,0,0.11223614]
[359.19955962717864,1,1.3414797086999872E-2,0,1,null,null,null,5.6118069999999998,1,0,0.11223614]
[359.87188513873946,1,0.18682357231146746,0,1,null,null,null,5.6118069999999998,1,0,0.11223614]
[360.02370611606887,1,4.2169716813164948E-2,0,1,null,null,null,5.6118069999999998,1,0,0.11223614]
[360.98944311123108,1,0.26752499653144879,0,1,null,null,null,5.6118069999999998,1,0,0.11223614]
[361.00839883124422,1,5.2507698088209631E-3,0,1,null,null,null,5.6118069999999998,1,0,0.11223614]
[361.23051646228487,1,6.1489165759293488E-2,0,1,null,null,null,5.6118069999999998,1,0,0.11223614]
[361.44968767317215,1,6.0636713313599475E-2,0,1,null,null,null,5.6118069999999998,1,0,0.11223614]
[361.56733938340466,1,3.2539363326661103E-2,0,1,null,null,null,5.6118069999999998,1,0,0.11223614]
[361.58720087025171,1,5.4928622471279E-3,0,1,null,null,null,5.6118069999999998,1,0,0.11223614]
[362.14524809153465,1,0.15409486227523203,0,1,null,null,null,5.6118069999999998,1,0,0.11223614]
[362.17738050377079,1,8.8720096742217602E-3,0,1,null,null,null,5.6118069999999998,1,0,0.11223614]
[362.30940312292489,1,3.6439192032039755E-2,0,1,null,null,null,5.6118069999999998,1,0,0.11223614]
[363.01038611175676,1,0.19310273635423267,0,1,null,null,null,5.6118069999999998,1,0,0.11223614]
[363.04244195176511,1,8.8297775422668586E-3,0,1,null,null,null,5.6118069999999998,1,0,0.11223614]
[363.11345103045164,1,1.955561780623059E-2,0,1,null,null,null,5.6118069999999998,1,0,0.11223614]
[363.16165854428306,1,1.3274395216899283E-2,0,1,null,null,null,5.6118069999999998,1,0,0.11223614]
[363.59327564120076,1,0.11870876769009098,0,1,null,null,null,5.6118069999999998,1,0,0.11223614]
[363.83158519164317,1,6.5499962109359725E-2,0,1,null,null,null,5.6118069999999998,1,0,0.11223614]
[363.94742872911974,1,3.1829744719198166E-2,0,1,null,null,null,5.6118069999999998,1,0,0.11223614]
[364.14824862079678,1,5.5147839496041323E-2,0,1,null,null,null,5.6118069999999998,1,0,0.11223614]
[364.23979636115183,1,2.5133920365001072E-2,0,1,null,null,null,5.6118069999999998,1,0,0.11223614]
[364.36850625420891,1,3.5324099324676762E-2,0,1,null,null,null,5.6118069999999998,1,0,0.11223614]
[364.45301092389326,1,2.3186711908382701E-2,0,1,null,null,null,5.6118069999999998,1,0,0.11223614]
[364.59746682800659,1,3.9620654901991896E-2,0,1,null,null,null,5.6118069999999998,1,0,0.11223614]
[365.35493998267293,1,0.2073252806441501,0,1,null,null,null,5.6118069999999998,1,0,0.11223614]
[366.17837883018774,1,0.22487369411198116,0,1,null,null,null,5.6118069999999998,1,0,0.11223614]
[366.25491610345415,1,2.0897268514695207E-2,0,1,null,null,null,5.6118069999999998,1,0,0.11223614]
[366.30662189202883,1,1.4115439220730237E-2,0,1,null,null,null,5.6118069999999998,1,0,0.11223614]
[366.51065469899987,1,5.5668997437088537E-2,0,1,null,null,null,5.6118069999999998,1,0,0.11223614]
[367.08078104740724,1,0.15531359249607263,0,1,null,null,null,5.6118069999999998,1,0,0.11223614]
[367.44174883298365,1,9.8238098072105526E-2,0,1,null,null,null,5.6118069999999998,1,0,0.11223614]
[367.93431414330212,1,0.1338731646884736,0,1,null,null,null,5.6118069999999998,1,0,0.11223614]
[368.29838939262248,1,9.8853337349853174E-2,0,1,null,null,null,5.6118069999999998,1,0,0.11223614]
[368.35396490029433,1,1.5087528021285193E-2,0,1,null,null,null,5.6118069999999998,1,0,0.11223614]
[370.70990778683,1,0.63552196395312266,0,1,null,null,null,5.6118069999999998,1,0,0.11223614]
[370.80520171280125,1,2.5699188018687969E-2,0,1,null,null,null,5.6118069999999998,1,0,0.11223614]
[372.80719054314812,1,0.5370038135343228,{"$f":"IF(C579>I578,J578,K578)","v":0},1,null,null,null,5.6118069999999998,1,0,{"$f":"I579/50","v":0.11223614}]
[372.99513651177551,{"$f":"IF(A580=A579,B579+1,1)","v":1},{"$f":"((A580-A579)/A580)*100","v":5.0388316154748446E-2},0,{"$f":"IF(C580<(A579*1.005)-(A579),J579,K579)","v":1},null,null,null,5.6118069999999998,1,0,0.11223614]
[373.10813493799867,1,3.0285704234761568E-2,0,1,null,null,null,5.6118069999999998,1,0,0.11223614]
[373.15254619028821,1,1.1901634530690791E-2,0,1,null,null,null,5.6118069999999998,1,0,0.11223614]
[373.32134515270224,1,4.5215459712057184E-2,0,1,null,null,null,5.6118069999999998,1,0,0.11223614]
[373.74426240993552,1,0.11315685610964908,0,1,null,null,null,5.6118069999999998,1,0,0.11223614]
[373.88108611309576,1,3.6595513451263002E-2,0,1,null,null,null,5.6118069999999998,1,0,0.11223614]
[373.92737387579058,1,1.237881094797641E-2,0,1,null,null,null,5.6118069999999998,1,0,0.11223614]
[374.07152280911589,1,3.8535126181970573E-2,0,1,null,null,null,5.6118069999999998,1,0,0.11223614]
[374.30337093169737,1,6.1941232857288274E-2,0,1,null,null,null,5.6118069999999998,1,0,0.11223614]
[374.37803743748157,1,1.9944146909702875E-2,0,1,null,null,null,5.6118069999999998,1,0,0.11223614]
[374.55504855905201,1,4.7259040360401711E-2,0,1,null,null,null,5.6118069999999998,1,0,0.11223614]
[374.71912983304674,1,4.3787802898621754E-2,0,1,null,null,null,5.6118069999999998,1,0,0.11223614]
[375.00108433034984,1,7.5187648538829824E-2,0,1,null,null,null,5.6118069999999998,1,0,0.11223614]
[375.15871200000322,1,4.2016262614042198E-2,0,1,null,null,null,5.6118069999999998,1,0,0.11223614]
[375.240204528775,1,2.1717430005698233E-2,0,1,null,null,null,5.6118069999999998,1,0,0.11223614]
[375.33816583896646,1,2.6099480177428604E-2,0,1,null,null,null,5.6118069999999998,1,0,0.11223614]
[375.64708881481164,1,8.2237553555878154E-2,0,1,null,null,null,5.6118069999999998,1,0,0.11223614]
[375.77797697163192,1,3.4831247396426693E-2,0,1,null,null,null,5.6118069999999998,1,0,0.11223614]
[376.94691355174689,1,0.31010642031812335,0,1,null,null,null,5.6118069999999998,1,0,0.11223614]
[377.04516683832321,1,2.6058757734575135E-2,0,1,null,null,null,5.6118069999999998,1,0,0.11223614]
[377.2121716952509,1,4.4273453896554807E-2,0,1,null,null,null,5.6118069999999998,1,0,0.11223614]
[378.20392673109131,1,0.26222758827820569,0,1,null,null,null,5.6118069999999998,1,0,0.11223614]
[378.68364669058508,1,0.126680928444141,0,1,null,null,null,5.6118069999999998,1,0,0.11223614]
[378.69441491194129,1,2.8435120593789721E-3,0,1,null,null,null,5.6118069999999998,1,0,0.11223614]
[379.44026143207702,1,0.19656493945074968,0,1,null,null,null,5.6118069999999998,1,0,0.11223614]
[379.52183019587312,1,2.1492509074906459E-2,0,1,null,null,null,5.6118069999999998,1,0,0.11223614]
[379.8441647136741,1,8.4859673451600198E-2,0,1,null,null,null,5.6118069999999998,1,0,0.11223614]
[380.66735372256153,1,0.21624891150696965,0,1,null,null,null,5.6118069999999998,1,0,0.11223614]
[380.75963354751252,1,2.423571639966856E-2,0,1,null,null,null,5.6118069999999998,1,0,0.11223614]
[381.58064185675062,1,0.21515984281674089,0,1,null,null,null,5.6118069999999998,1,0,0.11223614]
[381.69109858009995,1,2.893877372572521E-2,0,1,null,null,null,5.6118069999999998,1,0,0.11223614]
[381.8995170525813,1,5.4574164976663099E-2,0,1,null,null,null,5.6118069999999998,1,0,0.11223614]
[382.20594862511291,1,8.0174464482804672E-2,0,1,null,null,null,5.6118069999999998,1,0,0.11223614]
[382.44670338686393,1,6.2951192837838357E-2,0,1,null,null,null,5.6118069999999998,1,0,0.11223614]
[382.59595986742028,1,3.9011515074039847E-2,0,1,null,null,null,5.6118069999999998,1,0,0.11223614]
[382.93253882885443,1,8.7895106136327866E-2,0,1,null,null,null,5.6118069999999998,1,0,0.11223614]
[383.12340751899779,1,4.9819114780632834E-2,0,1,null,null,null,5.6118069999999998,1,0,0.11223614]
[383.14646153167263,1,6.017023511759095E-3,0,1,null,null,null,5.6118069999999998,1,0,0.11223614]
[383.26601811432158,1,3.1194151580976461E-2,0,1,null,null,null,5.6118069999999998,1,0,0.11223614]
[384.19487432417418,1,0.24176694483145322,0,1,null,null,null,5.6118069999999998,1,0,0.11223614]
[385.01046890532155,1,0.21183698808666154,0,1,null,null,null,5.6118069999999998,1,0,0.11223614]
[385.13053018007679,1,3.1174177414370816E-2,0,1,null,null,null,5.6118069999999998,1,0,0.11223614]
[385.94414749613014,1,0.21081219169452781,0,1,null,null,null,5.6118069999999998,1,0,0.11223614]
[385.95424915875554,1,2.6173212621496749E-3,0,1,null,null,null,5.6118069999999998,1,0,0.11223614]
[386.84518099457034,1,0.23030707879680215,0,1,null,null,null,5.6118069999999998,1,0,0.11223614]
[387.40304574712479,1,0.14400112716682004,0,1,null,null,null,5.6118069999999998,1,0,0.11223614]
[387.42969536052527,1,6.8785675748681812E-3,0,1,null,null,null,5.6118069999999998,1,0,0.11223614]
[387.92026369040451,1,0.12646112508078625,0,1,null,null,null,5.6118069999999998,1,0,0.11223614]
[387.92395741465145,1,9.5217739877696112E-4,0,1,null,null,null,5.6118069999999998,1,0,0.11223614]
[388.2355747146533,1,8.0265004110165752E-2,0,1,null,null,null,5.6118069999999998,1,0,0.11223614]
[388.27825569480518,1,1.0992369396403657E-2,0,1,null,null,null,5.6118069999999998,1,0,0.11223614]
[388.45896924658342,1,4.6520627938835858E-2,0,1,null,null,null,5.6118069999999998,1,0,0.11223614]
[388.73172811846973,1,7.0166351793950921E-2,0,1,null,null,null,5.6118069999999998,1,0,0.11223614]
[388.87299502228177,1,3.6327259958985857E-2,0,1,null,null,null,5.6118069999999998,1,0,0.11223614]
[389.13130244973144,1,6.6380531667208614E-2,0,1,null,null,null,5.6118069999999998,1,0,0.11223614]
[389.45615418509652,1,8.3411632317073311E-2,0,1,null,null,null,5.6118069999999998,1,0,0.11223614]
[389.73449169101377,1,7.1417211422467403E-2,0,1,null,null,null,5.6118069999999998,1,0,0.11223614]
[389.88003959446104,1,3.7331458055318657E-2,0,1,null,null,null,5.6118069999999998,1,0,0.11223614]
[389.94702957013232,1,1.717925015228983E-2,0,1,null,null,null,5.6118069999999998,1,0,0.11223614]
[390.58904431997854,1,0.16437090573392377,0,1,null,null,null,5.6118069999999998,1,0,0.11223614]
[391.26254583378369,1,0.17213544229486935,0,1,null,null,null,5.6118069999999998,1,0,0.11223614]
[391.5963997178311,1,8.5254584640710757E-2,0,1,null,null,null,5.6118069999999998,1,0,0.11223614]
[391.81864204988977,1,5.6720714179386109E-2,0,1,null,null,null,5.6118069999999998,1,0,0.11223614]
[392.1291919036438,1,7.9195800814119366E-2,{"$f":"IF(C643>I642,J642,K642)","v":0},1,null,null,null,5.6118069999999998,1,0,{"$f":"I643/50","v":0.11223614}]
[392.53549627433659,{"$f":"IF(A644=A643,B643+1,1)","v":1},{"$f":"((A644-A643)/A644)*100","v":0.10350767626090936},0,{"$f":"IF(C644<(A643*1.005)-(A643),J643,K643)","v":1},null,null,null,5.6118069999999998,1,0,0.11223614]
[392.66212314086238,1,3.2248301800262225E-2,0,1,null,null,null,5.6118069999999998,1,0,0.11223614]
[393.33379659656413,1,0.17076423676622796,0,1,null,null,null,5.6118069999999998,1,0,0.11223614]
[393.46016654703101,1,3.2117596954195228E-2,0,1,null,null,null,5.6118069999999998,1,0,0.11223614]
[394.51021432632677,1,0.26616491567622613,0,1,null,null,null,5.6118069999999998,1,0,0.11223614]
[396.12702777481644,1,0.40815529744886891,0,1,null,null,null,5.6118069999999998,1,0,0.11223614]
[396.49120526486951,1,9.1850080207903598E-2,0,1,null,null,null,5.6118069999999998,1,0,0.11223614]
[396.50334610966445,1,3.0619778909972022E-3,0,1,null,null,null,5.6118069999999998,1,0,0.11223614]
[396.9646113777074,1,0.11619808285733102,0,1,null,null,null,5.6118069999999998,1,0,0.11223614]
[396.9868615981236,1,5.6047750110987862E-3,0,1,null,null,null,5.6118069999999998,1,0,0.11223614]
[397.0345651873767,1,1.2014971349053757E-2,0,1,null,null,null,5.6118069999999998,1,0,0.11223614]
[397.68644735647888,1,0.16391862821461567,0,1,null,null,null,5.6118069999999998,1,0,0.11223614]
[398.3441550511447,1,0.16511041679056931,0,1,null,null,null,5.6118069999999998,1,0,0.11223614]
[398.90209647741045,1,0.13986926396044957,0,1,null,null,null,5.6118069999999998,1,0,0.11223614]
[399.29792074564699,1,9.913005995557847E-2,0,1,null,null,null,5.6118069999999998,1,0,0.11223614]
[399.68768092574589,1,9.7516185436626809E-2,0,1,null,null,null,5.6118069999999998,1,0,0.11223614]
[399.74481536723709,1,1.4292728584537688E-2,0,1,null,null,null,5.6118069999999998,1,0,0.11223614]
[399.79313498267408,1,1.2086154365575775E-2,0,1,null,null,null,5.6118069999999998,1,0,0.11223614]
[400.55780026858559,1,0.19090011114470598,0,1,null,null,null,5.6118069999999998,1,0,0.11223614]
[400.69236903027456,1,3.3584059016307413E-2,0,1,null,null,null,5.6118069999999998,1,0,0.11223614]
[401.1223331409455,1,0.10719026968759116,0,1,null,null,null,5.6118069999999998,1,0,0.11223614]
[401.5603113746439,1,0.10906910401555631,0,1,null,null,null,5.6118069999999998,1,0,0.11223614]
[403.37804359998444,1,0.45062745833115175,0,1,null,null,null,5.6118069999999998,1,0,0.11223614]
[403.38460049753678,1,1.6254704677015508E-3,0,1,null,null,null,5.6118069999999998,1,0,0.11223614]
[403.583396481406,1,4.9257721106070497E-2,0,1,null,null,null,5.6118069999999998,1,0,0.11223614]
[403.88490043656344,1,7.4650959922379967E-2,0,1,null,null,null,5.6118069999999998,1,0,0.11223614]
[403.90268100749518,1,4.402191856558651E-3,0,1,null,null,null,5.6118069999999998,1,0,0.11223614]
[404.22151911060098,1,7.8877073097774753E-2,0,1,null,null,null,5.6118069999999998,1,0,0.11223614]
[404.40234001194631,1,4.471311944930545E-2,0,1,null,null,null,5.6118069999999998,1,0,0.11223614]
[404.54934863765232,1,3.6338861056399947E-2,0,1,null,null,null,5.6118069999999998,1,0,0.11223614]
[405.06417103947797,1,0.12709650436485509,0,1,null,null,null,5.6118069999999998,1,0,0.11223614]
[405.17726036497339,1,2.7911074129272476E-2,0,1,null,null,null,5.6118069999999998,1,0,0.11223614]
[405.26960188386073,1,2.2785207293637668E-2,0,1,null,null,null,5.6118069999999998,1,0,0.11223614]
[406.3537102948597,1,0.26678934719515934,0,1,null,null,null,5.6118069999999998,1,0,0.11223614]
[406.59978444320166,1,6.0519989866432262E-2,0,1,null,null,null,5.6118069999999998,1,0,0.11223614]
[406.94139252777546,1,8.3945278324197597E-2,0,1,null,null,null,5.6118069999999998,1,0,0.11223614]
[407.52002702815395,1,0.14198921819822832,0,1,null,null,null,5.6118069999999998,1,0,0.11223614]
[407.71148703730751,1,4.6959679881680517E-2,0,1,null,null,null,5.6118069999999998,1,0,0.11223614]
[407.81486627837194,1,2.5349551870888623E-2,0,1,null,null,null,5.6118069999999998,1,0,0.11223614]
[408.25472759643918,1,0.10774187984469542,0,1,null,null,null,5.6118069999999998,1,0,0.11223614]
[409.13536442681391,1,0.21524339056059635,0,1,null,null,null,5.6118069999999998,1,0,0.11223614]
[409.8304246956788,1,0.16959703989302713,0,1,null,null,null,5.6118069999999998,1,0,0.11223614]
[409.92166998227657,1,2.2259200544756153E-2,0,1,null,null,null,5.6118069999999998,1,0,0.11223614]
[410.4068752479854,1,0.11822542334741497,0,1,null,null,null,5.6118069999999998,1,0,0.11223614]
[410.70768294014118,1,7.324131119300907E-2,0,1,null,null,null,5.6118069999999998,1,0,0.11223614]
[411.72761175409221,1,0.24771931365151845,0,1,null,null,null,5.6118069999999998,1,0,0.11223614]
[411.76597465565203,1,9.3166759569931635E-3,0,1,null,null,null,5.6118069999999998,1,0,0.11223614]
[412.08968395627016,1,7.855311919249236E-2,0,1,null,null,null,5.6118069999999998,1,0,0.11223614]
[412.59688172486619,1,0.12292816331419734,0,1,null,null,null,5.6118069999999998,1,0,0.11223614]
[412.60083628192945,1,9.5844620648090698E-4,0,1,null,null,null,5.6118069999999998,1,0,0.11223614]
[413.32828633607545,1,0.17599812986293364,0,1,null,null,null,5.6118069999999998,1,0,0.11223614]
[413.94653265413393,1,0.149354148250602,0,1,null,null,null,5.6118069999999998,1,0,0.11223614]
[414.52157990921717,1,0.13872552912906805,0,1,null,null,null,5.6118069999999998,1,0,0.11223614]
[414.72285285225047,1,4.8531915145030149E-2,0,1,null,null,null,5.6118069999999998,1,0,0.11223614]
[414.7867415535207,1,1.540278289294986E-2,0,1,null,null,null,5.6118069999999998,1,0,0.11223614]
[415.20949117283527,1,0.1018159816434925,0,1,null,null,null,5.6118069999999998,1,0,0.11223614]
[415.38893103963733,1,4.3198037644612559E-2,0,1,null,null,null,5.6118069999999998,1,0,0.11223614]
[415.55211020151546,1,3.9268038321115098E-2,0,1,null,null,null,5.6118069999999998,1,0,0.11223614]
[416.09630024954561,1,0.1307846399268098,0,1,null,null,null,5.6118069999999998,1,0,0.11223614]
[416.1133703490126,1,4.1022713239601038E-3,0,1,null,null,null,5.6118069999999998,1,0,0.11223614]
[416.55654954694313,1,0.10639112466543747,0,1,null,null,null,5.6118069999999998,1,0,0.11223614]
[416.74562410750514,1,4.5369297150251807E-2,0,1,null,null,null,5.6118069999999998,1,0,0.11223614]
[417.03761233003792,1,7.0014841323641608E-2,0,1,null,null,null,5.6118069999999998,1,0,0.11223614]
[417.15003199646173,1,2.6949456502683891E-2,{"$f":"IF(C707>I706,J706,K706)","v":0},1,null,null,null,5.6118069999999998,1,0,{"$f":"I707/50","v":0.11223614}]
[417.30890079194637,{"$f":"IF(A708=A707,B707+1,1)","v":1},{"$f":"((A708-A707)/A708)*100","v":3.806983152842984E-2},0,{"$f":"IF(C708<(A707*1.005)-(A707),J707,K707)","v":1},null,null,null,5.6118069999999998,1,0,0.11223614]
[417.53875257803804,1,5.5049210324187206E-2,0,1,null,null,null,5.6118069999999998,1,0,0.11223614]
[417.65942032308118,1,2.8891421855106958E-2,0,1,null,null,null,5.6118069999999998,1,0,0.11223614]
[417.70928590114784,1,1.1937866777148686E-2,0,1,null,null,null,5.6118069999999998,1,0,0.11223614]
[417.98018552284248,1,6.4811594204107148E-2,0,1,null,null,null,5.6118069999999998,1,0,0.11223614]
[418.01192927291936,1,7.5939818588668159E-3,0,1,null,null,null,5.6118069999999998,1,0,0.11223614]
[418.22508010542271,1,5.0965578738036414E-2,0,1,null,null,null,5.6118069999999998,1,0,0.11223614]
[418.28933719872856,1,1.5361876957271472E-2,0,1,null,null,null,5.6118069999999998,1,0,0.11223614]
[418.84398298969916,1,0.13242300558111089,0,1,null,null,null,5.6118069999999998,1,0,0.11223614]
[419.52120406375195,1,0.16142713824540852,0,1,null,null,null,5.6118069999999998,1,0,0.11223614]
[419.82429438358537,1,7.2194564223214783E-2,0,1,null,null,null,5.6118069999999998,1,0,0.11223614]
[420.58702366326685,1,0.18134874277341978,0,1,null,null,null,5.6118069999999998,1,0,0.11223614]
[420.68071262478196,1,2.2270800325157086E-2,0,1,null,null,null,5.6118069999999998,1,0,0.11223614]
[421.69911818114076,1,0.24150051836754008,0,1,null,null,null,5.6118069999999998,1,0,0.11223614]
[422.12451210744456,1,0.10077451417830033,0,1,null,null,null,5.6118069999999998,1,0,0.11223614]
[422.22436241579175,1,2.3648637368029683E-2,0,1,null,null,null,5.6118069999999998,1,0,0.11223614]
[422.26360793798608,1,9.294081103976809E-3,0,1,null,null,null,5.6118069999999998,1,0,0.11223614]
[422.88666663580767,1,0.14733467545293233,0,1,null,null,null,5.6118069999999998,1,0,0.11223614]
[423.07592230856261,1,4.4733264829216378E-2,0,1,null,null,null,5.6118069999999998,1,0,0.11223614]
[423.23956978755149,1,3.8665448760148338E-2,0,1,null,null,null,5.6118069999999998,1,0,0.11223614]
[423.64862577771424,1,9.6555486144167216E-2,0,1,null,null,null,5.6118069999999998,1,0,0.11223614]
[424.84416386837751,1,0.28140626430581178,0,1,null,null,null,5.6118069999999998,1,0,0.11223614]
[425.48420346451616,1,0.15042617115444248,0,1,null,null,null,5.6118069999999998,1,0,0.11223614]
[425.62037955988217,1,3.1994730963499786E-2,0,1,null,null,null,5.6118069999999998,1,0,0.11223614]
[425.85532089614361,1,5.5169285138212364E-2,0,1,null,null,null,5.6118069999999998,1,0,0.11223614]
[427.16880942550989,1,0.30748699352201403,0,1,null,null,null,5.6118069999999998,1,0,0.11223614]
[427.47029432821068,1,7.0527685011326946E-2,0,1,null,null,null,5.6118069999999998,1,0,0.11223614]
[427.58657561621027,1,2.7194793903902836E-2,0,1,null,null,null,5.6118069999999998,1,0,0.11223614]
[427.64128499023923,1,1.2793286324122896E-2,0,1,null,null,null,5.6118069999999998,1,0,0.11223614]
[428.18841802124774,1,0.12777856849490113,0,1,null,null,null,5.6118069999999998,1,0,0.11223614]
[428.37416861644522,1,4.3361763805088806E-2,0,1,null,null,null,5.6118069999999998,1,0,0.11223614]
[429.28434155639968,1,0.21202099677210903,0,1,null,null,null,5.6118069999999998,1,0,0.11223614]
[429.72958718282337,1,0.10361065183865496,0,1,null,null,null,5.6118069999999998,1,0,0.11223614]
[429.8276708121449,1,2.28192915398421E-2,0,1,null,null,null,5.6118069999999998,1,0,0.11223614]
[430.43978071889802,1,0.14220570081389902,0,1,null,null,null,5.6118069999999998,1,0,0.11223614]
[430.73347944146894,1,6.8185719612917361E-2,0,1,null,null,null,5.6118069999999998,1,0,0.11223614]
[430.98516017696198,1,5.839661286474445E-2,0,1,null,null,null,5.6118069999999998,1,0,0.11223614]
[431.17736507112517,1,4.4576758831363417E-2,0,1,null,null,null,5.6118069999999998,1,0,0.11223614]
[431.22682256756417,1,1.1469021371288898E-2,0,1,null,null,null,5.6118069999999998,1,0,0.11223614]
[431.45958679216221,1,5.3948094265006408E-2,0,1,null,null,null,5.6118069999999998,1,0,0.11223614]
[431.54100544903218,1,1.8866957216557522E-2,0,1,null,null,null,5.6118069999999998,1,0,0.11223614]
[431.94399502869402,1,9.3296720014608425E-2,0,1,null,null,null,5.6118069999999998,1,0,0.11223614]
[432.66959050882701,1,0.16770198230933722,0,1,null,null,null,5.6118069999999998,1,0,0.11223614]
[432.77799508201156,1,2.5048540918537428E-2,0,1,null,null,null,5.6118069999999998,1,0,0.11223614]
[433.03027812868407,1,5.8259909159873009E-2,0,1,null,null,null,5.6118069999999998,1,0,0.11223614]
[433.32391957031473,1,6.7764881736007213E-2,0,1,null,null,null,5.6118069999999998,1,0,0.11223614]
[433.60882930012468,1,6.5706625547689634E-2,0,1,null,null,null,5.6118069999999998,1,0,0.11223614]
[435.64962221322673,1,0.46844822284803805,0,1,null,null,null,5.6118069999999998,1,0,0.11223614]
[435.68765842735382,1,8.7301564300406916E-3,0,1,null,null,null,5.6118069999999998,1,0,0.11223614]
[436.09183471659026,1,9.2681462265648717E-2,0,1,null,null,null,5.6118069999999998,1,0,0.11223614]
[436.77437701039526,1,0.15626884948627723,0,1,null,null,null,5.6118069999999998,1,0,0.11223614]
[437.11570293832852,1,7.8085945125935224E-2,0,1,null,null,null,5.6118069999999998,1,0,0.11223614]
[437.5976236597246,1,0.11012873364477418,0,1,null,null,null,5.6118069999999998,1,0,0.11223614]
[438.18916541845954,1,0.13499689299027429,0,1,null,null,null,5.6118069999999998,1,0,0.11223614]
[438.34930321929761,1,3.6532007616300065E-2,0,1,null,null,null,5.6118069999999998,1,0,0.11223614]
[438.39250598618264,1,9.8548141893631432E-3,0,1,null,null,null,5.6118069999999998,1,0,0.11223614]
[438.84573612868763,1,0.10327778196119615,0,1,null,null,null,5.6118069999999998,1,0,0.11223614]
[440.05812308386629,1,0.27550609603168297,0,1,null,null,null,5.6118069999999998,1,0,0.11223614]
[440.08456678846306,1,6.0087779923178406E-3,0,1,null,null,null,5.6118069999999998,1,0,0.11223614]
[440.19905429882215,1,2.6008122743799763E-2,0,1,null,null,null,5.6118069999999998,1,0,0.11223614]
[440.31197408170425,1,2.564540360675012E-2,0,1,null,null,null,5.6118069999999998,1,0,0.11223614]
[440.73578666833077,1,9.6160239183268076E-2,0,1,null,null,null,5.6118069999999998,1,0,0.11223614]
[440.79676227839605,1,1.383304399744199E-2,0,1,null,null,null,5.6118069999999998,1,0,0.11223614]
[441.70795549821116,1,0.20628861411096053,{"$f":"IF(C771>I770,J770,K770)","v":0},1,null,null,null,5.6118069999999998,1,0,{"$f":"I771/50","v":0.11223614}]
[442.07836838530727,{"$f":"IF(A772=A771,B771+1,1)","v":1},{"$f":"((A772-A771)/A772)*100","v":8.3788964488138801E-2},0,{"$f":"IF(C772<(A771*1.005)-(A771),J771,K771)","v":1},null,null,null,5.6118069999999998,1,0,0.11223614]
[443.02258149319988,1,0.2131297923257443,0,1,null,null,null,5.6118069999999998,1,0,0.11223614]
[444.12866468084519,1,0.24904566527813557,0,1,null,null,null,5.6118069999999998,1,0,0.11223614]
[444.42705786468201,1,6.7141092909711209E-2,0,1,null,null,null,5.6118069999999998,1,0,0.11223614]
[444.68168134511728,1,5.7259718831920471E-2,0,1,null,null,null,5.6118069999999998,1,0,0.11223614]
[445.15880647071987,1,0.1071808798719039,0,1,null,null,null,5.6118069999999998,1,0,0.11223614]
[445.49370850875772,1,7.5175480964456698E-2,0,1,null,null,null,5.6118069999999998,1,0,0.11223614]
[445.88560656777304,1,8.7892063175569482E-2,0,1,null,null,null,5.6118069999999998,1,0,0.11223614]
[445.96657587565335,1,1.8155913976585902E-2,0,1,null,null,null,5.6118069999999998,1,0,0.11223614]
[445.98013704624185,1,3.0407566306246705E-3,0,1,null,null,null,5.6118069999999998,1,0,0.11223614]
[446.78642152554698,1,0.1804630670180363,0,1,null,null,null,5.6118069999999998,1,0,0.11223614]
[447.13287366076764,1,7.7483038181510769E-2,0,1,null,null,null,5.6118069999999998,1,0,0.11223614]
[448.38115287968134,1,0.2783968975717982,0,1,null,null,null,5.6118069999999998,1,0,0.11223614]
[449.19659161558758,1,0.18153270775573369,0,1,null,null,null,5.6118069999999998,1,0,0.11223614]
[449.38100736009949,1,4.1037725558377418E-2,0,1,null,null,null,5.6118069999999998,1,0,0.11223614]
[449.62884212221337,1,5.511985417664076E-2,0,1,null,null,null,5.6118069999999998,1,0,0.11223614]
[449.76553617404272,1,3.0392291279618237E-2,0,1,null,null,null,5.6118069999999998,1,0,0.11223614]
[450.53895125963459,1,0.1716644217840699,0,1,null,null,null,5.6118069999999998,1,0,0.11223614]
[450.81298137628585,1,6.0785764379427357E-2,0,1,null,null,null,5.6118069999999998,1,0,0.11223614]
[451.87063384436561,1,0.23406089904130511,0,1,null,null,null,5.6118069999999998,1,0,0.11223614]
[452.09193375879653,1,4.8950201918219735E-2,0,1,null,null,null,5.6118069999999998,1,0,0.11223614]
[452.37680903955226,1,6.2973007250426996E-2,0,1,null,null,null,5.6118069999999998,1,0,0.11223614]
[452.5383889261368,1,3.5705233089279573E-2,0,1,null,null,null,5.6118069999999998,1,0,0.11223614]
[453.0920309635589,1,0.12219196092341379,0,1,null,null,null,5.6118069999999998,1,0,0.11223614]
[453.18505824680096,1,2.0527438305656502E-2,0,1,null,null,null,5.6118069999999998,1,0,0.11223614]
[453.76566115969581,1,0.12795214856298093,0,1,null,null,null,5.6118069999999998,1,0,0.11223614]
[453.77464766369837,1,1.9803891752948636E-3,0,1,null,null,null,5.6118069999999998,1,0,0.11223614]
[454.46538985058169,1,0.15199005299620585,0,1,null,null,null,5.6118069999999998,1,0,0.11223614]
[455.08186887808273,1,0.13546552162599979,0,1,null,null,null,5.6118069999999998,1,0,0.11223614]
[456.91077018198632,1,0.40027537612544034,0,1,null,null,null,5.6118069999999998,1,0,0.11223614]
[457.47733972928546,1,0.12384647240329089,0,1,null,null,null,5.6118069999999998,1,0,0.11223614]
[457.91215761927646,1,9.4956616188495602E-2,0,1,null,null,null,5.6118069999999998,1,0,0.11223614]
[458.37503469733605,1,0.10098217464335249,0,1,null,null,null,5.6118069999999998,1,0,0.11223614]
[458.71065363351875,1,7.316571645419781E-2,0,1,null,null,null,5.6118069999999998,1,0,0.11223614]
[459.15955424405917,1,9.7765712678999125E-2,0,1,null,null,null,5.6118069999999998,1,0,0.11223614]
[459.2865685459941,1,2.7654695485007472E-2,0,1,null,null,null,5.6118069999999998,1,0,0.11223614]
[459.91717224497103,1,0.13711244916096349,0,1,null,null,null,5.6118069999999998,1,0,0.11223614]
[460.06953373003648,1,3.3117055987206337E-2,0,1,null,null,null,5.6118069999999998,1,0,0.11223614]
[460.68775374232791,1,0.13419501761646871,0,1,null,null,null,5.6118069999999998,1,0,0.11223614]
[461.2381674073211,1,0.11933393719065627,0,1,null,null,null,5.6118069999999998,1,0,0.11223614]
[461.46834156632116,1,4.9878645676710492E-2,0,1,null,null,null,5.6118069999999998,1,0,0.11223614]
[461.50511125345116,1,7.9673412565545217E-3,0,1,null,null,null,5.6118069999999998,1,0,0.11223614]
[461.60359731609446,1,2.1335635860710703E-2,0,1,null,null,null,5.6118069999999998,1,0,0.11223614]
[461.74717166507099,1,3.1093714869718906E-2,0,1,null,null,null,5.6118069999999998,1,0,0.11223614]
[462.10905573095715,1,7.8311398878287697E-2,0,1,null,null,null,5.6118069999999998,1,0,0.11223614]
[462.38263902851952,1,5.9168159543614166E-2,0,1,null,null,null,5.6118069999999998,1,0,0.11223614]
[462.410474931127,1,6.0197387638383669E-3,0,1,null,null,null,5.6118069999999998,1,0,0.11223614]
[462.63344180318575,1,4.8195148018202121E-2,0,1,null,null,null,5.6118069999999998,1,0,0.11223614]
[463.80222264175069,1,0.25199983559969474,0,1,null,null,null,5.6118069999999998,1,0,0.11223614]
[463.92063064607913,1,2.5523332334572612E-2,0,1,null,null,null,5.6118069999999998,1,0,0.11223614]
[464.31492626142193,1,8.4919866461669463E-2,0,1,null,null,null,5.6118069999999998,1,0,0.11223614]
[464.71192833241906,1,8.5429713935198923E-2,0,1,null,null,null,5.6118069999999998,1,0,0.11223614]
[464.86596955718841,1,3.3136696350579718E-2,0,1,null,null,null,5.6118069999999998,1,0,0.11223614]
[464.93220847120585,1,1.4247004791355331E-2,0,1,null,null,null,5.6118069999999998,1,0,0.11223614]
[465.38810342783341,1,9.79601655628171E-2,0,1,null,null,null,5.6118069999999998,1,0,0.11223614]
[465.494912889825,1,2.2945355369945429E-2,0,1,null,null,null,5.6118069999999998,1,0,0.11223614]
[465.6395531654972,1,3.1062712497018991E-2,0,1,null,null,null,5.6118069999999998,1,0,0.11223614]
[465.71866844186275,1,1.6987782909848731E-2,0,1,null,null,null,5.6118069999999998,1,0,0.11223614]
[466.28592775798614,1,0.12165482214977312,0,1,null,null,null,5.6118069999999998,1,0,0.11223614]
[466.79424233687234,1,0.10889478335068312,0,1,null,null,null,5.6118069999999998,1,0,0.11223614]
[467.05490061085993,1,5.5808915321662031E-2,0,1,null,null,null,5.6118069999999998,1,0,0.11223614]
[467.6661424847041,1,0.13070047589860678,0,1,null,null,null,5.6118069999999998,1,0,0.11223614]
[467.9526310767161,1,6.122170770849647E-2,0,1,null,null,null,5.6118069999999998,1,0,0.11223614]
[468.56834659794384,1,0.13140356699255612,{"$f":"IF(C835>I834,J834,K834)","v":0},1,null,null,null,5.6118069999999998,1,0,{"$f":"I835/50","v":0.11223614}]
[469.12991128585082,{"$f":"IF(A836=A835,B835+1,1)","v":1},{"$f":"((A836-A835)/A836)*100","v":0.11970344981153988},0,{"$f":"IF(C836<(A835*1.005)-(A835),J835,K835)","v":1},null,null,null,5.6118069999999998,1,0,0.11223614]
[470.7704892523418,1,0.34848785213713762,0,1,null,null,null,5.6118069999999998,1,0,0.11223614]
[471.50945125532377,1,0.15672262793769828,0,1,null,null,null,5.6118069999999998,1,0,0.11223614]
[471.65806805763367,1,3.1509437105980462E-2,0,1,null,null,null,5.6118069999999998,1,0,0.11223614]
[471.74743418415449,1,1.8943638066705341E-2,0,1,null,null,null,5.6118069999999998,1,0,0.11223614]
[471.77130073621538,1,5.0589241065851481E-3,0,1,null,null,null,5.6118069999999998,1,0,0.11223614]
[471.78256011717576,1,2.3865615035845726E-3,0,1,null,null,null,5.6118069999999998,1,0,0.11223614]
[472.50975172915986,1,0.1538998103897164,0,1,null,null,null,5.6118069999999998,1,0,0.11223614]
[473.0226078796415,1,0.10842106528069645,0,1,null,null,null,5.6118069999999998,1,0,0.11223614]
[473.37091217344852,1,7.3579572561356651E-2,0,1,null,null,null,5.6118069999999998,1,0,0.11223614]
[473.64769257945625,1,5.8435924072679835E-2,0,1,null,null,null,5.6118069999999998,1,0,0.11223614]
[473.91461485405193,1,5.6322862015531633E-2,0,1,null,null,null,5.6118069999999998,1,0,0.11223614]
[474.14337510216421,1,4.824706199110957E-2,0,1,null,null,null,5.6118069999999998,1,0,0.11223614]
[474.3180915906417,1,3.6835299259104469E-2,0,1,null,null,null,5.6118069999999998,1,0,0.11223614]
[474.78936059963422,1,9.9258544546434985E-2,0,1,null,null,null,5.6118069999999998,1,0,0.11223614]
[475.44003153284632,1,0.13685657287088274,0,1,null,null,null,5.6118069999999998,1,0,0.11223614]
[475.67500082681039,1,4.9397023925085548E-2,0,1,null,null,null,5.6118069999999998,1,0,0.11223614]
[477.09281148373015,1,0.29717711581326256,0,1,null,null,null,5.6118069999999998,1,0,0.11223614]
[477.31054428545161,1,4.5616591614882573E-2,0,1,null,null,null,5.6118069999999998,1,0,0.11223614]
[477.60157865030249,1,6.0936642142878417E-2,0,1,null,null,null,5.6118069999999998,1,0,0.11223614]
[478.47648588225434,1,0.18285271225787111,0,1,null,null,null,5.6118069999999998,1,0,0.11223614]
[478.56457875369853,1,1.8407729145689201E-2,0,1,null,null,null,5.6118069999999998,1,0,0.11223614]
[479.41171061346523,1,0.17670237105445286,0,1,null,null,null,5.6118069999999998,1,0,0.11223614]
[479.72270075094332,1,6.4827063007706659E-2,0,1,null,null,null,5.6118069999999998,1,0,0.11223614]
[479.82163555182547,1,2.0619078747536403E-2,0,1,null,null,null,5.6118069999999998,1,0,0.11223614]
[480.16186030665534,1,7.0856263888304558E-2,0,1,null,null,null,5.6118069999999998,1,0,0.11223614]
[480.70102615933342,1,0.11216240934325973,0,1,null,null,null,5.6118069999999998,1,0,0.11223614]
[481.21619098812226,1,0.10705475801448175,0,1,null,null,null,5.6118069999999998,1,0,0.11223614]
[481.68620206265462,1,9.7576196395016399E-2,0,1,null,null,null,5.6118069999999998,1,0,0.11223614]
[481.96353211517572,1,5.7541708872453516E-2,0,1,null,null,null,5.6118069999999998,1,0,0.11223614]
[481.99572466983011,1,6.6790124905026348E-3,0,1,null,null,null,5.6118069999999998,1,0,0.11223614]
[482.40531045232615,1,8.4904907475415334E-2,0,1,null,null,null,5.6118069999999998,1,0,0.11223614]
[482.43281509176342,1,5.7012372659675618E-3,0,1,null,null,null,5.6118069999999998,1,0,0.11223614]
[483.07920416389987,1,0.13380602322867741,0,1,null,null,null,5.6118069999999998,1,0,0.11223614]
[483.15394042641401,1,1.5468416225308408E-2,0,1,null,null,null,5.6118069999999998,1,0,0.11223614]
[483.80039559351178,1,0.13362022292369521,0,1,null,null,null,5.6118069999999998,1,0,0.11223614]
[483.83464649384285,1,7.0790507830054026E-3,0,1,null,null,null,5.6118069999999998,1,0,0.11223614]
[483.91078703715596,1,1.5734417448986408E-2,0,1,null,null,null,5.6118069999999998,1,0,0.11223614]
[484.19863459988534,1,5.944823924735837E-2,0,1,null,null,null,5.6118069999999998,1,0,0.11223614]
[484.31205597220162,1,2.3419068536008468E-2,0,1,null,null,null,5.6118069999999998,1,0,0.11223614]
[484.6657534186017,1,7.2977602379632328E-2,0,1,null,null,null,5.6118069999999998,1,0,0.11223614]
[485.82026506442782,1,0.23764172243268028,0,1,null,null,null,5.6118069999999998,1,0,0.11223614]
[486.12138674584213,1,6.1943722211043196E-2,0,1,null,null,null,5.6118069999999998,1,0,0.11223614]
[486.39401890110395,1,5.6051708011905121E-2,0,1,null,null,null,5.6118069999999998,1,0,0.11223614]
[486.66269723622753,1,5.5208327379397334E-2,0,1,null,null,null,5.6118069999999998,1,0,0.11223614]
[486.68039775631098,1,3.6369905517161208E-3,0,1,null,null,null,5.6118069999999998,1,0,0.11223614]
[487.90105231233991,1,0.25018485822971859,0,1,null,null,null,5.6118069999999998,1,0,0.11223614]
[488.00293437810262,1,2.0877346955412171E-2,0,1,null,null,null,5.6118069999999998,1,0,0.11223614]
[488.36462979613526,1,7.4062574552875848E-2,0,1,null,null,null,5.6118069999999998,1,0,0.11223614]
[488.86760842650028,1,0.10288647103945781,0,1,null,null,null,5.6118069999999998,1,0,0.11223614]
[490.45003532960442,1,0.32264793334975977,0,1,null,null,null,5.6118069999999998,1,0,0.11223614]
[491.27667295571263,1,0.16826315427004368,0,1,null,null,null,5.6118069999999998,1,0,0.11223614]
[491.94921197805746,1,0.13670903539831938,0,1,null,null,null,5.6118069999999998,1,0,0.11223614]
[493.0377303880731,1,0.22077791270839622,0,1,null,null,null,5.6118069999999998,1,0,0.11223614]
[493.12322200611891,1,1.7336765788074526E-2,0,1,null,null,null,5.6118069999999998,1,0,0.11223614]
[493.49648263655314,1,7.5635925192424847E-2,0,1,null,null,null,5.6118069999999998,1,0,0.11223614]
[493.85254469478548,1,7.2098860693812092E-2,0,1,null,null,null,5.6118069999999998,1,0,0.11223614]
[494.20146443212514,1,7.0602732377693697E-2,0,1,null,null,null,5.6118069999999998,1,0,0.11223614]
[494.94141785488705,1,0.14950323332586055,0,1,null,null,null,5.6118069999999998,1,0,0.11223614]
[495.35748667494579,1,8.3993647265043769E-2,0,1,null,null,null,5.6118069999999998,1,0,0.11223614]
[495.5830126553484,1,4.5507205582821196E-2,0,1,null,null,null,5.6118069999999998,1,0,0.11223614]
[496.03407883024767,1,9.0934513201789691E-2,0,1,null,null,null,5.6118069999999998,1,0,0.11223614]
[496.20108748156639,1,3.3657453708206275E-2,0,1,null,null,null,5.6118069999999998,1,0,0.11223614]
[497.4983151924103,1,0.26075017165479297,{"$f":"IF(C899>I898,J898,K898)","v":0},1,null,null,null,5.6118069999999998,1,0,{"$f":"I899/50","v":0.11223614}]
[497.82645949045929,{"$f":"IF(A900=A899,B899+1,1)","v":1},{"$f":"((A900-A899)/A900)*100","v":6.5915399190482685E-2},0,{"$f":"IF(C900<(A899*1.005)-(A899),J899,K899)","v":1},null,null,null,5.6118069999999998,1,0,0.11223614]
[498.34651421103979,1,0.10435604659617843,0,1,null,null,null,5.6118069999999998,1,0,0.11223614]
[498.45691807098041,1,2.2149127825907021E-2,0,1,null,null,null,5.6118069999999998,1,0,0.11223614]
[499.07673339694418,1,0.12419239056588041,0,1,null,null,null,5.6118069999999998,1,0,0.11223614]
[499.17071658330883,1,1.8827864544607741E-2,0,1,null,null,null,5.6118069999999998,1,0,0.11223614]
[499.5644282418375,1,7.8810987386411457E-2,0,1,null,null,null,5.6118069999999998,1,0,0.11223614]
[499.64880312081976,1,1.6886837005362979E-2,0,1,null,null,null,5.6118069999999998,1,0,0.11223614]
[499.89121628021542,1,4.849318241666558E-2,0,1,null,null,null,5.6118069999999998,1,0,0.11223614]
[500.01719245744096,1,2.519436913886941E-2,0,1,null,null,null,5.6118069999999998,1,0,0.11223614]
[501.36986030622126,1,0.26979440845409652,0,1,null,null,null,5.6118069999999998,1,0,0.11223614]
[502.04651136480408,1,0.13477856000699154,0,1,null,null,null,5.6118069999999998,1,0,0.11223614]
[504.66592236726399,1,0.51903861274660634,0,1,null,null,null,5.6118069999999998,1,0,0.11223614]
[505.61825389582782,1,0.18834991047614355,0,1,null,null,null,5.6118069999999998,1,0,0.11223614]
[505.71656665252306,1,1.9440287935591147E-2,0,1,null,null,null,5.6118069999999998,1,0,0.11223614]
[506.13871310363646,1,8.3405287954523163E-2,0,1,null,null,null,5.6118069999999998,1,0,0.11223614]
[506.4307379926513,1,5.7663342113147477E-2,0,1,null,null,null,5.6118069999999998,1,0,0.11223614]
[506.9643740098266,1,0.10526104880990189,0,1,null,null,null,5.6118069999999998,1,0,0.11223614]
[507.1528487991863,1,3.7163310786080456E-2,0,1,null,null,null,5.6118069999999998,1,0,0.11223614]
[507.29686624014386,1,2.8389184034379563E-2,0,1,null,null,null,5.6118069999999998,1,0,0.11223614]
[507.42751204738977,1,2.5746693693997208E-2,0,1,null,null,null,5.6118069999999998,1,0,0.11223614]
[507.75684025965438,1,6.4859433916479178E-2,0,1,null,null,null,5.6118069999999998,1,0,0.11223614]
[507.87326644649397,1,2.2924259757597536E-2,0,1,null,null,null,5.6118069999999998,1,0,0.11223614]
[508.00584082950218,1,2.6097019434211489E-2,0,1,null,null,null,5.6118069999999998,1,0,0.11223614]
[508.23413001939673,1,4.4918114784192269E-2,0,1,null,null,null,5.6118069999999998,1,0,0.11223614]
[509.06444142522895,1,0.16310536314569421,0,1,null,null,null,5.6118069999999998,1,0,0.11223614]
[510.12685263211421,1,0.20826412124817753,0,1,null,null,null,5.6118069999999998,1,0,0.11223614]
[510.5767184384726,1,8.8109345787297247E-2,0,1,null,null,null,5.6118069999999998,1,0,0.11223614]
[511.04413466663823,1,9.1462986552136999E-2,0,1,null,null,null,5.6118069999999998,1,0,0.11223614]
[512.02450539087101,1,0.19146949294631629,0,1,null,null,null,5.6118069999999998,1,0,0.11223614]
[513.64240953745457,1,0.3149864801935866,0,1,null,null,null,5.6118069999999998,1,0,0.11223614]
[514.8853808805062,1,0.24140738681025062,0,1,null,null,null,5.6118069999999998,1,0,0.11223614]
[516.5659586541218,1,0.32533653165884746,0,1,null,null,null,5.6118069999999998,1,0,0.11223614]
[516.88199793547756,1,6.1143410414383918E-2,0,1,null,null,null,5.6118069999999998,1,0,0.11223614]
[517.00383405607306,1,2.3565806009533258E-2,0,1,null,null,null,5.6118069999999998,1,0,0.11223614]
[518.0862880246201,1,0.20893314368042162,0,1,null,null,null,5.6118069999999998,1,0,0.11223614]
[518.28020040105184,1,3.7414583131226739E-2,0,1,null,null,null,5.6118069999999998,1,0,0.11223614]
[518.52414757094562,1,4.7046443456212408E-2,0,1,null,null,null,5.6118069999999998,1,0,0.11223614]
[518.73323548350254,1,4.0307406245531419E-2,0,1,null,null,null,5.6118069999999998,1,0,0.11223614]
[518.89293833323632,1,3.0777610935844701E-2,0,1,null,null,null,5.6118069999999998,1,0,0.11223614]
[520.13357501078269,1,0.23852270592619548,0,1,null,null,null,5.6118069999999998,1,0,0.11223614]
[520.65855329385931,1,0.10082966653585798,0,1,null,null,null,5.6118069999999998,1,0,0.11223614]
[520.94492075506855,1,5.4970775181792948E-2,0,1,null,null,null,5.6118069999999998,1,0,0.11223614]
[521.34935785696871,1,7.757506474403561E-2,0,1,null,null,null,5.6118069999999998,1,0,0.11223614]
[523.41630123385619,1,0.39489472758396077,0,1,null,null,null,5.6118069999999998,1,0,0.11223614]
[523.5530705814266,1,2.6123301582114577E-2,0,1,null,null,null,5.6118069999999998,1,0,0.11223614]
[523.83785569362055,1,5.4365126364697473E-2,0,1,null,null,null,5.6118069999999998,1,0,0.11223614]
[524.24006097880317,1,7.6721585227894282E-2,0,1,null,null,null,5.6118069999999998,1,0,0.11223614]
[524.48552106591171,1,4.6800164589804488E-2,0,1,null,null,null,5.6118069999999998,1,0,0.11223614]
[524.733938289251,1,4.7341558304611189E-2,0,1,null,null,null,5.6118069999999998,1,0,0.11223614]
[525.26594477631056,1,0.10128326276437385,0,1,null,null,null,5.6118069999999998,1,0,0.11223614]
[526.29565169637931,1,0.19565180079861022,0,1,null,null,null,5.6118069999999998,1,0,0.11223614]
[526.84318681788636,1,0.10392753198805614,0,1,null,null,null,5.6118069999999998,1,0,0.11223614]
[526.91341502901412,1,1.332822606611532E-2,0,1,null,null,null,5.6118069999999998,1,0,0.11223614]
[527.34269856134893,1,8.1405039551309177E-2,0,1,null,null,null,5.6118069999999998,1,0,0.11223614]
[527.67592256311173,1,6.314936640357062E-2,0,1,null,null,null,5.6118069999999998,1,0,0.11223614]
[529.70390983417508,1,0.38285299266494338,0,1,null,null,null,5.6118069999999998,1,0,0.11223614]
[529.95412166024221,1,4.7213865472593181E-2,0,1,null,null,null,5.6118069999999998,1,0,0.11223614]
[531.60371540759559,1,0.31030515768472172,0,1,null,null,null,5.6118069999999998,1,0,0.11223614]
[532.22529816850817,1,0.11678940536114621,0,1,null,null,null,5.6118069999999998,1,0,0.11223614]
[533.33176491320023,1,0.20746312473477632,0,1,null,null,null,5.6118069999999998,1,0,0.11223614]
[534.43895706838737,1,0.20716905841979219,0,1,null,null,null,5.6118069999999998,1,0,0.11223614]
[536.78796342566636,1,0.43760414117487606,0,1,null,null,null,5.6118069999999998,1,0,0.11223614]
[537.66246345967988,1,0.1626485189958034,0,1,null,null,null,5.6118069999999998,1,0,0.11223614]
[537.80966572767852,1,2.7370699594895895E-2,{"$f":"IF(C963>I962,J962,K962)","v":0},1,null,null,null,5.6118069999999998,1,0,{"$f":"I963/50","v":0.11223614}]
[538.40017818947888,{"$f":"IF(A964=A963,B963+1,1)","v":1},{"$f":"((A964-A963)/A964)*100","v":0.10967909850738192},0,{"$f":"IF(C964<(A963*1.005)-(A963),J963,K963)","v":1},null,null,null,5.6118069999999998,1,0,0.11223614]
[538.82031018038856,1,7.7972560234232338E-2,0,1,null,null,null,5.6118069999999998,1,0,0.11223614]
[540.4659223398985,1,0.30448028108514374,0,1,null,null,null,5.6118069999999998,1,0,0.11223614]
[540.94498580558582,1,8.8560478099984116E-2,0,1,null,null,null,5.6118069999999998,1,0,0.11223614]
[541.70437854627437,1,0.14018582288857834,0,1,null,null,null,5.6118069999999998,1,0,0.11223614]
[542.36837809373105,1,0.12242593305134244,0,1,null,null,null,5.6118069999999998,1,0,0.11223614]
[543.36003603753863,1,0.18250476259521442,0,1,null,null,null,5.6118069999999998,1,0,0.11223614]
[544.35551711678431,1,0.18287333331685715,0,1,null,null,null,5.6118069999999998,1,0,0.11223614]
[544.97613400179409,1,0.11387964468325469,0,1,null,null,null,5.6118069999999998,1,0,0.11223614]
[547.65139287194108,1,0.48849667963367233,0,1,null,null,null,5.6118069999999998,1,0,0.11223614]
[547.74216126634542,1,1.6571372595179597E-2,0,1,null,null,null,5.6118069999999998,1,0,0.11223614]
[549.06852166832664,1,0.2415655514089784,0,1,null,null,null,5.6118069999999998,1,0,0.11223614]
[550.83467117229611,1,0.32063150640295063,0,1,null,null,null,5.6118069999999998,1,0,0.11223614]
[552.23257315492594,1,0.25313645927178197,0,1,null,null,null,5.6118069999999998,1,0,0.11223614]
[553.4949830749955,1,0.22807974031781036,0,1,null,null,null,5.6118069999999998,1,0,0.11223614]
[554.50620708846861,1,0.18236477798557363,0,1,null,null,null,5.6118069999999998,1,0,0.11223614]
[556.21864845254447,1,0.3078719796324772,0,1,null,null,null,5.6118069999999998,1,0,0.11223614]
[558.06740563455458,1,0.33127847341450822,0,1,null,null,null,5.6118069999999998,1,0,0.11223614]
[561.56705615622241,1,0.62319370114443884,0,1,null,null,null,5.6118069999999998,1,0,0.11223614]
[561.83257283857802,1,4.7259040360391594E-2,0,1,null,null,null,5.6118069999999998,1,0,0.11223614]
[562.20759722702519,1,6.670567781312535E-2,0,1,null,null,null,5.6118069999999998,1,0,0.11223614]
[563.16432201132534,1,0.16988377049228445,0,1,null,null,null,5.6118069999999998,1,0,0.11223614]
[564.12485660467246,1,0.17026985818854701,0,1,null,null,null,5.6118069999999998,1,0,0.11223614]
[565.11705977584177,1,0.17557480419417409,0,1,null,null,null,5.6118069999999998,1,0,0.11223614]
[565.84144615224284,1,0.12801932084101364,0,1,null,null,null,5.6118069999999998,1,0,0.11223614]
[567.30589009663697,1,0.25814009160819307,0,1,null,null,null,5.6118069999999998,1,0,0.11223614]
[571.72960363888023,1,0.77374225754407489,0,1,null,null,null,5.6118069999999998,1,0,0.11223614]
[573.33672558745127,1,0.28031030925576028,0,1,null,null,null,5.6118069999999998,1,0,0.11223614]
[573.92600439725686,1,0.10267504962150277,0,1,null,null,null,5.6118069999999998,1,0,0.11223614]
[576.55316070643983,1,0.45566592783290955,0,1,null,null,null,5.6118069999999998,1,0,0.11223614]
[577.36743418333094,1,0.14103211034804594,0,1,null,null,null,5.6118069999999998,1,0,0.11223614]
[582.67689005539478,1,0.91121785721741422,0,1,null,null,null,5.6118069999999998,1,0,0.11223614]
[584.18423127764481,1,0.25802497594866453,0,1,null,null,null,5.6118069999999998,1,0,0.11223614]
[592.13927899701173,1,1.3434419910196604,0,1,null,null,null,5.6118069999999998,1,0,0.11223614]
[593.08461718506157,1,0.15939347618501282,0,1,null,null,null,5.6118069999999998,1,0,0.11223614]
[601.18739426936349,1,1.3477955728179241,0,1,null,null,null,5.6118069999999998,1,0,0.11223614]
[611.28004054223095,1,1.651067530998535,0,1,null,null,null,5.6118069999999998,1,0,0.11223614]

{"sheet":"Axial","index":2,"n_rows":29,"n_cols":10,"rows_kept":29,"cut":false,"hidden":false,"merged":[[1,9,4,12]]}
[null,null,"Axial Modes"]
["Lx =",{"$f":"+AllModes!D2","v":21.030183727034121},"nx","ny","nz","f","Type","Spacing",null,"If you found this spreadsheet helpful, please send a donation via PayPal to erika@jhbrandt.net"]
["Ly =",{"$f":"+AllModes!D3","v":15.715223097112862},1,0,0,{"$f":"$B$5*SQRT((($C3/$B$2)^2)+(($D3/$B$3)^2)+(($E3/$B$4)^2))","v":26.866146645865832},{"$f":"+IF(+AND(C3=0,D3=0)+OR(+AND(C3=0,E3=0))+OR(+AND(D3=0,E3=0)),\"Axial\",(+IF(+OR(C3=0,D3=0,E3=0),\"Tangential\",\"Oblique\")))","v":"Axial"}]
["Lz =",{"$f":"+AllModes!D4","v":11.056430446194225},0,1,0,35.952400835073071,"Axial",{"$f":"F4-F3","v":9.0862541892072386}]
["c/2 =",{"$f":"1130/2","v":565},0,0,1,51.101483679525224,"Axial",{"$f":"F5-F4","v":15.149082844452153}]
[null,null,2,0,0,53.732293291731665,"Axial",2.6308096122064413]
["V =",{"$f":"B2*B3*B4","v":3654.0842450032083},0,2,0,71.904801670146142,"Axial",18.172508378414477]
[null,null,3,0,0,80.598439937597504,"Axial",8.6936382674513624]
[null,null,0,0,2,102.20296735905045,"Axial",21.604527421452943]
[null,null,4,0,0,107.46458658346333,"Axial",5.2616192244128825]
[null,null,0,3,0,107.85720250521919,"Axial",0.39261592175586202]
[null,null,5,0,0,134.33073322932916,"Axial",26.473530724109963]
[null,null,0,4,0,143.80960334029228,"Axial",9.478870110963129]
[null,null,0,0,3,153.30445103857568,"Axial",9.4948476982833938]
[null,null,6,0,0,161.19687987519501,"Axial",7.8924288366193309]
[null,null,0,5,0,179.76200417536535,"Axial",18.565124300170339]
[null,null,7,0,0,188.06302652106086,"Axial",8.3010223456955146]
[null,null,0,0,4,204.40593471810089,"Axial",16.342908197040032]
[null,null,8,0,0,214.92917316692666,"Axial",10.523238448825765]
[null,null,0,6,0,215.71440501043838,"Axial",0.78523184351172404]
[null,null,9,0,0,241.79531981279251,"Axial",26.08091480235413]
[null,null,0,7,0,251.66680584551145,"Axial",9.8714860327189342]
[null,null,0,0,5,255.50741839762611,"Axial",3.8406125521146635]
[null,null,0,8,0,287.61920668058457,"Axial",32.111788282958457]
[null,null,0,0,6,306.60890207715136,"Axial",18.989695396566788]
[null,null,0,9,0,323.5716075156576,"Axial",16.962705438506248]
[null,null,0,0,7,357.71038575667654,"Axial",34.13877824101894]
[null,null,0,0,8,408.81186943620179,"Axial",51.101483679525245]
[null,null,0,0,9,459.91335311572703,"Axial",51.101483679525245]

{"sheet":"Tangential","index":3,"n_rows":245,"n_cols":10,"rows_kept":245,"cut":false,"hidden":false,"merged":[[1,9,4,12]]}
[null,null,"Tangential Modes"]
["Lx =",{"$f":"+AllModes!D2","v":21.030183727034121},"nx","ny","nz","f","Type","Spacing",null,"If you found this spreadsheet helpful, please send a donation via PayPal to erika@jhbrandt.net"]
["Ly =",{"$f":"+AllModes!D3","v":15.715223097112862},1,1,0,{"$f":"$B$5*SQRT((($C3/$B$2)^2)+(($D3/$B$3)^2)+(($E3/$B$4)^2))","v":44.88167734613905},{"$f":"+IF(+AND(C3=0,D3=0)+OR(+AND(C3=0,E3=0))+OR(+AND(D3=0,E3=0)),\"Axial\",(+IF(+OR(C3=0,D3=0,E3=0),\"Tangential\",\"Oblique\")))","v":"Tangential"}]
["Lz =",{"$f":"+AllModes!D4","v":11.056430446194225},1,0,1,57.733451913478639,"Tangential",{"$f":"F4-F3","v":12.851774567339589}]
["c/2 =",{"$f":"1130/2","v":565},0,1,1,62.481491339872363,"Tangential",{"$f":"F5-F4","v":4.7480394263937242}]
[null,null,2,1,0,64.650865950847361,"Tangential",2.1693746109749981]
["V =",{"$f":"B2*B3*B4","v":3654.0842450032083},2,0,1,74.152012627018109,"Tangential",9.5011466761707482]
[null,null,1,2,0,76.759952702045211,"Tangential",2.607940075027102]
[null,null,0,2,1,88.213729869402044,"Tangential",11.453777167356833]
[null,null,3,1,0,88.253519171647042,"Tangential",3.9789302244997771E-2]
[null,null,2,2,0,89.763354692278099,"Tangential",1.5098355206310572]
[null,null,3,0,1,95.433066358696095,"Tangential",5.6697116664179958]
[null,null,1,0,2,105.67514548176548,"Tangential",10.242079123069388]
[null,null,3,2,0,108.01115231121999,"Tangential",2.3360068294545044]
[null,null,0,1,2,108.34215090536506,"Tangential",0.33099859414507193]
[null,null,1,3,0,111.15289455452354,"Tangential",2.8107436491584821]
[null,null,4,1,0,113.31907383737502,"Tangential",2.1661792828514734]
[null,null,2,0,2,115.46690382695728,"Tangential",2.147829989582263]
[null,null,4,0,1,118.99579405930056,"Tangential",3.5288902323432865]
[null,null,0,3,1,119.35048289177821,"Tangential",0.35468883247764893]
[null,null,2,3,0,120.50035466603629,"Tangential",1.1498717742580737]
[null,null,0,2,2,124.96298267974473,"Tangential",4.4626280137084393]
[null,null,4,2,0,129.30173190169472,"Tangential",4.3387492219499961]
[null,null,3,0,2,130.15972901542798,"Tangential",0.85799711373326204]
[null,null,3,3,0,134.64503203841713,"Tangential",4.4853030229891431]
[null,null,5,1,0,139.05869629668962,"Tangential",4.4136642582724903]
[null,null,5,0,1,143.72232785541007,"Tangential",4.6636315587204535]
[null,null,1,4,0,146.29761395350701,"Tangential",2.5752860980969388]
[null,null,4,0,2,148.30402525403622,"Tangential",2.0064113005292086]
[null,null,0,3,2,148.58877033358542,"Tangential",0.28474507954919659]
[null,null,4,3,0,152.2557503078506,"Tangential",3.666979974265189]
[null,null,5,2,0,152.36484631683336,"Tangential",0.1090960089827604]
[null,null,0,4,1,152.61901469718964,"Tangential",0.2541683803562762]
[null,null,2,4,0,153.51990540409042,"Tangential",0.90089070690078188]
[null,null,1,0,3,155.6407547650557,"Tangential",2.1208493609652805]
[null,null,0,1,3,157.46374133128174,"Tangential",1.8229865662260352]
[null,null,2,0,3,162.44818881916694,"Tangential",4.9844474878852054]
[null,null,3,4,0,164.85542312361676,"Tangential",2.4072343044498155]
[null,null,6,1,0,165.15752846087219,"Tangential",0.30210533725542632]
[null,null,5,0,2,168.79038013738912,"Tangential",3.6328516765169354]
[null,null,6,0,1,169.10291456904824,"Tangential",0.31253443165911676]
[null,null,0,2,3,169.32972335494466,"Tangential",0.22680878589642361]
[null,null,5,3,0,172.27281277723731,"Tangential",2.943089422292644]
[null,null,3,0,3,173.2003557404359,"Tangential",0.92754296319859009]
[null,null,0,4,2,176.42745973880409,"Tangential",3.2271039983681931]
[null,null,6,2,0,176.50703834329408,"Tangential",7.9578604489995541E-2]
[null,null,4,4,0,179.5267093845562,"Tangential",3.0196710412621144]
[null,null,1,5,0,181.75854307498517,"Tangential",2.2318336904289708]
[null,null,0,5,1,186.88429516519801,"Tangential",5.1257520902128419]
[null,null,4,0,3,187.21883473035967,"Tangential",0.33453956516166272]
[null,null,0,3,3,187.44447401961708,"Tangential",0.22563928925740129]
[null,null,2,5,0,187.62072776623788,"Tangential",0.17625374662080162]
[null,null,6,0,2,190.86613271739219,"Tangential",3.2454049511543133]
[null,null,7,1,0,191.46873653436742,"Tangential",0.60260381697523258]
[null,null,6,3,0,193.95259785254206,"Tangential",2.4838613181746325]
[null,null,7,0,1,194.88217870936793,"Tangential",0.92958085682587921]
[null,null,5,4,0,196.78909497942561,"Tangential",1.9069162700576783]
[null,null,3,5,0,197.00377322660239,"Tangential",0.21467824717677786]
[null,null,7,2,0,201.34051367641905,"Tangential",4.3367404498166593]
[null,null,5,0,3,203.8308136621356,"Tangential",2.4902999857165469]
[null,null,1,0,4,206.16395413257305,"Tangential",2.3331404704374563]
[null,null,0,5,2,206.78448849500103,"Tangential",0.62053436242797488]
[null,null,0,1,4,207.54363703516978,"Tangential",0.75914854016875211]
[null,null,4,5,0,209.4349911421173,"Tangential",1.8913541069475173]
[null,null,0,4,3,210.19861255757911,"Tangential",0.76362141546181306]
[null,null,2,0,4,211.35029096353097,"Tangential",1.1516784059518557]
[null,null,7,0,2,{"$f":"$B$5*SQRT((($C67/$B$2)^2)+(($D67/$B$3)^2)+(($E67/$B$4)^2))","v":214.0400627949272},{"$f":"+IF(+AND(C67=0,D67=0)+OR(+AND(C67=0,E67=0))+OR(+AND(D67=0,E67=0)),\"Axial\",(+IF(+OR(C67=0,D67=0,E67=0),\"Tangential\",\"Oblique\")))","v":"Tangential"},2.6897718313962287]
[null,null,6,4,0,216.02230462243998,"Tangential",1.9822418275127802]
[null,null,0,2,4,216.68430181073012,"Tangential",{"$f":"F69-F68","v":0.66199718829014387}]
[null,null,7,3,0,216.79685900979538,"Tangential",0.11255719906526451]
[null,null,1,6,0,217.38098896776739,"Tangential",0.58412995797201006]
[null,null,8,1,0,217.91540699093426,"Tangential",0.53441802316686449]
[null,null,3,0,4,219.72231263200158,"Tangential",1.806905641067317]
[null,null,8,0,1,220.92059911304679,"Tangential",1.1982864810452156]
[null,null,0,6,1,221.68460966710393,"Tangential",0.76401055405713691]
[null,null,2,6,0,222.30578910904708,"Tangential",0.62117944194315555]
[null,null,6,0,3,222.45603788105433,"Tangential",0.15024877200724518]
[null,null,5,5,0,224.40838673069521,"Tangential",1.9523488496408845]
[null,null,8,2,0,226.63814767475003,"Tangential",2.2297609440548172]
[null,null,3,6,0,230.27985810613561,"Tangential",3.6417104313855759]
[null,null,4,0,4,230.93380765391456,"Tangential",0.65394954777895009]
[null,null,0,3,4,231.11677195788363,"Tangential",0.18296430396907226]
[null,null,0,5,3,236.25543983871168,"Tangential",5.1386678808280521]
[null,null,7,4,0,236.74649724368351,"Tangential",0.49105740497182637]
[null,null,8,0,2,237.99158811860113,"Tangential",1.2450908749176222]
[null,null,0,6,2,238.70096578355643,"Tangential",0.70937766495529786]
[null,null,8,3,0,240.47396035843593,"Tangential",1.7729945748795046]
[null,null,4,6,0,241.00070933207257,"Tangential",0.52674897363664286]
[null,null,6,5,0,241.45146971315398,"Tangential",0.45076038108140892]
[null,null,7,0,3,242.63131836698304,"Tangential",1.1798486538290547]
[null,null,9,1,0,244.45357802490102,"Tangential",1.8222596579179822]
[null,null,5,0,4,244.59462798252483,"Tangential",0.14104995762380668]
[null,null,9,0,1,247.13627479109454,"Tangential",2.541646808569709]
[null,null,0,4,4,249.92596535948945,"Tangential",2.7896905683949171]
[null,null,9,2,0,252.26033613430721,"Tangential",2.3343707748177565]
[null,null,1,7,0,253.09676212879438,"Tangential",0.83642599448717192]
[null,null,5,6,0,254.12093660093544,"Tangential",1.0241744721410555]
[null,null,0,7,1,256.80253658936306,"Tangential",2.6815999884276209]
[null,null,1,0,5,256.91599929124061,"Tangential",0.11346270187755181]
[null,null,2,7,0,257.338960336112,"Tangential",0.42296104487138564]
[null,null,0,1,5,258.02444841918629,"Tangential",0.68548808307428999]
[null,null,8,4,0,258.60346380338945,"Tangential",0.57901538420316001]
[null,null,7,5,0,260.15779844049518,"Tangential",1.5543346371057396]
[null,null,6,0,4,260.31945803085597,"Tangential",0.16165959036078448]
[null,null,2,0,5,261.09615125200185,"Tangential",0.77669322114587658]
[null,null,9,0,2,262.50794887082134,"Tangential",1.4117976188194916]
[null,null,8,0,3,264.001523076019,"Tangential",1.4935742051976604]
[null,null,3,7,0,264.25799833658181,"Tangential",0.25647526056280867]
[null,null,0,6,3,264.6411896082061,"Tangential",0.38319127162429822]
[null,null,9,3,0,264.76055751494118,"Tangential",0.11936790673507858]
[null,null,0,2,5,265.43236682711216,"Tangential",0.6718093121709785]
[null,null,3,0,5,267.91817664465037,"Tangential",2.4858098175382111]
[null,null,6,6,0,269.29006407683426,"Tangential",1.3718874321838825]
[null,null,0,7,2,271.62773735662103,"Tangential",2.3376732797867703]
[null,null,0,5,4,272.20610627450037,"Tangential",0.57836891787934519]
[null,null,4,7,0,273.65090632781948,"Tangential",1.4448000533191134]
[null,null,4,0,5,277.1870816358047,"Tangential",3.5361753079852178]
[null,null,0,3,5,277.33953376406947,"Tangential",0.15245212826476973]
[null,null,7,0,4,277.75796674846566,"Tangential",0.41843298439619048]
[null,null,8,5,0,280.19444609656847,"Tangential",2.4364793481028073]
[null,null,9,4,0,281.32930650087417,"Tangential",1.134860404305698]
[null,null,5,7,0,285.27342507568341,"Tangential",3.944118574809238]
[null,null,7,6,0,286.18247059047604,"Tangential",0.90904551479263773]
[null,null,9,0,3,286.29919907608831,"Tangential",0.11672848561227056]
[null,null,5,0,5,288.66725956739316,"Tangential",2.3680604913048455]
[null,null,1,8,0,288.87124794130341,"Tangential",0.20398837391024927]
[null,null,0,8,1,292.12355209023735,"Tangential",3.2523041489339448]
[null,null,2,8,0,292.59522790701402,"Tangential",0.47167581677666703]
[null,null,0,4,5,293.19829956722424,"Tangential",0.60307166021021885]
[null,null,0,7,3,294.68361995998589,"Tangential",1.4853203927616505]
[null,null,8,0,4,{"$f":"$B$5*SQRT((($C131/$B$2)^2)+(($D131/$B$3)^2)+(($E131/$B$4)^2))","v":296.60805050807244},{"$f":"+IF(+AND(C131=0,D131=0)+OR(+AND(C131=0,E131=0))+OR(+AND(D131=0,E131=0)),\"Axial\",(+IF(+OR(C131=0,D131=0,E131=0),\"Tangential\",\"Oblique\")))","v":"Tangential"},1.9244305480865478]
[null,null,0,6,4,297.17754066717083,"Tangential",0.56949015909839318]
[null,null,3,8,0,298.69870534025307,"Tangential",{"$f":"F133-F132","v":1.5211646730822395}]
[null,null,6,7,0,298.86554710434655,"Tangential",0.16684176409347629]
[null,null,9,5,0,301.29612481496457,"Tangential",2.4305777106180244]
[null,null,6,0,5,302.10672772667215,"Tangential",0.81060291170757637]
[null,null,8,6,0,304.51150061570121,"Tangential",2.4047728890290614]
[null,null,0,8,2,305.23802939437928,"Tangential",0.72652877867807319]
[null,null,4,8,0,307.03981080818085,"Tangential",1.8017814138015638]
[null,null,1,0,6,307.78370435835836,"Tangential",0.74389355017751768]
[null,null,0,1,6,308.7095624673164,"Tangential",0.92585810895803888]
[null,null,2,0,6,311.28150953011141,"Tangential",2.5719470627950045]
[null,null,0,5,5,312.40745669936183,"Tangential",1.1259471692504235]
[null,null,7,7,0,314.1717414229733,"Tangential",1.7642847236114676]
[null,null,0,2,6,314.92748266256348,"Tangential",0.75574123959017925]
[null,null,9,0,4,316.61769191147727,"Tangential",1.6902092489137885]
[null,null,3,0,6,317.02543644529641,"Tangential",0.407744533819141]
[null,null,7,0,5,317.25658826962257,"Tangential",0.23115182432616166]
[null,null,5,8,0,317.44220567136,"Tangential",0.18561740173743146]
[null,null,9,6,0,324.03345693365992,"Tangential",6.5912512622999202]
[null,null,0,7,4,324.21901133718688,"Tangential",0.18555440352696451]
[null,null,1,9,0,324.68503973214405,"Tangential",0.46602839495716353]
[null,null,4,0,6,324.89637763833389,"Tangential",0.21133790618983994]
[null,null,0,3,6,325.02645271609509,"Tangential",0.13007507776120519]
[null,null,0,8,3,325.924934240705,"Tangential",0.89848152460990605]
[null,null,0,9,1,327.58196962671121,"Tangential",1.6570353860062141]
[null,null,2,9,0,328.00265933777956,"Tangential",0.42068971106834852]
[null,null,6,8,0,329.71084624723352,"Tangential",1.708186909453957]
[null,null,8,7,0,330.95427273673494,"Tangential",1.2434264895014167]
[null,null,3,9,0,333.4586836635707,"Tangential",2.5044109268357602]
[null,null,8,0,5,333.88409715713976,"Tangential",0.42541349356906721]
[null,null,0,6,5,334.39010958045253,"Tangential",0.50601242331276808]
[null,null,5,0,6,334.74432739463322,"Tangential",0.35421781418068576]
[null,null,0,4,6,338.65944670988932,"Tangential",3.9151193152561063]
[null,null,0,9,2,339.32879590046866,"Tangential",0.66934919057933939]
[null,null,4,9,0,340.95046936442463,"Tangential",1.6216734639559718]
[null,null,7,8,0,343.64590787004875,"Tangential"]
[null,null,6,0,6,346.40071148087179,"Tangential"]
[null,null,9,7,0,349.00022614298257,"Tangential"]
[null,null,5,9,0,350.34744337613762,"Tangential"]
[null,null,9,0,5,351.77978557556457,"Tangential"]
[null,null,0,8,4,352.85491947760818,"Tangential"]
[null,null,0,5,6,355.42002894898906,"Tangential"]
[null,null,0,9,3,358.05144867533471,"Tangential"]
[null,null,0,7,5,358.63661556051682,"Tangential"]
[null,null,1,0,7,358.71786952114263,"Tangential"]
[null,null,8,8,0,359.0534187691124,"Tangential"]
[null,null,0,1,7,359.51258003579807,"Tangential"]
[null,null,7,0,6,359.68975628618813,"Tangential"]
[null,null,6,9,0,361.50106399810892,"Tangential"]
[null,null,2,0,7,361.72348475123789,"Tangential"]
[null,null,0,2,7,364.86575693179736,"Tangential"]
[null,null,3,0,7,366.67809942586547,"Tangential"]
[null,null,4,0,7,373.50415988010769,"Tangential"]
[null,null,0,3,7,373.61731251434566,"Tangential"]
[null,null,7,9,0,374.254308104166,"Tangential"]
[null,null,8,0,6,374.43766946071935,"Tangential"]
[null,null,0,6,6,374.88894803923415,"Tangential"]
[null,null,9,8,0,375.75229172280433,"Tangential"]
[null,null,5,0,7,382.10138179299946,"Tangential"]
[null,null,0,9,4,382.72754191232082,"Tangential"]
[null,null,0,8,5,384.71918188178296,"Tangential"]
[null,null,0,4,7,385.53588949808881,"Tangential"]
[null,null,8,9,0,388.44965525597462,"Tangential"]
[null,null,9,0,6,{"$f":"$B$5*SQRT((($C195/$B$2)^2)+(($D195/$B$3)^2)+(($E195/$B$4)^2))","v":390.47918704628387},{"$f":"+IF(+AND(C195=0,D195=0)+OR(+AND(C195=0,E195=0))+OR(+AND(D195=0,E195=0)),\"Axial\",(+IF(+OR(C195=0,D195=0,E195=0),\"Tangential\",\"Oblique\")))","v":"Tangential"}]
[null,null,6,0,7,392.3533537000651,"Tangential"]
[null,null,0,7,6,396.66761904324704,"Tangential"]
[null,null,0,5,7,400.33872935719626,"Tangential"]
[null,null,9,9,0,403.93509611525138,"Tangential"]
[null,null,7,0,7,404.13416339435048,"Tangential"]
[null,null,1,0,8,409.69370806435296,"Tangential"]
[null,null,0,1,8,410.38971687620034,"Tangential"]
[null,null,0,9,5,412.28949301005275,"Tangential"]
[null,null,2,0,8,412.32790826514611,"Tangential"]
[null,null,0,2,8,415.08727407033956,"Tangential"]
[null,null,3,0,8,416.68123681334225,"Tangential"]
[null,null,8,0,7,417.31435340329369,"Tangential"]
[null,null,0,6,7,417.71931318434127,"Tangential"]
[null,null,0,8,6,420.39722511515822,"Tangential"]
[null,null,4,0,8,422.70058192706193,"Tangential"]
[null,null,0,3,8,422.80056850029655,"Tangential"]
[null,null,5,0,8,430.31603558530247,"Tangential"]
[null,null,9,0,7,431.76578924407727,"Tangential"]
[null,null,0,4,8,433.36860362146024,"Tangential"]
[null,null,0,7,7,437.37043937910659,"Tangential"]
[null,null,6,0,8,439.44462526400315,"Tangential"]
[null,null,0,9,6,445.76631100075628,"Tangential"]
[null,null,0,5,8,446.58876243930069,"Tangential"]
[null,null,7,0,8,449.99427389266117,"Tangential"]
[null,null,0,8,7,459.00057530438801,"Tangential"]
[null,null,1,0,9,460.69738680586039,"Tangential"]
[null,null,0,1,9,461.31645049787369,"Tangential"]
[null,null,8,0,8,461.86761530782911,"Tangential"]
[null,null,0,6,8,462.23354391576726,"Tangential"]
[null,null,2,0,9,463.04152266998693,"Tangential"]
[null,null,0,2,9,465.50036828919315,"Tangential"]
[null,null,3,0,9,466.92226429516711,"Tangential"]
[null,null,4,0,9,472.30173591011294,"Tangential"]
[null,null,0,3,9,472.39122399384519,"Tangential"]
[null,null,9,0,8,474.9653895551682,"Tangential"]
[null,null,5,0,9,479.12945877297147,"Tangential"]
[null,null,0,7,8,480.06595979761414,"Tangential"]
[null,null,0,4,9,481.87290273166803,"Tangential"]
[null,null,0,9,7,482.34355522641448,"Tangential"]
[null,null,6,0,9,487.34456645750083,"Tangential"]
[null,null,0,5,9,493.79618317611113,"Tangential"]
[null,null,7,0,9,496.87824898903818,"Tangential"]
[null,null,0,8,8,499.85193071897891,"Tangential"]
[null,null,8,0,9,507.65622408512849,"Tangential"]
[null,null,0,6,9,507.98917006483401,"Tangential"]
[null,null,9,0,9,519.60106722130786,"Tangential"]
[null,null,0,9,8,521.36909170201955,"Tangential"]
[null,null,0,7,9,524.26755911331554,"Tangential"]
[null,null,0,8,9,542.44363801755492,"Tangential"]
[null,null,0,9,9,562.33342205885128,"Tangential"]

{"sheet":"Oblique","index":4,"n_rows":731,"n_cols":10,"rows_kept":731,"cut":false,"hidden":false,"merged":[[1,9,4,12]]}
[null,null,"Oblique Modes"]
["Lx =",{"$f":"+AllModes!D2","v":21.030183727034121},"nx","ny","nz","f","Type","Spacing",null,"If you found this spreadsheet helpful, please send a donation via PayPal to erika@jhbrandt.net"]
["Ly =",{"$f":"+AllModes!D3","v":15.715223097112862},1,1,1,{"$f":"$B$5*SQRT((($C3/$B$2)^2)+(($D3/$B$3)^2)+(($E3/$B$4)^2))","v":68.012694371357711},{"$f":"+IF(+AND(C3=0,D3=0)+OR(+AND(C3=0,E3=0))+OR(+AND(D3=0,E3=0)),\"Axial\",(+IF(+OR(C3=0,D3=0,E3=0),\"Tangential\",\"Oblique\")))","v":"Oblique"}]
["Lz =",{"$f":"+AllModes!D4","v":11.056430446194225},2,1,1,82.408107018928774,"Oblique",{"$f":"F4-F3","v":14.395412647571064}]
["c/2 =",{"$f":"1130/2","v":565},1,2,1,92.214163625058163,"Oblique",{"$f":"F5-F4","v":9.8060566061293883}]
[null,null,3,1,1,101.98061227718266,"Oblique",9.7664486521244953]
["V =",{"$f":"B2*B3*B4","v":3654.0842450032083},2,2,1,103.28998731658605,"Oblique",1.3093750394033918]
[null,null,1,1,2,111.62352573896806,"Oblique",8.3335384223820057]
[null,null,3,2,1,119.48962573314199,"Oblique",7.8660999941739362]
[null,null,2,1,2,120.93461458651765,"Oblique",1.4449888533756621]
[null,null,1,3,1,122.33694291626634,"Oblique",1.4023283297486842]
[null,null,4,1,1,124.30838318315153,"Oblique",1.971440266885196]
[null,null,1,2,2,127.81837456256181,"Oblique",3.5099913794102804]
[null,null,2,3,1,130.88810911954269,"Oblique",3.0697345569808761]
[null,null,3,1,2,135.03381125916357,"Oblique",4.1457021396208802]
[null,null,2,2,2,136.02538874271542,"Oblique",0.99157748355185049]
[null,null,4,2,1,139.0334474399111,"Oblique",3.0080586971956791]
[null,null,3,3,1,144.01613203691855,"Oblique",4.9826845970074487]
[null,null,5,1,1,148.15087799261855,"Oblique",4.1347459556999979]
[null,null,3,2,2,148.70055669227568,"Oblique",0.54967869965713589]
[null,null,1,3,2,150.99805463927063,"Oblique",2.2974979469949517]
[null,null,4,1,2,152.59966917511841,"Oblique",1.6016145358477729]
[null,null,1,4,1,154.96565259030194,"Oblique",2.3659834151835355]
[null,null,2,3,2,158.00563917669416,"Oblique",3.0399865863922173]
[null,null,1,1,3,159.73922395467548,"Oblique",1.7335847779813207]
[null,null,4,3,1,160.6025377634343,"Oblique",0.86331380875881791]
[null,null,5,2,1,160.70596761601925,"Oblique",0.10342985258495219]
[null,null,2,4,1,161.80149254419644,"Oblique",1.0955249281771842]
[null,null,4,2,2,164.81621403785755,"Oblique",3.0147214936611135]
[null,null,2,1,3,166.37905269724754,"Oblique",1.5628386593899961]
[null,null,3,3,2,169.04061993976921,"Oblique",2.6615672425216701]
[null,null,1,2,3,171.44779102414608,"Oblique",2.4071710843768699]
[null,null,5,1,2,172.57684535513474,"Oblique",1.1290543309886516]
[null,null,3,4,1,172.59395171185892,"Oblique",1.7106356724184479E-2]
[null,null,6,1,1,172.88253480774912,"Oblique",0.28858309589020337]
[null,null,3,1,3,176.89244855114455,"Oblique",4.0099137433954297]
[null,null,2,2,3,177.65054053914602,"Oblique",0.7580919880014676]
[null,null,1,4,2,178.46130781064144,"Oblique",0.81076727149542194]
[null,null,5,3,1,179.69219141751776,"Oblique",1.2308836068763185]
[null,null,4,3,2,183.37737057445688,"Oblique",3.6851791569391139]
[null,null,5,2,2,183.4679615904297,"Oblique",9.0591015972819378E-2]
[null,null,6,2,1,183.7555338458406,"Oblique",0.28757225541090747]
[null,null,2,4,2,184.42832725011633,"Oblique",0.67279340427572265]
[null,null,4,4,1,186.6579787115881,"Oblique",2.2296514614717751]
[null,null,3,2,3,187.53310036320684,"Oblique",0.87512165161874123]
[null,null,1,5,1,188.80553385690268,"Oblique",1.2724334936958428]
[null,null,1,3,3,189.36002924611117,"Oblique",0.5544953892084834]
[null,null,4,1,3,190.63962653026653,"Oblique",1.2795972841553578]
[null,null,3,4,2,193.96586573482935,"Oblique",3.3262392045628246]
[null,null,6,1,2,194.22269626462028,"Oblique",0.25683052979093191]
[null,null,2,5,1,194.45539108438606,"Oblique",0.23269481976578277]
[null,null,2,3,3,194.99382088384127,"Oblique",0.53842979945520142]
[null,null,7,1,1,198.17073119993222,"Oblique",3.1769103160909538]
[null,null,5,3,2,200.30818395456586,"Oblique",2.1374527546336424]
[null,null,4,2,3,200.55221908773979,"Oblique",0.24403513317392367]
[null,null,6,3,1,200.57161276710792,"Oblique",1.9393679368135963E-2]
[null,null,5,4,1,203.3157877221299,"Oblique",2.7441749550219754]
[null,null,3,5,1,203.52358167978315,"Oblique",0.20779395765325148]
[null,null,6,2,2,203.96122455436532,"Oblique",0.437642874582167]
[null,null,3,3,3,204.03808311407315,"Oblique",7.6858559707829954E-2]
[null,null,4,4,2,206.5799746331721,"Oblique",2.5418915190989537]
[null,null,5,1,3,206.97723479642391,"Oblique",0.3972601632518149]
[null,null,7,2,1,207.72425010511668,"Oblique",0.74701530869276667]
[null,null,1,5,2,208.52245566781622,"Oblique",0.79820556269953613]
[null,null,1,1,4,209.27529980717614,"Oblique",0.75284413935992234]
[null,null,1,4,3,211.90858065856708,"Oblique",2.6332808513909356]
[null,null,2,5,2,{"$f":"$B$5*SQRT((($C67/$B$2)^2)+(($D67/$B$3)^2)+(($E67/$B$4)^2))","v":213.65154814446788},{"$f":"+IF(+AND(C67=0,D67=0)+OR(+AND(C67=0,E67=0))+OR(+AND(D67=0,E67=0)),\"Axial\",(+IF(+OR(C67=0,D67=0,E67=0),\"Tangential\",\"Oblique\")))","v":"Oblique"},1.742967485900806]
[null,null,2,1,4,214.38638160147897,"Oblique",0.73483345701109215]
[null,null,4,5,1,215.57916677858168,"Oblique",{"$f":"F69-F68","v":1.1927851771027065}]
[null,null,4,3,3,216.06496293949559,"Oblique",0.48579616091390676]
[null,null,5,2,3,216.14185411759399,"Oblique",7.6891178098406954E-2]
[null,null,2,4,3,216.95763656419174,"Oblique",0.81578244659775123]
[null,null,7,1,2,217.03853023613601,"Oblique",8.0893671944266998E-2]
[null,null,1,2,4,218.34348281274791,"Oblique",1.3049525766118961]
[null,null,6,3,2,219.23288245777601,"Oblique",0.88939964502810653]
[null,null,5,4,2,221.74623884029359,"Oblique",2.5133563825175713]
[null,null,3,5,2,221.93677748970248,"Oblique",0.19053864940889298]
[null,null,6,4,1,221.98422855833482,"Oblique",4.7451068632341276E-2]
[null,null,3,1,4,222.64426737322657,"Oblique",0.66003881489174887]
[null,null,7,3,1,222.73805178002675,"Oblique",9.3784406800182296E-2]
[null,null,2,2,4,223.24705147793611,"Oblique",0.50899969790935984]
[null,null,1,6,1,223.30664118841918,"Oblique",5.9589710483066938E-2]
[null,null,8,1,1,223.82691133613332,"Oblique",0.52027014771414315]
[null,null,3,4,3,225.12122343640939,"Oblique",1.2943121002760734]
[null,null,6,1,3,225.34254794765866,"Oblique",0.22132451124926433]
[null,null,7,2,2,225.79514827488967,"Oblique",0.45260032723101062]
[null,null,2,6,1,228.10354119488127,"Oblique",2.3083929199916042]
[null,null,5,5,1,230.15317870783807,"Oblique",2.0496375129567923]
[null,null,5,3,3,230.60827550289713,"Oblique",0.4550967950590632]
[null,null,3,2,4,231.18865709973335,"Oblique",0.5803815968362187]
[null,null,8,2,1,232.3278106807073,"Oblique",1.1391535809739537]
[null,null,1,3,4,232.67305842282116,"Oblique",0.34524774211385534]
[null,null,4,5,2,233.04176031710261,"Oblique",0.3687018942814575]
[null,null,4,1,4,233.71563628337103,"Oblique",0.67387596626841173]
[null,null,6,2,3,233.78834293642643,"Oblique",7.2706653055405468E-2]
[null,null,3,6,1,235.88169637263238,"Oblique",2.0933534362059447]
[null,null,4,4,3,236.07645814584293,"Oblique",0.19476177321055843]
[null,null,2,3,4,237.28068109861169,"Oblique",1.2042229527687596]
[null,null,1,5,3,237.77809547765389,"Oblique",0.49741437904219765]
[null,null,6,4,2,238.97925146628398,"Oblique",1.2011559886300915]
[null,null,7,3,2,239.67962911667783,"Oblique",0.70037765039384681]
[null,null,1,6,2,240.20811997432506,"Oblique",0.52849085764722759]
[null,null,8,1,2,240.69185931605509,"Oblique",0.48373934173002908]
[null,null,4,2,4,241.86922917303531,"Oblique",1.1773698569802207]
[null,null,7,4,1,242.19881418248565,"Oblique",0.32958500945034075]
[null,null,2,5,3,242.28865469883601,"Oblique",8.9840516350363941E-2]
[null,null,2,6,2,244.67388583253268,"Oblique",2.3852311336966636]
[null,null,3,3,4,244.76738099797305,"Oblique",9.3495165440373285E-2]
[null,null,7,1,3,245.28051650774478,"Oblique",0.51313550977172895]
[null,null,8,3,1,245.84362355920356,"Oblique",0.56310705145878615]
[null,null,4,6,1,246.35889172670613,"Oblique",0.51526816750256899]
[null,null,5,5,2,246.58582800329057,"Oblique",0.22693627658443916]
[null,null,6,5,1,246.79986600663074,"Oblique",0.2140380033401641]
[null,null,5,1,4,247.22278852022419,"Oblique",0.42292251359344846]
[null,null,6,3,3,247.22432105678632,"Oblique",1.5325365621379206E-3]
[null,null,8,2,2,248.61676636630307,"Oblique",1.3924453095167451]
[null,null,5,4,3,249.45581294301493,"Oblique",0.83904657671186555]
[null,null,3,5,3,249.62520180013399,"Oblique",0.16938885711905982]
[null,null,9,1,1,249.73768927301535,"Oblique",0.11248747288135519]
[null,null,1,4,4,251.36582503687708,"Oblique",1.6281357638617351]
[null,null,3,6,2,251.94098433239694,"Oblique",0.57515929551985323]
[null,null,7,2,3,253.06176549554721,"Oblique",1.1207811631502693]
[null,null,4,3,4,254.87957872255495,"Oblique",1.8178132270077469]
[null,null,5,2,4,254.94476370604826,"Oblique",6.5184983493310256E-2]
[null,null,2,4,4,255.63674912512363,"Oblique",0.69198541907536537]
[null,null,9,2,1,257.38422411026369,"Oblique",1.7474749851400588]
[null,null,7,4,2,257.86498500988569,"Oblique",0.48076089962199831]
[null,null,1,7,1,258.204052319727,"Oblique",0.33906730984131173]
[null,null,5,6,1,259.20804781716447,"Oblique",1.0039954974374723]
[null,null,1,1,5,259.41936284252665,"Oblique",0.2113150253621825]
[null,null,4,5,3,{"$f":"$B$5*SQRT((($C131/$B$2)^2)+(($D131/$B$3)^2)+(($E131/$B$4)^2))","v":259.5482040449092},{"$f":"+IF(+AND(C131=0,D131=0)+OR(+AND(C131=0,E131=0))+OR(+AND(D131=0,E131=0)),\"Axial\",(+IF(+OR(C131=0,D131=0,E131=0),\"Tangential\",\"Oblique\")))","v":"Oblique"},0.12884120238254582]
[null,null,8,3,2,261.29135490380418,"Oblique",1.7431508588949782]
[null,null,4,6,2,261.77621823908538,"Oblique",{"$f":"F133-F132","v":0.4848633352812044}]
[null,null,6,5,2,262.19126370578647,"Oblique",0.41504546670108766]
[null,null,2,7,1,262.36368296911792,"Oblique",0.17241926333144875]
[null,null,3,4,4,262.60064105262052,"Oblique",0.23695808350259995]
[null,null,6,1,4,262.7904019466547,"Oblique",0.18976089403417973]
[null,null,2,1,5,263.55981356119906,"Oblique",0.76941161454436724]
[null,null,8,4,1,263.60408404529653,"Oblique",4.4270484097467033E-2]
[null,null,6,4,3,264.89222488142099,"Oblique",1.2881408361244553]
[null,null,9,1,2,264.95848419360249,"Oblique",6.6259312181500718E-2]
[null,null,7,5,1,265.12910387894817,"Oblique",0.1706196853456845]
[null,null,7,3,3,265.52426025648231,"Oblique",0.39515637753413557]
[null,null,1,6,3,266.00140802793442,"Oblique",0.47714777145210974]
[null,null,8,1,3,266.43832177872531,"Oblique",0.43691375079089312]
[null,null,1,2,5,266.78855146921092,"Oblique",0.35022969048560526]
[null,null,5,3,4,267.31948707522537,"Oblique",0.53093560601445233]
[null,null,3,7,1,269.15358314372418,"Oblique",1.834096068498809]
[null,null,9,3,1,269.64701824769219,"Oblique",0.49343510396801094]
[null,null,2,6,3,270.04095722618666,"Oblique",0.39393897849447512]
[null,null,6,2,4,270.06762251832714,"Oblique",2.6665292140478414E-2]
[null,null,3,1,5,270.31967094978461,"Oblique",0.25204843145746736]
[null,null,2,2,5,270.81635973816515,"Oblique",0.49668878838053843]
[null,null,5,5,3,271.77449980326026,"Oblique",0.95814006509510818]
[null,null,4,4,4,272.05077748543084,"Oblique",0.27627768217058701]
[null,null,9,2,2,272.17774288796795,"Oblique",0.12696540253710964]
[null,null,1,7,2,272.9531416508604,"Oblique",0.77539876289245058]
[null,null,1,5,4,273.52870805222943,"Oblique",0.5755664013690307]
[null,null,8,2,3,273.61853864400496,"Oblique",8.9830591775523772E-2]
[null,null,5,6,2,273.90307949333425,"Oblique",0.28454084932928936]
[null,null,6,6,1,274.09578662349821,"Oblique",0.19270713016396712]
[null,null,3,6,3,276.64249087517447,"Oblique",2.5467042516762604]
[null,null,2,7,2,276.8912910220655,"Oblique",0.24880014689102836]
[null,null,3,2,5,277.39944102289957,"Oblique",0.50815000083406403]
[null,null,2,5,4,277.45868816008135,"Oblique",5.9247137181785092E-2]
[null,null,8,4,2,278.0668948798222,"Oblique",0.60820671974084917]
[null,null,4,7,1,278.38135743667505,"Oblique",0.31446255685284541]
[null,null,1,3,5,278.63776991655061,"Oblique",0.25641247987556426]
[null,null,4,1,5,279.50895039619041,"Oblique",0.87118047963980416]
[null,null,7,5,2,279.51301691763916,"Oblique",4.066521448748972E-3]
[null,null,7,1,4,280.07510281716856,"Oblique",0.56208589952939292]
[null,null,6,3,4,281.77898495404236,"Oblique",1.7038821368738013]
[null,null,7,4,3,282.04814955144184,"Oblique",0.26916459739948095]
[null,null,2,3,5,282.49668375196921,"Oblique",0.44853420052737647]
[null,null,3,7,2,283.33325999933714,"Oblique",0.83657624736792968]
[null,null,5,4,4,283.73884832853241,"Oblique",0.40558832919526822]
[null,null,9,3,2,283.80204254483016,"Oblique",6.3194216297745243E-2]
[null,null,3,5,4,283.88778207858667,"Oblique",8.5739533756509445E-2]
[null,null,8,5,1,284.81623770005041,"Oblique",0.9284556214637405]
[null,null,8,3,3,285.18411652599036,"Oblique",0.36787882593995391]
[null,null,4,6,3,285.62842401764078,"Oblique",0.44430749165042016]
[null,null,9,4,1,285.9327549101564,"Oblique",0.30433089251562251]
[null,null,6,5,3,286.00885814058478,"Oblique",7.6103230428373081E-2]
[null,null,4,2,5,286.36162230473076,"Oblique",0.35276416414598089]
[null,null,7,2,4,286.91425303645127,"Oblique",0.55263073172051236]
[null,null,6,6,2,288.0322640738371,"Oblique",1.118011037385827]
[null,null,9,1,3,288.54775431012354,"Oblique",0.51549023628643909]
[null,null,3,3,5,288.81365187408636,"Oblique",0.26589756396282382]
[null,null,5,7,1,289.81423134252805,"Oblique",1.0005794684416855]
[null,null,7,6,1,290.70907813055555,"Oblique",0.8948467880275075]
[null,null,5,1,5,290.89751094149045,"Oblique",0.1884328109348985]
[null,null,4,7,2,292.1134455498962,"Oblique",1.2159346084057461]
[null,null,4,5,4,292.65133121631152,"Oblique",0.53788566641532043]
[null,null,1,8,1,293.35636949180901,"Oblique",0.70503827549748621]
[null,null,1,4,5,{"$f":"$B$5*SQRT((($C195/$B$2)^2)+(($D195/$B$3)^2)+(($E195/$B$4)^2))","v":294.42661684146174},{"$f":"+IF(+AND(C195=0,D195=0)+OR(+AND(C195=0,E195=0))+OR(+AND(D195=0,E195=0)),\"Axial\",(+IF(+OR(C195=0,D195=0,E195=0),\"Tangential\",\"Oblique\")))","v":"Oblique"},1.0702473496527318]
[null,null,9,2,3,295.19067040615073,"Oblique",0.76405356468899299]
[null,null,1,7,3,295.90577167118346,"Oblique",{"$f":"F197-F196","v":0.71510126503272886}]
[null,null,5,6,3,296.78225204209178,"Oblique",0.87648037090832531]
[null,null,2,8,1,297.0241219635306,"Oblique",0.2418699214388198]
[null,null,6,4,4,297.40111338455137,"Oblique",0.37699142102076166]
[null,null,4,3,5,297.43210041625656,"Oblique",3.0987031705194568E-2]
[null,null,5,2,5,297.48796152007873,"Oblique",5.5861103822167024E-2]
[null,null,7,3,4,297.96419956849451,"Oblique",0.47623804841578021]
[null,null,2,4,5,298.08120070125261,"Oblique",0.11700113275810509]
[null,null,8,5,2,298.25219891956863,"Oblique",0.17099821831601503]
[null,null,1,6,4,298.38947788517135,"Oblique",0.13727896560271802]
[null,null,8,1,4,298.77903332062147,"Oblique",0.38955543545012006]
[null,null,9,4,2,299.31860154901494,"Oblique",0.53956822839347751]
[null,null,2,7,3,299.54230955761506,"Oblique",0.22370800860011286]
[null,null,8,4,3,300.6293501961344,"Oblique",1.0870406385193405]
[null,null,7,5,3,301.96743996272903,"Oblique",1.338089766594635]
[null,null,2,6,4,301.99610927854127,"Oblique",2.8669315812237528E-2]
[null,null,5,7,2,303.02866793656119,"Oblique",1.0325586580199229]
[null,null,3,8,1,303.0384104469137,"Oblique",9.7425103525097256E-3]
[null,null,6,7,1,303.20286423487028,"Oblique",0.16445378795657462]
[null,null,5,5,4,303.54721244487456,"Oblique",0.34434821000428428]
[null,null,7,6,2,303.8846047602014,"Oblique",0.33739231532683789]
[null,null,3,4,5,304.07458195233335,"Oblique",0.18997719213194841]
[null,null,6,1,5,304.2384756461999,"Oblique",0.16389369386655517]
[null,null,8,2,4,305.19933835023681,"Oblique",0.96086270403691287]
[null,null,3,7,3,305.50702838575728,"Oblique",0.3076900355204657]
[null,null,9,5,1,305.5989470904039,"Oblique",9.1918704646616334E-2]
[null,null,9,3,3,305.94183683154796,"Oblique",0.34288974114406301]
[null,null,1,8,2,306.41808762565097,"Oblique",0.47625079410300941]
[null,null,3,6,4,307.91329818207345,"Oblique",1.495210556422478]
[null,null,5,3,5,308.15898961153255,"Oblique",0.24569142945910016]
[null,null,8,6,1,308.76951864048198,"Oblique",0.61052902894942918]
[null,null,6,6,3,309.86996194975808,"Oblique",1.1004433092761019]
[null,null,1,1,6,309.87640083484757,"Oblique",6.4388850894943062E-3]
[null,null,2,8,2,309.93130518060389,"Oblique",5.4904345756312978E-2]
[null,null,6,2,5,310.54593129026932,"Oblique",0.61462610966543707]
[null,null,4,8,1,311.26324398388618,"Oblique",0.71731269361686145]
[null,null,4,4,5,312.27212529885929,"Oblique",1.0088813149731095]
[null,null,7,4,4,312.77897964079034,"Oblique",0.50685434193104584]
[null,null,2,1,6,313.35084697691599,"Oblique",0.57186733612564922]
[null,null,1,5,5,313.56053456543412,"Oblique",0.20968758851813618]
[null,null,4,7,3,313.66713765116691,"Oblique",0.10660308573278598]
[null,null,8,3,4,315.60974598141161,"Oblique",1.9426083302446955]
[null,null,3,8,2,315.69979903214772,"Oblique",9.0053050736116802E-2]
[null,null,6,7,2,315.85766063683735,"Oblique",0.15786160468962862]
[null,null,4,6,4,316.01127835338832,"Oblique",0.15361771655096845]
[null,null,1,2,6,316.07136721281222,"Oblique",6.0088859423899521E-2]
[null,null,6,5,4,316.35517756885633,"Oblique",0.28381035604411409]
[null,null,2,5,5,316.99460301991314,"Oblique",0.63942545105680892]
[null,null,9,5,2,318.15845323597767,"Oblique",1.1638502160645317]
[null,null,7,7,1,318.30055724580876,"Oblique",0.14210400983108684]
[null,null,9,1,4,318.65237792484294,"Oblique",0.35182067903417646]
[null,null,3,1,6,319.05752221055133,"Oblique",0.40514428570838845]
[null,null,7,1,5,319.28720288524966,"Oblique",0.22968067469832931]
[null,null,8,5,3,319.39189459283693,"Oblique",0.10469170758727842]
[null,null,2,2,6,319.47844790935096,"Oblique",8.6553316514027756E-2]
[null,null,9,4,3,320.38794203980564,"Oblique",0.90949413045467509]
[null,null,6,3,5,320.78287215805256,"Oblique",0.39493011824691848]
[null,null,8,6,2,321.2050755268686,"Oblique",0.42220336881604226]
[null,null,5,8,1,321.52902757876592,"Oblique",0.32395205189732224]
[null,null,5,4,5,322.50579647355329,"Oblique",0.97676889478736939]
[null,null,3,5,5,322.63683534546726,"Oblique",0.13103887191397234]
[null,null,4,8,2,323.60298508839287,"Oblique",0.96614974292560873]
[null,null,5,7,3,{"$f":"$B$5*SQRT((($C259/$B$2)^2)+(($D259/$B$3)^2)+(($E259/$B$4)^2))","v":323.85673030315519},{"$f":"+IF(+AND(C259=0,D259=0)+OR(+AND(C259=0,E259=0))+OR(+AND(D259=0,E259=0)),\"Axial\",(+IF(+OR(C259=0,D259=0,E259=0),\"Tangential\",\"Oblique\")))","v":"Oblique"},0.25374521476231848]
[null,null,7,6,3,324.65776008207121,"Oblique",0.80102977891601768]
[null,null,9,2,4,324.67993984010496,"Oblique",{"$f":"F261-F260","v":2.2179758033757935E-2}]
[null,null,3,2,6,325.0775720601988,"Oblique",0.39763222009383981]
[null,null,7,2,5,325.30300229740249,"Oblique",0.22543023720368183]
[null,null,1,7,4,325.33022784251085,"Oblique",2.7225545108365168E-2]
[null,null,5,6,4,326.12763845911184,"Oblique",0.79741061660098467]
[null,null,1,3,6,326.13491809495832,"Oblique",7.2796358464870536E-3]
[null,null,4,1,6,326.87953641718934,"Oblique",0.74461832223101965]
[null,null,1,8,3,327.03035424162852,"Oblique",0.15081782443917291]
[null,null,9,6,1,328.03817284978714,"Oblique",1.0078186081586296]
[null,null,2,7,4,328.64133436750097,"Oblique",0.6031615177138292]
[null,null,1,9,1,328.68181674700639,"Oblique",4.0482379505419885E-2]
[null,null,2,3,6,329.43793695868834,"Oblique",0.75612021168194588]
[null,null,8,4,4,329.6324280757151,"Oblique",0.19449111702675737]
[null,null,2,8,3,330.32441947606071,"Oblique",0.69199140034561424]
[null,null,4,5,5,330.37411577016491,"Oblique",4.9696294104194294E-2]
[null,null,7,7,2,330.37755620764966,"Oblique",3.4404374847554209E-3]
[null,null,7,5,4,330.85323972629595,"Oblique",0.47568351864629221]
[null,null,2,9,1,331.95949476841935,"Oblique",1.1062550421233937]
[null,null,4,2,6,332.75810539449509,"Oblique",0.7986106260757424]
[null,null,5,8,2,333.48913097504868,"Oblique",0.73102558055359168]
[null,null,6,8,1,333.64742433790138,"Oblique",0.15829336285270301]
[null,null,3,7,4,334.08692855728043,"Oblique",0.43950421937904594]
[null,null,9,3,4,334.48458703444464,"Oblique",0.39765847716421376]
[null,null,6,4,5,334.58881773097232,"Oblique",0.10423069652767936]
[null,null,3,3,6,334.87057721690417,"Oblique",0.2817594859318433]
[null,null,8,7,1,334.87623426715413,"Oblique",5.657050249965323E-3]
[null,null,7,3,5,335.0894193088356,"Oblique",0.21318504168147001]
[null,null,1,6,5,335.46763662211021,"Oblique",0.37821731327460384]
[null,null,3,8,3,335.74271590040848,"Oblique",0.2750792782982785]
[null,null,8,1,5,335.8141829349143,"Oblique",7.1467034505815263E-2]
[null,null,6,7,3,335.89115789823859,"Oblique",7.6974963324289547E-2]
[null,null,5,1,6,336.66948161170052,"Oblique",0.77832371346192986]
[null,null,3,9,1,337.3515308174695,"Oblique",0.68204920576897621]
[null,null,9,5,3,338.05563083130818,"Oblique",0.70410001383868348]
[null,null,6,6,4,338.08123987953843,"Oblique",2.5609048230251119E-2]
[null,null,2,6,5,338.67964911936423,"Oblique",0.59840923982579852]
[null,null,1,4,6,339.72343263520332,"Oblique",1.0437835158390953]
[null,null,9,6,2,339.76922719600896,"Oblique",4.5794560805632045E-2]
[null,null,5,5,5,340.06347185678857,"Oblique",0.29424466077961142]
[null,null,1,9,2,340.39068959485229,"Oblique",0.32721773806372312]
[null,null,8,6,3,340.92449122271228,"Oblique",0.53380162785998664]
[null,null,8,2,5,341.5390033915034,"Oblique",0.6145121687911228]
[null,null,4,7,4,341.56493479573925,"Oblique",2.5931404235848277E-2]
[null,null,4,3,6,342.33146559257847,"Oblique",0.76653079683921987]
[null,null,5,2,6,342.38000120642039,"Oblique",4.8535613841920622E-2]
[null,null,2,4,6,342.89558204829217,"Oblique",0.5155808418717811]
[null,null,4,8,3,343.1846443670849,"Oblique",0.28906231879273037]
[null,null,2,9,2,343.55667810370176,"Oblique",0.37203373661685646]
[null,null,3,6,5,343.96635577567974,"Oblique",0.40967767197798821]
[null,null,4,9,1,344.75873331080425,"Oblique",0.79237753512450126]
[null,null,6,8,2,345.18790342371784,"Oblique",0.42917011291359586]
[null,null,8,7,2,346.37577452774644,"Oblique",1.1878711040286021]
[null,null,8,5,4,346.82951686865312,"Oblique"]
[null,null,7,8,1,347.42462726479084,"Oblique"]
[null,null,9,4,4,347.74698394701193,"Oblique"]
[null,null,3,4,6,348.11826922214652,"Oblique"]
[null,null,6,1,6,348.26143633807629,"Oblique"]
[null,null,7,4,5,348.32878837869976,"Oblique"]
[null,null,3,9,2,348.76946576160657,"Oblique"]
[null,null,7,7,3,349.57994481517761,"Oblique"]
[null,null,8,3,5,350.87286367955301,"Oblique"]
[null,null,5,7,4,350.94545616433345,"Oblique"]
[null,null,4,6,5,{"$f":"$B$5*SQRT((($C323/$B$2)^2)+(($D323/$B$3)^2)+(($E323/$B$4)^2))","v":351.23408541139867},{"$f":"+IF(+AND(C323=0,D323=0)+OR(+AND(C323=0,E323=0))+OR(+AND(D323=0,E323=0)),\"Axial\",(+IF(+OR(C323=0,D323=0,E323=0),\"Tangential\",\"Oblique\")))","v":"Oblique"}]
[null,null,6,5,5,351.54352942823692,"Oblique"]
[null,null,7,6,4,351.68479156945244,"Oblique"]
[null,null,5,3,6,351.69154220017469,"Oblique"]
[null,null,5,8,3,352.52206831592406,"Oblique"]
[null,null,9,7,1,352.72158919195994,"Oblique"]
[null,null,9,1,5,353.61220661254885,"Oblique"]
[null,null,6,2,6,353.78489710228911,"Oblique"]
[null,null,1,8,4,353.87622699913948,"Oblique"]
[null,null,5,9,1,354.05464650876252,"Oblique"]
[null,null,4,4,6,355.30108107829204,"Oblique"]
[null,null,4,9,2,355.93913678719929,"Oblique"]
[null,null,1,5,6,356.43398661420804,"Oblique"]
[null,null,2,8,4,356.92261562128289,"Oblique"]
[null,null,9,6,3,358.46887719942595,"Oblique"]
[null,null,7,8,2,358.52190523428993,"Oblique"]
[null,null,9,2,5,359.05336378150423,"Oblique"]
[null,null,1,9,3,359.05797544979134,"Oblique"]
[null,null,2,5,6,359.45869904689874,"Oblique"]
[null,null,1,7,5,359.64150463523964,"Oblique"]
[null,null,5,6,5,360.36299931479681,"Oblique"]
[null,null,1,1,7,360.51502748095442,"Oblique"]
[null,null,7,1,6,361.48208240938192,"Oblique"]
[null,null,3,8,4,361.94295506325835,"Oblique"]
[null,null,2,9,3,362.06076733180373,"Oblique"]
[null,null,6,7,4,362.08065592345713,"Oblique"]
[null,null,2,7,5,362.63946470715319,"Oblique"]
[null,null,8,8,1,362.67164097022578,"Oblique"]
[null,null,6,3,6,362.80384375955293,"Oblique"]
[null,null,2,1,7,363.50578337405415,"Oblique"]
[null,null,8,4,5,363.53788296040142,"Oblique"]
[null,null,6,8,3,363.60898894458853,"Oblique"]
[null,null,9,7,2,363.65726224681407,"Oblique"]
[null,null,9,5,4,364.08946836800317,"Oblique"]
[null,null,5,4,6,364.32810313751196,"Oblique"]
[null,null,3,5,6,364.44410476570306,"Oblique"]
[null,null,7,5,5,364.64519871462022,"Oblique"]
[null,null,8,7,3,364.73687138941705,"Oblique"]
[null,null,5,9,2,364.95037692430338,"Oblique"]
[null,null,6,9,1,365.09502996619062,"Oblique"]
[null,null,1,2,7,365.85353683818687,"Oblique"]
[null,null,8,6,4,366.75474114891375,"Oblique"]
[null,null,7,2,6,366.80651749994911,"Oblique"]
[null,null,3,9,3,367.0108287487991,"Oblique"]
[null,null,3,7,5,367.58173314390427,"Oblique"]
[null,null,9,3,5,367.94319353922288,"Oblique"]
[null,null,3,1,7,368.43643104933398,"Oblique"]
[null,null,2,2,7,368.80100314912659,"Oblique"]
[null,null,4,8,4,368.85665450023265,"Oblique"]
[null,null,6,6,5,371.21581252248012,"Oblique"]
[null,null,4,5,6,371.31123649528155,"Oblique"]
[null,null,8,8,2,373.3159574231762,"Oblique"]
[null,null,3,2,7,373.66178437430273,"Oblique"]
[null,null,4,9,3,373.83081369526042,"Oblique"]
[null,null,4,7,5,374.39131852949879,"Oblique"]
[null,null,1,3,7,374.58201511289803,"Oblique"]
[null,null,7,7,4,374.81417963668895,"Oblique"]
[null,null,6,4,6,375.06620072641368,"Oblique"]
[null,null,4,1,7,375.23050592076174,"Oblique"]
[null,null,7,3,6,375.51284519902811,"Oblique"]
[null,null,6,9,2,375.67068798185454,"Oblique"]
[null,null,1,6,6,375.85038671998302,"Oblique"]
[null,null,8,1,6,376.15973128045044,"Oblique"]
[null,null,7,8,3,376.2907980592525,"Oblique"]
[null,null,2,3,7,{"$f":"$B$5*SQRT((($C387/$B$2)^2)+(($D387/$B$3)^2)+(($E387/$B$4)^2))","v":377.4613298774205},{"$f":"+IF(+AND(C387=0,D387=0)+OR(+AND(C387=0,E387=0))+OR(+AND(D387=0,E387=0)),\"Axial\",(+IF(+OR(C387=0,D387=0,E387=0),\"Tangential\",\"Oblique\")))","v":"Oblique"}]
[null,null,5,8,4,377.55971724944192,"Oblique"]
[null,null,7,9,1,377.72695001651232,"Oblique"]
[null,null,2,6,6,378.72005849222234,"Oblique"]
[null,null,8,5,5,379.20043312156486,"Oblique"]
[null,null,9,8,1,379.21121603822348,"Oblique"]
[null,null,5,5,6,379.95808040891751,"Oblique"]
[null,null,9,4,5,380.03976048892883,"Oblique"]
[null,null,4,2,7,380.36253489397205,"Oblique"]
[null,null,9,7,3,381.18684730207053,"Oblique"]
[null,null,8,2,6,381.27925306053305,"Oblique"]
[null,null,3,3,7,382.21198925572276,"Oblique"]
[null,null,5,9,3,382.42069215516443,"Oblique"]
[null,null,5,7,5,382.96862523009781,"Oblique"]
[null,null,9,6,4,383.11808539973492,"Oblique"]
[null,null,3,6,6,383.45512368768544,"Oblique"]
[null,null,7,6,5,383.64625285474671,"Oblique"]
[null,null,1,9,4,383.66933832904141,"Oblique"]
[null,null,5,1,7,383.78905806956681,"Oblique"]
[null,null,1,8,5,385.65611461946969,"Oblique"]
[null,null,1,4,7,386.47084227232426,"Oblique"]
[null,null,2,9,4,386.48095772060486,"Oblique"]
[null,null,7,4,6,387.37310540370459,"Oblique"]
[null,null,6,8,4,387.9317314696587,"Oblique"]
[null,null,7,9,2,387.95841745156542,"Oblique"]
[null,null,2,8,5,388.45335402101637,"Oblique"]
[null,null,4,3,7,388.76539658256223,"Oblique"]
[null,null,5,2,7,388.80813580909364,"Oblique"]
[null,null,8,7,4,388.98909597915679,"Oblique"]
[null,null,2,4,7,389.26222708281267,"Oblique"]
[null,null,9,8,2,389.40368677239638,"Oblique"]
[null,null,8,3,6,389.66234670984926,"Oblique"]
[null,null,4,6,6,389.98764176768253,"Oblique"]
[null,null,6,5,6,390.26635911848501,"Oblique"]
[null,null,8,8,3,390.41210564994861,"Oblique"]
[null,null,3,9,4,391.1220779483329,"Oblique"]
[null,null,8,9,1,391.79649858406634,"Oblique"]
[null,null,9,1,6,392.13080807573959,"Oblique"]
[null,null,6,9,3,392.6643273586281,"Oblique"]
[null,null,3,8,5,393.0711862095248,"Oblique"]
[null,null,6,7,5,393.1979858826848,"Oblique"]
[null,null,3,4,7,393.87057596557912,"Oblique"]
[null,null,6,1,7,393.997118372069,"Oblique"]
[null,null,9,5,5,395.04859914285771,"Oblique"]
[null,null,5,3,7,397.03229352329947,"Oblique"]
[null,null,9,2,6,397.04445093660462,"Oblique"]
[null,null,8,6,5,397.50634568953205,"Oblique"]
[null,null,4,9,4,397.52862627463946,"Oblique"]
[null,null,1,7,6,397.57639496458506,"Oblique"]
[null,null,5,6,6,398.2291667518752,"Oblique"]
[null,null,6,2,7,398.88777201477541,"Oblique"]
[null,null,4,8,5,399.44647485907677,"Oblique"]
[null,null,7,8,4,399.84283930540835,"Oblique"]
[null,null,4,4,7,400.23313138799148,"Oblique"]
[null,null,2,7,6,400.29034380038098,"Oblique"]
[null,null,8,4,6,401.10443817547957,"Oblique"]
[null,null,1,5,7,401.2391905820412,"Oblique"]
[null,null,8,9,2,401.66974146116689,"Oblique"]
[null,null,7,5,6,402.10831740012725,"Oblique"]
[null,null,2,5,7,403.92853026955532,"Oblique"]
[null,null,7,9,3,404.43607880945422,"Oblique"]
[null,null,9,7,4,404.45388364538354,"Oblique"]
[null,null,3,7,6,404.77315686420349,"Oblique"]
[null,null,7,7,5,404.95422453033279,"Oblique"]
[null,null,9,3,6,{"$f":"$B$5*SQRT((($C451/$B$2)^2)+(($D451/$B$3)^2)+(($E451/$B$4)^2))","v":405.10143377749063},{"$f":"+IF(+AND(C451=0,D451=0)+OR(+AND(C451=0,E451=0))+OR(+AND(D451=0,E451=0)),\"Axial\",(+IF(+OR(C451=0,D451=0,E451=0),\"Tangential\",\"Oblique\")))","v":"Oblique"}]
[null,null,5,9,4,405.61695875317702,"Oblique"]
[null,null,7,1,7,405.73020241073669,"Oblique"]
[null,null,9,8,3,405.82266994732873,"Oblique"]
[null,null,6,3,7,406.90825783208214,"Oblique"]
[null,null,9,9,1,407.15466779577287,"Oblique"]
[null,null,5,8,5,407.49674207006564,"Oblique"]
[null,null,6,6,6,408.07616622814629,"Oblique"]
[null,null,5,4,7,408.26788752118591,"Oblique"]
[null,null,3,5,7,408.37140784304296,"Oblique"]
[null,null,7,2,7,410.48108668448373,"Oblique"]
[null,null,4,7,6,410.96695410579326,"Oblique"]
[null,null,1,1,8,411.26817230771093,"Oblique"]
[null,null,9,6,5,412.65205932916126,"Oblique"]
[null,null,8,8,4,413.1599492663442,"Oblique"]
[null,null,1,9,5,413.1639092201587,"Oblique"]
[null,null,2,1,8,413.89235201935844,"Oblique"]
[null,null,4,5,7,414.51144205303808,"Oblique"]
[null,null,6,9,4,415.28882168888845,"Oblique"]
[null,null,8,5,6,415.3527975785392,"Oblique"]
[null,null,2,9,5,415.77612412075206,"Oblique"]
[null,null,1,2,8,415.95580886765163,"Oblique"]
[null,null,9,4,6,416.11921071877822,"Oblique"]
[null,null,9,9,2,416.66414341845217,"Oblique"]
[null,null,6,8,5,417.12502081424748,"Oblique"]
[null,null,8,9,3,417.60674009973133,"Oblique"]
[null,null,6,4,7,417.87839878675305,"Oblique"]
[null,null,8,7,5,418.10856424967034,"Oblique"]
[null,null,3,1,8,418.22939666898401,"Oblique"]
[null,null,7,3,7,418.27933029819138,"Oblique"]
[null,null,2,2,8,418.55059961435228,"Oblique"]
[null,null,1,6,7,418.58238668486155,"Oblique"]
[null,null,5,7,6,418.79582840253761,"Oblique"]
[null,null,8,1,7,418.86017318696565,"Oblique"]
[null,null,7,6,6,419.4155758984457,"Oblique"]
[null,null,3,9,5,420.09372117047985,"Oblique"]
[null,null,2,6,7,421.16099528515986,"Oblique"]
[null,null,1,8,6,421.25481210322351,"Oblique"]
[null,null,5,5,7,422.2746074691961,"Oblique"]
[null,null,3,2,8,422.83986758052947,"Oblique"]
[null,null,8,2,7,423.46377656138685,"Oblique"]
[null,null,1,3,8,423.65329050978835,"Oblique"]
[null,null,2,8,6,423.81716131713415,"Oblique"]
[null,null,4,1,8,424.22677554261304,"Oblique"]
[null,null,3,6,7,425.42394517419007,"Oblique"]
[null,null,4,9,5,426.06485822705565,"Oblique"]
[null,null,2,3,8,426.20122016080927,"Oblique"]
[null,null,7,9,4,426.43648211956321,"Oblique"]
[null,null,9,8,4,427.75176315582843,"Oblique"]
[null,null,3,8,6,428.05365949247471,"Oblique"]
[null,null,6,7,6,428.17009946858337,"Oblique"]
[null,null,7,8,5,428.22488350404114,"Oblique"]
[null,null,4,2,8,428.77276320295795,"Oblique"]
[null,null,7,4,7,428.95876729045165,"Oblique"]
[null,null,9,5,6,429.87018233586622,"Oblique"]
[null,null,3,3,8,430.41425306853915,"Oblique"]
[null,null,8,3,7,431.02719831660386,"Oblique"]
[null,null,4,6,7,431.32129784738487,"Oblique"]
[null,null,6,5,7,431.5733220494896,"Oblique"]
[null,null,5,1,8,431.81531423475133,"Oblique"]
[null,null,9,9,3,432.04839611075562,"Oblique"]
[null,null,8,6,6,432.12992587899117,"Oblique"]
[null,null,9,7,5,432.53346541518903,"Oblique"]
[null,null,9,1,7,433.26005110945403,"Oblique"]
[null,null,5,9,5,{"$f":"$B$5*SQRT((($C515/$B$2)^2)+(($D515/$B$3)^2)+(($E515/$B$4)^2))","v":433.62123095671359},{"$f":"+IF(+AND(C515=0,D515=0)+OR(+AND(C515=0,E515=0))+OR(+AND(D515=0,E515=0)),\"Axial\",(+IF(+OR(C515=0,D515=0,E515=0),\"Tangential\",\"Oblique\")))","v":"Oblique"}]
[null,null,4,8,6,433.91527312838349,"Oblique"]
[null,null,1,4,8,434.20057167213798,"Oblique"]
[null,null,4,3,8,436.24414963839763,"Oblique"]
[null,null,5,2,8,436.28223776023054,"Oblique"]
[null,null,2,4,8,436.68696562549582,"Oblique"]
[null,null,9,2,7,437.71223111170201,"Oblique"]
[null,null,1,7,7,438.19480950630839,"Oblique"]
[null,null,5,6,7,438.78715853717392,"Oblique"]
[null,null,8,9,4,438.94751487674023,"Oblique"]
[null,null,7,7,6,438.9907766020828,"Oblique"]
[null,null,2,7,7,440.65866675360127,"Oblique"]
[null,null,8,8,5,440.68514654570237,"Oblique"]
[null,null,3,4,8,440.79979029621694,"Oblique"]
[null,null,6,1,8,440.91286417979001,"Oblique"]
[null,null,5,8,6,441.33725513993738,"Oblique"]
[null,null,8,4,7,441.39831396291186,"Oblique"]
[null,null,7,5,7,442.31075068055458,"Oblique"]
[null,null,6,9,5,442.6816690670446,"Oblique"]
[null,null,5,3,8,443.62717073473215,"Oblique"]
[null,null,3,7,7,444.73476338492725,"Oblique"]
[null,null,9,3,7,445.03356378346655,"Oblique"]
[null,null,6,2,8,445.28853474645314,"Oblique"]
[null,null,9,6,6,446.10167007682702,"Oblique"]
[null,null,4,4,8,446.49410295587222,"Oblique"]
[null,null,1,9,6,446.57518276189523,"Oblique"]
[null,null,1,5,8,447.39614724834559,"Oblique"]
[null,null,6,6,7,447.7430721839209,"Oblique"]
[null,null,2,9,6,448.99305491912861,"Oblique"]
[null,null,2,5,8,449.80960647751272,"Oblique"]
[null,null,6,8,6,450.24244687281879,"Oblique"]
[null,null,4,7,7,450.37932746988662,"Oblique"]
[null,null,8,7,6,451.15379802862935,"Oblique"]
[null,null,7,1,8,451.42820211190735,"Oblique"]
[null,null,6,3,8,452.48729794953579,"Oblique"]
[null,null,9,9,4,452.7088998701239,"Oblique"]
[null,null,3,9,6,452.99416391781193,"Oblique"]
[null,null,7,9,5,453.15596431112715,"Oblique"]
[null,null,5,4,8,453.71036189924462,"Oblique"]
[null,null,3,5,8,453.80351613604836,"Oblique"]
[null,null,8,5,7,454.38491139292154,"Oblique"]
[null,null,9,8,5,454.39391016073159,"Oblique"]
[null,null,9,4,7,455.08559499774674,"Oblique"]
[null,null,7,2,8,455.70291532906214,"Oblique"]
[null,null,5,7,7,457.53431251940214,"Oblique"]
[null,null,7,6,7,458.10165525946206,"Oblique"]
[null,null,4,9,6,458.5370665418202,"Oblique"]
[null,null,4,5,8,459.33665225694853,"Oblique"]
[null,null,1,8,7,459.78616547842802,"Oblique"]
[null,null,7,8,6,460.54481739434027,"Oblique"]
[null,null,1,1,9,462.09810358359437,"Oblique"]
[null,null,2,8,7,462.13492345001134,"Oblique"]
[null,null,6,4,8,462.3773141994667,"Oblique"]
[null,null,7,3,8,462.73969212553533,"Oblique"]
[null,null,1,6,8,463.01364877995411,"Oblique"]
[null,null,8,1,8,463.26479382308622,"Oblique"]
[null,null,2,1,9,464.43516968716506,"Oblique"]
[null,null,9,7,6,464.55373928191466,"Oblique"]
[null,null,8,9,5,464.94857298921255,"Oblique"]
[null,null,2,6,8,465.34611684564231,"Oblique"]
[null,null,5,9,6,465.56669759890701,"Oblique"]
[null,null,3,8,7,466.02321471159968,"Oblique"]
[null,null,6,7,7,466.1301699355779,"Oblique"]
[null,null,1,2,9,466.2750076006343,"Oblique"]
[null,null,5,5,8,{"$f":"$B$5*SQRT((($C579/$B$2)^2)+(($D579/$B$3)^2)+(($E579/$B$4)^2))","v":466.35423084496119},{"$f":"+IF(+AND(C579=0,D579=0)+OR(+AND(C579=0,E579=0))+OR(+AND(D579=0,E579=0)),\"Axial\",(+IF(+OR(C579=0,D579=0,E579=0),\"Tangential\",\"Oblique\")))","v":"Oblique"}]
[null,null,8,2,8,467.43127256674205,"Oblique"]
[null,null,9,5,7,467.69228655891368,"Oblique"]
[null,null,3,1,9,468.30436258947202,"Oblique"]
[null,null,2,2,9,468.59124215008876,"Oblique"]
[null,null,3,6,8,469.20779793318019,"Oblique"]
[null,null,8,6,7,469.7701289837579,"Oblique"]
[null,null,4,8,7,471.41294583338907,"Oblique"]
[null,null,8,8,6,472.15291629168587,"Oblique"]
[null,null,7,4,8,472.41512311639167,"Oblique"]
[null,null,3,2,9,472.42639786293586,"Oblique"]
[null,null,1,3,9,473.15458186727983,"Oblique"]
[null,null,4,1,9,473.66813790829525,"Oblique"]
[null,null,6,9,6,474.01691753008242,"Oblique"]
[null,null,8,3,8,474.294075656014,"Oblique"]
[null,null,4,6,8,474.56136219722339,"Oblique"]
[null,null,6,5,8,474.7904346325484,"Oblique"]
[null,null,2,3,9,475.43730170106755,"Oblique"]
[null,null,7,7,7,476.08886059950402,"Oblique"]
[null,null,9,1,8,476.32415055411423,"Oblique"]
[null,null,4,2,9,477.74389608547494,"Oblique"]
[null,null,9,9,5,477.96192602534455,"Oblique"]
[null,null,5,8,7,478.2533575623786,"Oblique"]
[null,null,3,3,9,479.21767186402644,"Oblique"]
[null,null,9,2,8,480.37737434075279,"Oblique"]
[null,null,5,1,9,480.47644415713694,"Oblique"]
[null,null,1,7,8,480.81713321386712,"Oblique"]
[null,null,5,6,8,481.35703486171133,"Oblique"]
[null,null,1,4,9,482.62126374895746,"Oblique"]
[null,null,9,6,7,482.65350023652411,"Oblique"]
[null,null,2,7,8,483.06364497733949,"Oblique"]
[null,null,1,9,7,483.09118715213003,"Oblique"]
[null,null,8,4,8,483.73845834607062,"Oblique"]
[null,null,7,9,6,483.81329660054212,"Oblique"]
[null,null,4,3,9,484.46063397964332,"Oblique"]
[null,null,5,2,9,484.4949316218939,"Oblique"]
[null,null,7,5,8,484.57117607357475,"Oblique"]
[null,null,2,4,9,484.85941645948498,"Oblique"]
[null,null,9,8,6,484.97299261700709,"Oblique"]
[null,null,2,9,7,485.32717275137787,"Oblique"]
[null,null,6,8,7,486.48325994966893,"Oblique"]
[null,null,3,7,8,486.78479256934372,"Oblique"]
[null,null,9,3,8,487.05779678344595,"Oblique"]
[null,null,8,7,7,487.32684178166448,"Oblique"]
[null,null,3,4,9,488.56688683067551,"Oblique"]
[null,null,6,1,9,488.66890793404815,"Oblique"]
[null,null,3,9,7,489.03109695481703,"Oblique"]
[null,null,6,6,8,489.5347619959461,"Oblique"]
[null,null,5,3,9,491.11934842391662,"Oblique"]
[null,null,4,7,8,491.94711415553519,"Oblique"]
[null,null,6,2,9,492.6205709863043,"Oblique"]
[null,null,4,4,9,493.7105748883634,"Oblique"]
[null,null,4,9,7,494.16995319223105,"Oblique"]
[null,null,1,5,9,494.52650116540025,"Oblique"]
[null,null,8,9,6,494.87589707061073,"Oblique"]
[null,null,8,5,8,495.61686030166982,"Oblique"]
[null,null,7,8,7,496.0334969273955,"Oblique"]
[null,null,9,4,8,496.25933068123254,"Oblique"]
[null,null,2,5,9,496.71101242239854,"Oblique"]
[null,null,7,1,9,498.17724701577691,"Oblique"]
[null,null,5,7,8,498.50583912962708,"Oblique"]
[null,null,7,6,8,499.02660356457022,"Oblique"]
[null,null,6,3,9,499.13715809174261,"Oblique"]
[null,null,9,7,7,499.75781927453954,"Oblique"]
[null,null,5,4,9,{"$f":"$B$5*SQRT((($C643/$B$2)^2)+(($D643/$B$3)^2)+(($E643/$B$4)^2))","v":500.24617967254164},{"$f":"+IF(+AND(C643=0,D643=0)+OR(+AND(C643=0,E643=0))+OR(+AND(D643=0,E643=0)),\"Axial\",(+IF(+OR(C643=0,D643=0,E643=0),\"Tangential\",\"Oblique\")))","v":"Oblique"}]
[null,null,3,5,9,500.33066969722131,"Oblique"]
[null,null,1,8,8,500.57341367584445,"Oblique"]
[null,null,5,9,7,500.69956177171389,"Oblique"]
[null,null,7,2,9,502.05407559508529,"Oblique"]
[null,null,2,8,8,502.73165007375417,"Oblique"]
[null,null,4,5,9,505.35463576467777,"Oblique"]
[null,null,3,8,8,506.30826693217784,"Oblique"]
[null,null,6,7,8,506.40671385547654,"Oblique"]
[null,null,8,8,7,506.82943640634954,"Oblique"]
[null,null,9,9,6,507.1218598193077,"Oblique"]
[null,null,9,5,8,507.84495608446957,"Oblique"]
[null,null,6,4,9,508.11999416332912,"Oblique"]
[null,null,7,3,9,508.44977180707286,"Oblique"]
[null,null,6,9,7,508.5663568797637,"Oblique"]
[null,null,1,6,9,508.69911218593256,"Oblique"]
[null,null,8,1,9,508.92771292019057,"Oblique"]
[null,null,8,6,8,509.75915744510991,"Oblique"]
[null,null,2,6,9,510.82301851575511,"Oblique"]
[null,null,4,8,8,511.27349825024726,"Oblique"]
[null,null,5,5,9,511.74155235746167,"Oblique"]
[null,null,8,2,9,512.72326098548831,"Oblique"]
[null,null,3,6,9,514.34337307243823,"Oblique"]
[null,null,7,7,8,515.58804068816971,"Oblique"]
[null,null,7,4,9,517.27091193233048,"Oblique"]
[null,null,5,8,8,517.58738250987153,"Oblique"]
[null,null,7,9,7,517.70938489921002,"Oblique"]
[null,null,9,8,7,518.79331608370762,"Oblique"]
[null,null,8,3,9,518.98749309075072,"Oblique"]
[null,null,4,6,9,519.2317731733234,"Oblique"]
[null,null,6,5,9,519.44114642642,"Oblique"]
[null,null,9,1,9,520.84339698543533,"Oblique"]
[null,null,9,6,8,521.6558499665274,"Oblique"]
[null,null,1,9,8,522.06083900038516,"Oblique"]
[null,null,2,9,8,524.13060311775109,"Oblique"]
[null,null,9,2,9,524.55273286938939,"Oblique"]
[null,null,1,7,9,524.95548704078794,"Oblique"]
[null,null,6,8,8,525.20128210524103,"Oblique"]
[null,null,5,6,9,525.45003834150396,"Oblique"]
[null,null,8,7,8,525.98277085340271,"Oblique"]
[null,null,2,7,9,527.01388300596261,"Oblique"]
[null,null,3,9,8,527.56216534410748,"Oblique"]
[null,null,8,4,9,527.63248939509242,"Oblique"]
[null,null,8,9,7,528.0623587671023,"Oblique"]
[null,null,7,5,9,528.39603751689572,"Oblique"]
[null,null,3,7,9,530.42679236536333,"Oblique"]
[null,null,9,3,9,530.67734565343358,"Oblique"]
[null,null,4,9,8,532.32919058768846,"Oblique"]
[null,null,6,6,9,532.95162161743815,"Oblique"]
[null,null,7,8,8,534.05959834811711,"Oblique"]
[null,null,4,7,9,535.16830147925282,"Oblique"]
[null,null,9,7,8,537.5205135060196,"Oblique"]
[null,null,5,9,8,538.39620696297447,"Oblique"]
[null,null,8,5,9,538.54361011668709,"Oblique"]
[null,null,9,4,9,539.13492844594498,"Oblique"]
[null,null,9,9,7,539.55563378749719,"Oblique"]
[null,null,5,7,9,541.20349170026884,"Oblique"]
[null,null,7,6,9,541.68320893989323,"Oblique"]
[null,null,1,8,9,543.10854371968537,"Oblique"]
[null,null,8,8,8,544.10155497086168,"Oblique"]
[null,null,2,8,9,545.0983945748776,"Oblique"]
[null,null,6,9,8,545.71985841060143,"Oblique"]
[null,null,3,8,9,548.3987681843339,"Oblique"]
[null,null,6,7,9,548.4896604496131,"Oblique"]
[null,null,9,5,9,{"$f":"$B$5*SQRT((($C707/$B$2)^2)+(($D707/$B$3)^2)+(($E707/$B$4)^2))","v":549.81783092463093},{"$f":"+IF(+AND(C707=0,D707=0)+OR(+AND(C707=0,E707=0))+OR(+AND(D707=0,E707=0)),\"Axial\",(+IF(+OR(C707=0,D707=0,E707=0),\"Tangential\",\"Oblique\")))","v":"Oblique"}]
[null,null,8,6,9,551.58639067817614,"Oblique"]
[null,null,4,8,9,552.98620036604427,"Oblique"]
[null,null,7,9,8,554.25033308645845,"Oblique"]
[null,null,9,8,8,555.26293710895334,"Oblique"]
[null,null,7,7,9,556.97771542755186,"Oblique"]
[null,null,5,8,9,558.82899559315047,"Oblique"]
[null,null,9,6,9,562.59930108962044,"Oblique"]
[null,null,1,9,9,562.97483727073927,"Oblique"]
[null,null,8,9,8,563.93286768941539,"Oblique"]
[null,null,2,9,9,564.89471311635305,"Oblique"]
[null,null,6,8,9,565.88827033895859,"Oblique"]
[null,null,8,7,9,566.61364527943772,"Oblique"]
[null,null,3,9,9,568.08008773833353,"Oblique"]
[null,null,4,9,9,572.50983828574749,"Oblique"]
[null,null,7,8,9,574.11915346030867,"Oblique"]
[null,null,9,9,8,574.70923645401717,"Oblique"]
[null,null,9,7,9,577.33997802161969,"Oblique"]
[null,null,5,9,9,578.1553627307693,"Oblique"]
[null,null,8,8,9,583.47206437321313,"Oblique"]
[null,null,6,9,9,584.98146265152388,"Oblique"]
[null,null,7,9,9,592.94736655851625,"Oblique"]
[null,null,9,8,9,593.89399484174851,"Oblique"]
[null,null,8,9,9,602.00782971871467,"Oblique"]
[null,null,9,9,9,612.11424934221952,"Oblique"]

{"sheet":"Bonello","index":5,"n_rows":1000,"n_cols":28,"rows_kept":1000,"cut":false,"hidden":false,"merged":[[40,15,43,18]]}
["f",16,20,25,31.5,40,50,63,80,100,125,160,200,250,null,16,20,25,31.5,40,50,63,80,100,125,160,200,250]
[{"$f":"'Mode Strength'!A2","v":26.829532605304212},{"$f":"IF((AND($A2>=14.1,$A2<17.8)),1,0)","v":0},{"$f":"IF((AND($A2>=17.8,$A2<22.4)),1,0)","v":0},{"$f":"IF((AND($A2>=22.4,$A2<28.2)),1,0)","v":1},{"$f":"IF((AND($A2>=28.2,$A2<35.5)),1,0)","v":0},{"$f":"IF((AND($A2>=35.5,$A2<44.7)),1,0)","v":0},{"$f":"IF((AND($A2>=44.7,$A2<56.2)),1,0)","v":0},{"$f":"IF((AND($A2>=56.2,$A2<70.8)),1,0)","v":0},{"$f":"IF((AND($A2>=70.8,$A2<89.1)),1,0)","v":0},{"$f":"IF((AND($A2>=89.1,$A2<112)),1,0)","v":0},{"$f":"IF((AND($A2>=112,$A2<141)),1,0)","v":0},{"$f":"IF((AND($A2>=141,$A2<178)),1,0)","v":0},{"$f":"IF((AND($A2>=178,$A2<224)),1,0)","v":0},{"$f":"IF((AND($A2>=224,$A2<282)),1,0)","v":0},"Actual",{"$f":"SUM(B2:B1000)","v":0},0,1,0,1,3,4,7,13,20,43,82,137]
[{"$f":"'Mode Strength'!A3","v":35.903403757828812},{"$f":"IF((AND($A3>=14.1,$A3<17.8)),1,0)","v":0},{"$f":"IF((AND($A3>=17.8,$A3<22.4)),1,0)","v":0},{"$f":"IF((AND($A3>=22.4,$A3<28.2)),1,0)","v":0},{"$f":"IF((AND($A3>=28.2,$A3<35.5)),1,0)","v":0},{"$f":"IF((AND($A3>=35.5,$A3<44.7)),1,0)","v":1},{"$f":"IF((AND($A3>=44.7,$A3<56.2)),1,0)","v":0},{"$f":"IF((AND($A3>=56.2,$A3<70.8)),1,0)","v":0},{"$f":"IF((AND($A3>=70.8,$A3<89.1)),1,0)","v":0},{"$f":"IF((AND($A3>=89.1,$A3<112)),1,0)","v":0},{"$f":"IF((AND($A3>=112,$A3<141)),1,0)","v":0},{"$f":"IF((AND($A3>=141,$A3<178)),1,0)","v":0},{"$f":"IF((AND($A3>=178,$A3<224)),1,0)","v":0},{"$f":"IF((AND($A3>=224,$A3<282)),1,0)","v":0},"Ideal",null,{"$f":"P2","v":0},{"$f":"IF(Q2>=Q3,Q2,Q3)","v":0},{"$f":"IF(R2>=R3,R2,R3)","v":1},1,1,3,4,7,13,20,43,82]
[{"$f":"'Mode Strength'!A4","v":44.820511166392983},0,0,0,0,0,1,0,0,0,0,0,0,0]
[{"$f":"'Mode Strength'!A5","v":51.031840949554898},0,0,0,0,0,1,0,0,0,0,0,0,0]
[{"$f":"'Mode Strength'!A6","v":53.659065210608425},0,0,0,0,0,1,0,0,0,0,0,0,0]
[{"$f":"'Mode Strength'!A7","v":57.654770925915138},0,0,0,0,0,0,1,0,0,0,0,0,0]
[{"$f":"'Mode Strength'!A8","v":62.396339572913604},0,0,0,0,0,0,1,0,0,0,0,0,0]
[{"$f":"'Mode Strength'!A9","v":64.562757691055936},0,0,0,0,0,0,1,0,0,0,0,0,0]
[{"$f":"'Mode Strength'!A10","v":67.920004504692329},0,0,0,0,0,0,1,0,0,0,0,0,0]
[{"$f":"'Mode Strength'!A11","v":71.806807515657624},0,0,0,0,0,0,0,1,0,0,0,0,0]
[{"$f":"'Mode Strength'!A12","v":74.050955901845015},0,0,0,0,0,0,0,1,0,0,0,0,0]
[{"$f":"'Mode Strength'!A13","v":76.655341793053054},0,0,0,0,0,0,0,1,0,0,0,0,0]
[{"$f":"'Mode Strength'!A14","v":80.488597815912641},0,0,0,0,0,0,0,1,0,0,0,0,0]
[{"$f":"'Mode Strength'!A15","v":82.295798625292363},0,0,0,0,0,0,0,1,0,0,0,0,0]
[{"$f":"'Mode Strength'!A16","v":88.093509387987112},0,0,0,0,0,0,0,1,0,0,0,0,0]
[{"$f":"'Mode Strength'!A17","v":88.133244464103385},0,0,0,0,0,0,0,1,0,0,0,0,0]
[{"$f":"'Mode Strength'!A18","v":89.641022332785965},0,0,0,0,0,0,0,0,1,0,0,0,0]
[{"$f":"'Mode Strength'!A19","v":92.088491225073582},0,0,0,0,0,0,0,0,1,0,0,0,0]
[{"$f":"'Mode Strength'!A20","v":95.303007135516992},0,0,0,0,0,0,0,0,1,0,0,0,0]
[{"$f":"'Mode Strength'!A21","v":101.84162984983145},0,0,0,0,0,0,0,0,1,0,0,0,0]
[{"$f":"'Mode Strength'!A22","v":102.0636818991098},0,0,0,0,0,0,0,0,1,0,0,0,0]
[{"$f":"'Mode Strength'!A23","v":103.14922043121655},0,0,0,0,0,0,0,0,1,0,0,0,0]
[{"$f":"'Mode Strength'!A24","v":105.53112802686114},0,0,0,0,0,0,0,0,1,0,0,0,0]
[{"$f":"'Mode Strength'!A25","v":107.31813042121685},0,0,0,0,0,0,0,0,1,0,0,0,0]
[{"$f":"'Mode Strength'!A26","v":107.71021127348642},0,0,0,0,0,0,0,0,1,0,0,0,0]
[{"$f":"'Mode Strength'!A27","v":107.863951271787},0,0,0,0,0,0,0,0,1,0,0,0,0]
[{"$f":"'Mode Strength'!A28","v":108.19449877050289},0,0,0,0,0,0,0,0,1,0,0,0,0]
[{"$f":"'Mode Strength'!A29","v":111.00141184867047},0,0,0,0,0,0,0,0,1,0,0,0,0]
[{"$f":"'Mode Strength'!A30","v":111.47140164194326},0,0,0,0,0,0,0,0,1,0,0,0,0]
[{"$f":"'Mode Strength'!A31","v":113.16463899338426},0,0,0,0,0,0,0,0,0,1,0,0,0]
[{"$f":"'Mode Strength'!A32","v":115.30954185183028},0,0,0,0,0,0,0,0,0,1,0,0,0]
[{"$f":"'Mode Strength'!A33","v":118.83362280014011},0,0,0,0,0,0,0,0,0,1,0,0,0]
[{"$f":"'Mode Strength'!A34","v":119.18782825137703},0,0,0,0,0,0,0,0,0,1,0,0,0]
[{"$f":"'Mode Strength'!A35","v":119.32678146444373},0,0,0,0,0,0,0,0,0,1,0,0,0]
[{"$f":"'Mode Strength'!A36","v":120.33613294374805},0,0,0,0,0,0,0,0,0,1,0,0,0]
[{"$f":"'Mode Strength'!A37","v":120.76980104097497},0,0,0,0,0,0,0,0,0,1,0,0,0]
[{"$f":"'Mode Strength'!A38","v":122.17021823299993},0,0,0,0,0,0,0,0,0,1,0,0,0]
[{"$f":"'Mode Strength'!A39","v":124.13897175828247},0,0,0,0,0,0,0,0,0,1,0,0,0]
[{"$f":"'Mode Strength'!A40","v":124.79267914582721},0,0,0,0,0,0,0,0,0,1,0,0,0]
[{"$f":"'Mode Strength'!A41","v":127.64417960961815},0,0,0,0,0,0,0,0,0,1,0,0,0,null,"If you found this spreadsheet helpful, please send a donation via PayPal to erika@jhbrandt.net"]
[{"$f":"'Mode Strength'!A42","v":129.12551538211187},0,0,0,0,0,0,0,0,0,1,0,0,0]
[{"$f":"'Mode Strength'!A43","v":129.98234319004411},0,0,0,0,0,0,0,0,0,1,0,0,0]
[{"$f":"'Mode Strength'!A44","v":130.70973063454792},0,0,0,0,0,0,0,0,0,1,0,0,0]
[{"$f":"'Mode Strength'!A45","v":134.14766302652106},0,0,0,0,0,0,0,0,0,1,0,0,0]
[{"$f":"'Mode Strength'!A46","v":134.46153349917893},0,0,0,0,0,0,0,0,0,1,0,0,0]
[{"$f":"'Mode Strength'!A47","v":134.84978287921746},0,0,0,0,0,0,0,0,0,1,0,0,0]
[{"$f":"'Mode Strength'!A48","v":135.84000900938466},0,0,0,0,0,0,0,0,0,1,0,0,0]
[{"$f":"'Mode Strength'!A49","v":138.84396822835583},0,0,0,0,0,0,0,0,0,1,0,0,0]
[{"$f":"'Mode Strength'!A50","v":138.86918267518794},0,0,0,0,0,0,0,0,0,1,0,0,0]
[{"$f":"'Mode Strength'!A51","v":143.52645848824429},0,0,0,0,0,0,0,0,0,0,1,0,0]
[{"$f":"'Mode Strength'!A52","v":143.61361503131525},0,0,0,0,0,0,0,0,0,0,1,0,0]
[{"$f":"'Mode Strength'!A53","v":143.81986226405408},0,0,0,0,0,0,0,0,0,0,1,0,0]
[{"$f":"'Mode Strength'!A54","v":146.09823490440226},0,0,0,0,0,0,0,0,0,0,1,0,0]
[{"$f":"'Mode Strength'!A55","v":147.94897325623921},0,0,0,0,0,0,0,0,0,0,1,0,0]
[{"$f":"'Mode Strength'!A56","v":148.10191180369003},0,0,0,0,0,0,0,0,0,0,1,0,0]
[{"$f":"'Mode Strength'!A57","v":148.38626882357329},0,0,0,0,0,0,0,0,0,0,1,0,0]
[{"$f":"'Mode Strength'!A58","v":148.49790283625259},0,0,0,0,0,0,0,0,0,0,1,0,0]
[{"$f":"'Mode Strength'!A59","v":150.79226967985073},0,0,0,0,0,0,0,0,0,0,1,0,0]
[{"$f":"'Mode Strength'!A60","v":152.04825132070539},0,0,0,0,0,0,0,0,0,0,1,0,0]
[{"$f":"'Mode Strength'!A61","v":152.15719865017149},0,0,0,0,0,0,0,0,0,0,1,0,0]
[{"$f":"'Mode Strength'!A62","v":152.39170148438419},0,0,0,0,0,0,0,0,0,0,1,0,0]
[{"$f":"'Mode Strength'!A63","v":152.41102064176161},0,0,0,0,0,0,0,0,0,0,1,0,0]
[{"$f":"'Mode Strength'!A64","v":153.0955228486647},0,0,0,0,0,0,0,0,0,0,1,0,0]
[{"$f":"'Mode Strength'!A65","v":153.31068358610611},0,0,0,0,0,0,0,0,0,0,1,0,0]
[{"$f":"'Mode Strength'!A66","v":154.75446046199303},0,0,0,0,0,0,0,0,0,0,1,0,0]
[{"$f":"'Mode Strength'!A67","v":155.42864258599536},{"$f":"IF((AND($A67>=14.1,$A67<17.8)),1,0)","v":0},{"$f":"IF((AND($A67>=17.8,$A67<22.4)),1,0)","v":0},{"$f":"IF((AND($A67>=22.4,$A67<28.2)),1,0)","v":0},{"$f":"IF((AND($A67>=28.2,$A67<35.5)),1,0)","v":0},{"$f":"IF((AND($A67>=35.5,$A67<44.7)),1,0)","v":0},{"$f":"IF((AND($A67>=44.7,$A67<56.2)),1,0)","v":0},{"$f":"IF((AND($A67>=56.2,$A67<70.8)),1,0)","v":0},{"$f":"IF((AND($A67>=70.8,$A67<89.1)),1,0)","v":0},{"$f":"IF((AND($A67>=89.1,$A67<112)),1,0)","v":0},{"$f":"IF((AND($A67>=112,$A67<141)),1,0)","v":0},{"$f":"IF((AND($A67>=141,$A67<178)),1,0)","v":1},{"$f":"IF((AND($A67>=178,$A67<224)),1,0)","v":0},{"$f":"IF((AND($A67>=224,$A67<282)),1,0)","v":0}]
[{"$f":"'Mode Strength'!A68","v":157.2491447280515},0,0,0,0,0,0,0,0,0,0,1,0,0]
[{"$f":"'Mode Strength'!A69","v":157.7903040578162},0,0,0,0,0,0,0,0,0,0,1,0,0]
[{"$f":"'Mode Strength'!A70","v":159.52152625123284},0,0,0,0,0,0,0,0,0,0,1,0,0]
[{"$f":"'Mode Strength'!A71","v":160.38366350842927},0,0,0,0,0,0,0,0,0,0,1,0,0]
[{"$f":"'Mode Strength'!A72","v":160.486952403516},0,0,0,0,0,0,0,0,0,0,1,0,0]
[{"$f":"'Mode Strength'!A73","v":160.97719563182528},0,0,0,0,0,0,0,0,0,0,1,0,0]
[{"$f":"'Mode Strength'!A74","v":161.58098431541939},0,0,0,0,0,0,0,0,0,0,1,0,0]
[{"$f":"'Mode Strength'!A75","v":162.22679925210366},0,0,0,0,0,0,0,0,0,0,1,0,0]
[{"$f":"'Mode Strength'!A76","v":164.59159725058473},0,0,0,0,0,0,0,0,0,0,1,0,0]
[{"$f":"'Mode Strength'!A77","v":164.6307529009527},0,0,0,0,0,0,0,0,0,0,1,0,0]
[{"$f":"'Mode Strength'!A78","v":164.93244651942993},0,0,0,0,0,0,0,0,0,0,1,0,0]
[{"$f":"'Mode Strength'!A79","v":166.15230602366015},0,0,0,0,0,0,0,0,0,0,1,0,0]
[{"$f":"'Mode Strength'!A80","v":168.56034722994525},0,0,0,0,0,0,0,0,0,0,1,0,0]
[{"$f":"'Mode Strength'!A81","v":168.81024599755042},0,0,0,0,0,0,0,0,0,0,1,0,0]
[{"$f":"'Mode Strength'!A82","v":168.87245572972407},0,0,0,0,0,0,0,0,0,0,1,0,0]
[{"$f":"'Mode Strength'!A83","v":169.0989554133813},0,0,0,0,0,0,0,0,0,0,1,0,0]
[{"$f":"'Mode Strength'!A84","v":171.21413651248486},0,0,0,0,0,0,0,0,0,0,1,0,0]
[{"$f":"'Mode Strength'!A85","v":172.0380338996471},0,0,0,0,0,0,0,0,0,0,1,0,0]
[{"$f":"'Mode Strength'!A86","v":172.34165213226137},0,0,0,0,0,0,0,0,0,0,1,0,0]
[{"$f":"'Mode Strength'!A87","v":172.35873517589764},0,0,0,0,0,0,0,0,0,0,1,0,0]
[{"$f":"'Mode Strength'!A88","v":172.64692498155097},0,0,0,0,0,0,0,0,0,0,1,0,0]
[{"$f":"'Mode Strength'!A89","v":172.96431277774542},0,0,0,0,0,0,0,0,0,0,1,0,0]
[{"$f":"'Mode Strength'!A90","v":176.18701877597422},0,0,0,0,0,0,0,0,0,0,1,0,0]
[{"$f":"'Mode Strength'!A91","v":176.26648892820677},0,0,0,0,0,0,0,0,0,0,1,0,0]
[{"$f":"'Mode Strength'!A92","v":176.65137388674742},0,0,0,0,0,0,0,0,0,0,1,0,0]
[{"$f":"'Mode Strength'!A93","v":177.40843272283604},0,0,0,0,0,0,0,0,0,0,1,0,0]
[{"$f":"'Mode Strength'!A94","v":178.21809505486411},0,0,0,0,0,0,0,0,0,0,0,1,0]
[{"$f":"'Mode Strength'!A95","v":179.28204466557193},0,0,0,0,0,0,0,0,0,0,0,1,0]
[{"$f":"'Mode Strength'!A96","v":179.44730117434699},0,0,0,0,0,0,0,0,0,0,0,1,0]
[{"$f":"'Mode Strength'!A97","v":179.51701878914406},0,0,0,0,0,0,0,0,0,0,0,1,0]
[{"$f":"'Mode Strength'!A98","v":181.51083674194493},0,0,0,0,0,0,0,0,0,0,0,1,0]
[{"$f":"'Mode Strength'!A99","v":183.12745805172707},0,0,0,0,0,0,0,0,0,0,0,1,0]
[{"$f":"'Mode Strength'!A100","v":183.21792560737725},0,0,0,0,0,0,0,0,0,0,0,1,0]
[{"$f":"'Mode Strength'!A101","v":183.50510595015689},0,0,0,0,0,0,0,0,0,0,0,1,0]
[{"$f":"'Mode Strength'!A102","v":184.17698245014716},0,0,0,0,0,0,0,0,0,0,0,1,0]
[{"$f":"'Mode Strength'!A103","v":186.40359527157406},0,0,0,0,0,0,0,0,0,0,0,1,0]
[{"$f":"'Mode Strength'!A104","v":186.62960329391095},0,0,0,0,0,0,0,0,0,0,0,1,0]
[{"$f":"'Mode Strength'!A105","v":186.96368693789529},0,0,0,0,0,0,0,0,0,0,0,1,0]
[{"$f":"'Mode Strength'!A106","v":187.18901871874078},0,0,0,0,0,0,0,0,0,0,0,1,0]
[{"$f":"'Mode Strength'!A107","v":187.27752427952601},0,0,0,0,0,0,0,0,0,0,0,1,0]
[{"$f":"'Mode Strength'!A108","v":187.36503226114053},0,0,0,0,0,0,0,0,0,0,0,1,0]
[{"$f":"'Mode Strength'!A109","v":187.80672823712951},0,0,0,0,0,0,0,0,0,0,0,1,0]
[{"$f":"'Mode Strength'!A110","v":188.54822366031894},0,0,0,0,0,0,0,0,0,0,0,1,0]
[{"$f":"'Mode Strength'!A111","v":189.10196336554566},0,0,0,0,0,0,0,0,0,0,0,1,0]
[{"$f":"'Mode Strength'!A112","v":190.37981677375626},0,0,0,0,0,0,0,0,0,0,0,1,0]
[{"$f":"'Mode Strength'!A113","v":190.60601427103398},0,0,0,0,0,0,0,0,0,0,0,1,0]
[{"$f":"'Mode Strength'!A114","v":191.20779684032942},0,0,0,0,0,0,0,0,0,0,0,1,0]
[{"$f":"'Mode Strength'!A115","v":193.68827307316781},0,0,0,0,0,0,0,0,0,0,0,1,0]
[{"$f":"'Mode Strength'!A116","v":193.7015228735624},0,0,0,0,0,0,0,0,0,0,0,1,0]
[{"$f":"'Mode Strength'!A117","v":193.95800338652515},0,0,0,0,0,0,0,0,0,0,0,1,0]
[{"$f":"'Mode Strength'!A118","v":194.19038108237726},0,0,0,0,0,0,0,0,0,0,0,1,0]
[{"$f":"'Mode Strength'!A119","v":194.61658706758703},0,0,0,0,0,0,0,0,0,0,0,1,0]
[{"$f":"'Mode Strength'!A120","v":194.72807709254826},0,0,0,0,0,0,0,0,0,0,0,1,0]
[{"$f":"'Mode Strength'!A121","v":196.52090453140056},0,0,0,0,0,0,0,0,0,0,0,1,0]
[{"$f":"'Mode Strength'!A122","v":196.73529020822278},0,0,0,0,0,0,0,0,0,0,0,1,0]
[{"$f":"'Mode Strength'!A123","v":197.90065781404914},0,0,0,0,0,0,0,0,0,0,0,1,0]
[{"$f":"'Mode Strength'!A124","v":200.03519757997293},0,0,0,0,0,0,0,0,0,0,0,1,0]
[{"$f":"'Mode Strength'!A125","v":200.2789001342928},0,0,0,0,0,0,0,0,0,0,0,1,0]
[{"$f":"'Mode Strength'!A126","v":200.29826738333682},0,0,0,0,0,0,0,0,0,0,0,1,0]
[{"$f":"'Mode Strength'!A127","v":201.06612040999278},0,0,0,0,0,0,0,0,0,0,0,1,0]
[{"$f":"'Mode Strength'!A128","v":203.03870248930505},0,0,0,0,0,0,0,0,0,0,0,1,0]
[{"$f":"'Mode Strength'!A129","v":203.24621325873284},0,0,0,0,0,0,0,0,0,0,0,1,0]
[{"$f":"'Mode Strength'!A130","v":203.55302653555179},0,0,0,0,0,0,0,0,0,0,0,1,0]
[{"$f":"'Mode Strength'!A131","v":203.6832596996629},{"$f":"IF((AND($A131>=14.1,$A131<17.8)),1,0)","v":0},{"$f":"IF((AND($A131>=17.8,$A131<22.4)),1,0)","v":0},{"$f":"IF((AND($A131>=22.4,$A131<28.2)),1,0)","v":0},{"$f":"IF((AND($A131>=28.2,$A131<35.5)),1,0)","v":0},{"$f":"IF((AND($A131>=35.5,$A131<44.7)),1,0)","v":0},{"$f":"IF((AND($A131>=44.7,$A131<56.2)),1,0)","v":0},{"$f":"IF((AND($A131>=56.2,$A131<70.8)),1,0)","v":0},{"$f":"IF((AND($A131>=70.8,$A131<89.1)),1,0)","v":0},{"$f":"IF((AND($A131>=89.1,$A131<112)),1,0)","v":0},{"$f":"IF((AND($A131>=112,$A131<141)),1,0)","v":0},{"$f":"IF((AND($A131>=141,$A131<178)),1,0)","v":0},{"$f":"IF((AND($A131>=178,$A131<224)),1,0)","v":1},{"$f":"IF((AND($A131>=224,$A131<282)),1,0)","v":0}]
[{"$f":"'Mode Strength'!A132","v":203.76001351407697},0,0,0,0,0,0,0,0,0,0,0,1,0]
[{"$f":"'Mode Strength'!A133","v":204.12736379821959},0,0,0,0,0,0,0,0,0,0,0,1,0]
[{"$f":"'Mode Strength'!A134","v":205.88298732782602},0,0,0,0,0,0,0,0,0,0,0,1,0]
[{"$f":"'Mode Strength'!A135","v":206.2984408624331},0,0,0,0,0,0,0,0,0,0,0,1,0]
[{"$f":"'Mode Strength'!A136","v":206.50267600625563},0,0,0,0,0,0,0,0,0,0,0,1,0]
[{"$f":"'Mode Strength'!A137","v":206.69515962687836},0,0,0,0,0,0,0,0,0,0,0,1,0]
[{"$f":"'Mode Strength'!A138","v":207.26078995460858},0,0,0,0,0,0,0,0,0,0,0,1,0]
[{"$f":"'Mode Strength'!A139","v":207.44115687930972},0,0,0,0,0,0,0,0,0,0,0,1,0]
[{"$f":"'Mode Strength'!A140","v":208.23827462203883},0,0,0,0,0,0,0,0,0,0,0,1,0]
[{"$f":"'Mode Strength'!A141","v":208.99009276142124},0,0,0,0,0,0,0,0,0,0,0,1,0]
[{"$f":"'Mode Strength'!A142","v":209.14956646392363},0,0,0,0,0,0,0,0,0,0,0,1,0]
[{"$f":"'Mode Strength'!A143","v":209.91214719179268},0,0,0,0,0,0,0,0,0,0,0,1,0]
[{"$f":"'Mode Strength'!A144","v":211.06225605372228},0,0,0,0,0,0,0,0,0,0,0,1,0]
[{"$f":"'Mode Strength'!A145","v":211.61978489377574},0,0,0,0,0,0,0,0,0,0,0,1,0]
[{"$f":"'Mode Strength'!A146","v":213.36037700805861},0,0,0,0,0,0,0,0,0,0,0,1,0]
[{"$f":"'Mode Strength'!A147","v":213.74836217837483},0,0,0,0,0,0,0,0,0,0,0,1,0]
[{"$f":"'Mode Strength'!A148","v":214.09420901062387},0,0,0,0,0,0,0,0,0,0,0,1,0]
[{"$f":"'Mode Strength'!A149","v":214.6362608424337},0,0,0,0,0,0,0,0,0,0,0,1,0]
[{"$f":"'Mode Strength'!A150","v":215.28536862208699},0,0,0,0,0,0,0,0,0,0,0,1,0]
[{"$f":"'Mode Strength'!A151","v":215.42042254697284},0,0,0,0,0,0,0,0,0,0,0,1,0]
[{"$f":"'Mode Strength'!A152","v":215.727902543574},0,0,0,0,0,0,0,0,0,0,0,1,0]
[{"$f":"'Mode Strength'!A153","v":215.77050272451609},0,0,0,0,0,0,0,0,0,0,0,1,0]
[{"$f":"'Mode Strength'!A154","v":215.84728911286737},0,0,0,0,0,0,0,0,0,0,0,1,0]
[{"$f":"'Mode Strength'!A155","v":216.38899754100578},0,0,0,0,0,0,0,0,0,0,0,1,0]
[{"$f":"'Mode Strength'!A156","v":216.50140134353427},0,0,0,0,0,0,0,0,0,0,0,1,0]
[{"$f":"'Mode Strength'!A157","v":216.66195978515736},0,0,0,0,0,0,0,0,0,0,0,1,0]
[{"$f":"'Mode Strength'!A158","v":216.74274321262837},0,0,0,0,0,0,0,0,0,0,0,1,0]
[{"$f":"'Mode Strength'!A159","v":217.0847352305901},0,0,0,0,0,0,0,0,0,0,0,1,0]
[{"$f":"'Mode Strength'!A160","v":217.61842493184926},0,0,0,0,0,0,0,0,0,0,0,1,0]
[{"$f":"'Mode Strength'!A161","v":218.04591735829513},0,0,0,0,0,0,0,0,0,0,0,1,0]
[{"$f":"'Mode Strength'!A162","v":218.93410490115215},0,0,0,0,0,0,0,0,0,0,0,1,0]
[{"$f":"'Mode Strength'!A163","v":219.42286806434382},0,0,0,0,0,0,0,0,0,0,0,1,0]
[{"$f":"'Mode Strength'!A164","v":220.61952148239718},0,0,0,0,0,0,0,0,0,0,0,1,0]
[{"$f":"'Mode Strength'!A165","v":221.38249081853107},0,0,0,0,0,0,0,0,0,0,0,1,0]
[{"$f":"'Mode Strength'!A166","v":221.44403600152012},0,0,0,0,0,0,0,0,0,0,0,1,0]
[{"$f":"'Mode Strength'!A167","v":221.63431497878733},0,0,0,0,0,0,0,0,0,0,0,1,0]
[{"$f":"'Mode Strength'!A168","v":221.68170137959163},0,0,0,0,0,0,0,0,0,0,0,1,0]
[{"$f":"'Mode Strength'!A169","v":222.00282369734094},0,0,0,0,0,0,0,0,0,0,0,1,0]
[{"$f":"'Mode Strength'!A170","v":222.15286770553504},0,0,0,0,0,0,0,0,0,0,0,1,0]
[{"$f":"'Mode Strength'!A171","v":222.34084067255864},0,0,0,0,0,0,0,0,0,0,0,1,0]
[{"$f":"'Mode Strength'!A172","v":222.43449726698142},0,0,0,0,0,0,0,0,0,0,0,1,0]
[{"$f":"'Mode Strength'!A173","v":222.94280328388652},0,0,0,0,0,0,0,0,0,0,0,1,0]
[{"$f":"'Mode Strength'!A174","v":223.00231178361372},0,0,0,0,0,0,0,0,0,0,0,1,0]
[{"$f":"'Mode Strength'!A175","v":223.5218728905956},0,0,0,0,0,0,0,0,0,0,0,1,0]
[{"$f":"'Mode Strength'!A176","v":224.10255583196491},0,0,0,0,0,0,0,0,0,0,0,0,1]
[{"$f":"'Mode Strength'!A177","v":224.81442106110669},0,0,0,0,0,0,0,0,0,0,0,0,1]
[{"$f":"'Mode Strength'!A178","v":225.03544394426098},0,0,0,0,0,0,0,0,0,0,0,0,1]
[{"$f":"'Mode Strength'!A179","v":225.48742745334692},0,0,0,0,0,0,0,0,0,0,0,0,1]
[{"$f":"'Mode Strength'!A180","v":226.32927798676852},0,0,0,0,0,0,0,0,0,0,0,0,1]
[{"$f":"'Mode Strength'!A181","v":227.79267442192543},0,0,0,0,0,0,0,0,0,0,0,0,1]
[{"$f":"'Mode Strength'!A182","v":229.8395186235814},0,0,0,0,0,0,0,0,0,0,0,0,1]
[{"$f":"'Mode Strength'!A183","v":229.96602537915911},0,0,0,0,0,0,0,0,0,0,0,0,1]
[{"$f":"'Mode Strength'!A184","v":230.29399519822948},0,0,0,0,0,0,0,0,0,0,0,0,1]
[{"$f":"'Mode Strength'!A185","v":230.61908370366055},0,0,0,0,0,0,0,0,0,0,0,0,1]
[{"$f":"'Mode Strength'!A186","v":230.80179865804723},0,0,0,0,0,0,0,0,0,0,0,0,1]
[{"$f":"'Mode Strength'!A187","v":230.8735858325355},0,0,0,0,0,0,0,0,0,0,0,0,1]
[{"$f":"'Mode Strength'!A188","v":232.01118693871769},0,0,0,0,0,0,0,0,0,0,0,0,1]
[{"$f":"'Mode Strength'!A189","v":232.35596416620953},0,0,0,0,0,0,0,0,0,0,0,0,1]
[{"$f":"'Mode Strength'!A190","v":232.7241635818032},0,0,0,0,0,0,0,0,0,0,0,0,1]
[{"$f":"'Mode Strength'!A191","v":233.39712116843617},0,0,0,0,0,0,0,0,0,0,0,0,1]
[{"$f":"'Mode Strength'!A192","v":233.46972873454848},0,0,0,0,0,0,0,0,0,0,0,0,1]
[{"$f":"'Mode Strength'!A193","v":235.56022928200065},0,0,0,0,0,0,0,0,0,0,0,0,1]
[{"$f":"'Mode Strength'!A194","v":235.75472562766188},0,0,0,0,0,0,0,0,0,0,0,0,1]
[{"$f":"'Mode Strength'!A195","v":235.93346339857752},{"$f":"IF((AND($A195>=14.1,$A195<17.8)),1,0)","v":0},{"$f":"IF((AND($A195>=17.8,$A195<22.4)),1,0)","v":0},{"$f":"IF((AND($A195>=22.4,$A195<28.2)),1,0)","v":0},{"$f":"IF((AND($A195>=28.2,$A195<35.5)),1,0)","v":0},{"$f":"IF((AND($A195>=35.5,$A195<44.7)),1,0)","v":0},{"$f":"IF((AND($A195>=44.7,$A195<56.2)),1,0)","v":0},{"$f":"IF((AND($A195>=56.2,$A195<70.8)),1,0)","v":0},{"$f":"IF((AND($A195>=70.8,$A195<89.1)),1,0)","v":0},{"$f":"IF((AND($A195>=89.1,$A195<112)),1,0)","v":0},{"$f":"IF((AND($A195>=112,$A195<141)),1,0)","v":0},{"$f":"IF((AND($A195>=141,$A195<178)),1,0)","v":0},{"$f":"IF((AND($A195>=178,$A195<224)),1,0)","v":0},{"$f":"IF((AND($A195>=224,$A195<282)),1,0)","v":1}]
[{"$f":"'Mode Strength'!A196","v":236.42385157487354},0,0,0,0,0,0,0,0,0,0,0,0,1]
[{"$f":"'Mode Strength'!A197","v":236.95730742702597},0,0,0,0,0,0,0,0,0,0,0,0,1]
[{"$f":"'Mode Strength'!A198","v":237.45404391390559},0,0,0,0,0,0,0,0,0,0,0,0,1]
[{"$f":"'Mode Strength'!A199","v":237.66724560028021},0,0,0,0,0,0,0,0,0,0,0,0,1]
[{"$f":"'Mode Strength'!A200","v":238.37565650275405},0,0,0,0,0,0,0,0,0,0,0,0,1]
[{"$f":"'Mode Strength'!A201","v":238.65356292888745},0,0,0,0,0,0,0,0,0,0,0,0,1]
[{"$f":"'Mode Strength'!A202","v":239.35298608230642},0,0,0,0,0,0,0,0,0,0,0,0,1]
[{"$f":"'Mode Strength'!A203","v":239.880756695776},0,0,0,0,0,0,0,0,0,0,0,0,1]
[{"$f":"'Mode Strength'!A204","v":240.14623478414214},0,0,0,0,0,0,0,0,0,0,0,0,1]
[{"$f":"'Mode Strength'!A205","v":240.36383678211993},0,0,0,0,0,0,0,0,0,0,0,0,1]
[{"$f":"'Mode Strength'!A206","v":240.67226588749611},0,0,0,0,0,0,0,0,0,0,0,0,1]
[{"$f":"'Mode Strength'!A207","v":241.12241195796972},0,0,0,0,0,0,0,0,0,0,0,0,1]
[{"$f":"'Mode Strength'!A208","v":241.46579344773792},0,0,0,0,0,0,0,0,0,0,0,0,1]
[{"$f":"'Mode Strength'!A209","v":241.53960208194994},0,0,0,0,0,0,0,0,0,0,0,0,1]
[{"$f":"'Mode Strength'!A210","v":241.86873792244936},0,0,0,0,0,0,0,0,0,0,0,0,1]
[{"$f":"'Mode Strength'!A211","v":241.95845600128186},0,0,0,0,0,0,0,0,0,0,0,0,1]
[{"$f":"'Mode Strength'!A212","v":242.30065267646521},0,0,0,0,0,0,0,0,0,0,0,0,1]
[{"$f":"'Mode Strength'!A213","v":244.1204289008671},0,0,0,0,0,0,0,0,0,0,0,0,1]
[{"$f":"'Mode Strength'!A214","v":244.26128663111501},0,0,0,0,0,0,0,0,0,0,0,0,1]
[{"$f":"'Mode Strength'!A215","v":244.34043646599986},0,0,0,0,0,0,0,0,0,0,0,0,1]
[{"$f":"'Mode Strength'!A216","v":244.43380421325014},0,0,0,0,0,0,0,0,0,0,0,0,1]
[{"$f":"'Mode Strength'!A217","v":244.94624040560149},0,0,0,0,0,0,0,0,0,0,0,0,1]
[{"$f":"'Mode Strength'!A218","v":245.50858003683084},0,0,0,0,0,0,0,0,0,0,0,0,1]
[{"$f":"'Mode Strength'!A219","v":246.02314598045911},0,0,0,0,0,0,0,0,0,0,0,0,1]
[{"$f":"'Mode Strength'!A220","v":246.24977298105603},0,0,0,0,0,0,0,0,0,0,0,0,1]
[{"$f":"'Mode Strength'!A221","v":246.46351928658632},0,0,0,0,0,0,0,0,0,0,0,0,1]
[{"$f":"'Mode Strength'!A222","v":246.79946960244121},0,0,0,0,0,0,0,0,0,0,0,0,1]
[{"$f":"'Mode Strength'!A223","v":246.88586542790458},0,0,0,0,0,0,0,0,0,0,0,0,1]
[{"$f":"'Mode Strength'!A224","v":246.88739587587708},0,0,0,0,0,0,0,0,0,0,0,0,1]
[{"$f":"'Mode Strength'!A225","v":248.27794351656493},0,0,0,0,0,0,0,0,0,0,0,0,1]
[{"$f":"'Mode Strength'!A226","v":249.11584661387135},0,0,0,0,0,0,0,0,0,0,0,0,1]
[{"$f":"'Mode Strength'!A227","v":249.28500462245947},0,0,0,0,0,0,0,0,0,0,0,0,1]
[{"$f":"'Mode Strength'!A228","v":249.39733879382911},0,0,0,0,0,0,0,0,0,0,0,0,1]
[{"$f":"'Mode Strength'!A229","v":249.58535829165442},0,0,0,0,0,0,0,0,0,0,0,0,1]
[{"$f":"'Mode Strength'!A230","v":251.02325568240204},0,0,0,0,0,0,0,0,0,0,0,0,1]
[{"$f":"'Mode Strength'!A231","v":251.32382630480166},0,0,0,0,0,0,0,0,0,0,0,0,1]
[{"$f":"'Mode Strength'!A232","v":251.59763113251032},0,0,0,0,0,0,0,0,0,0,0,0,1]
[{"$f":"'Mode Strength'!A233","v":251.91654771161089},0,0,0,0,0,0,0,0,0,0,0,0,1]
[{"$f":"'Mode Strength'!A234","v":252.71688485938515},0,0,0,0,0,0,0,0,0,0,0,0,1]
[{"$f":"'Mode Strength'!A235","v":252.75183379810559},0,0,0,0,0,0,0,0,0,0,0,0,1]
[{"$f":"'Mode Strength'!A236","v":253.77461249264744},0,0,0,0,0,0,0,0,0,0,0,0,1]
[{"$f":"'Mode Strength'!A237","v":254.53222071261447},0,0,0,0,0,0,0,0,0,0,0,0,1]
[{"$f":"'Mode Strength'!A238","v":254.5973168599356},0,0,0,0,0,0,0,0,0,0,0,0,1]
[{"$f":"'Mode Strength'!A239","v":255.15920474777448},0,0,0,0,0,0,0,0,0,0,0,0,1]
[{"$f":"'Mode Strength'!A240","v":255.2883592192363},0,0,0,0,0,0,0,0,0,0,0,0,1]
[{"$f":"'Mode Strength'!A241","v":256.45255791117933},0,0,0,0,0,0,0,0,0,0,0,0,1]
[{"$f":"'Mode Strength'!A242","v":256.56586598247202},0,0,0,0,0,0,0,0,0,0,0,0,1]
[{"$f":"'Mode Strength'!A243","v":256.9882506025566},0,0,0,0,0,0,0,0,0,0,0,0,1]
[{"$f":"'Mode Strength'!A244","v":257.03345268979484},0,0,0,0,0,0,0,0,0,0,0,0,1]
[{"$f":"'Mode Strength'!A245","v":257.51355839314658},0,0,0,0,0,0,0,0,0,0,0,0,1]
[{"$f":"'Mode Strength'!A246","v":257.67280448063269},0,0,0,0,0,0,0,0,0,0,0,0,1]
[{"$f":"'Mode Strength'!A247","v":257.85216361125589},0,0,0,0,0,0,0,0,0,0,0,0,1]
[{"$f":"'Mode Strength'!A248","v":258.25103076422374},0,0,0,0,0,0,0,0,0,0,0,0,1]
[{"$f":"'Mode Strength'!A249","v":258.85479083164375},0,0,0,0,0,0,0,0,0,0,0,0,1]
[{"$f":"'Mode Strength'!A250","v":259.06581787015722},0,0,0,0,0,0,0,0,0,0,0,0,1]
[{"$f":"'Mode Strength'!A251","v":259.19448348364443},0,0,0,0,0,0,0,0,0,0,0,0,1]
[{"$f":"'Mode Strength'!A252","v":259.80324710456745},0,0,0,0,0,0,0,0,0,0,0,0,1]
[{"$f":"'Mode Strength'!A253","v":259.96468638008821},0,0,0,0,0,0,0,0,0,0,0,0,1]
[{"$f":"'Mode Strength'!A254","v":260.7403210989682},0,0,0,0,0,0,0,0,0,0,0,0,1]
[{"$f":"'Mode Strength'!A255","v":260.93525872101492},0,0,0,0,0,0,0,0,0,0,0,0,1]
[{"$f":"'Mode Strength'!A256","v":261.41946126909585},0,0,0,0,0,0,0,0,0,0,0,0,1]
[{"$f":"'Mode Strength'!A257","v":261.83394109861223},0,0,0,0,0,0,0,0,0,0,0,0,1]
[{"$f":"'Mode Strength'!A258","v":262.0061253834786},0,0,0,0,0,0,0,0,0,0,0,0,1]
[{"$f":"'Mode Strength'!A259","v":262.15019467501509},{"$f":"IF((AND($A259>=14.1,$A259<17.8)),1,0)","v":0},{"$f":"IF((AND($A259>=17.8,$A259<22.4)),1,0)","v":0},{"$f":"IF((AND($A259>=22.4,$A259<28.2)),1,0)","v":0},{"$f":"IF((AND($A259>=28.2,$A259<35.5)),1,0)","v":0},{"$f":"IF((AND($A259>=35.5,$A259<44.7)),1,0)","v":0},{"$f":"IF((AND($A259>=44.7,$A259<56.2)),1,0)","v":0},{"$f":"IF((AND($A259>=56.2,$A259<70.8)),1,0)","v":0},{"$f":"IF((AND($A259>=70.8,$A259<89.1)),1,0)","v":0},{"$f":"IF((AND($A259>=89.1,$A259<112)),1,0)","v":0},{"$f":"IF((AND($A259>=112,$A259<141)),1,0)","v":0},{"$f":"IF((AND($A259>=141,$A259<178)),1,0)","v":0},{"$f":"IF((AND($A259>=178,$A259<224)),1,0)","v":0},{"$f":"IF((AND($A259>=224,$A259<282)),1,0)","v":1}]
[{"$f":"'Mode Strength'!A260","v":262.24276053295586},0,0,0,0,0,0,0,0,0,0,0,0,1]
[{"$f":"'Mode Strength'!A261","v":262.43226281479821},0,0,0,0,0,0,0,0,0,0,0,0,1]
[{"$f":"'Mode Strength'!A262","v":263.200625850682},0,0,0,0,0,0,0,0,0,0,0,0,1]
[{"$f":"'Mode Strength'!A263","v":263.24483600155338},0,0,0,0,0,0,0,0,0,0,0,0,1]
[{"$f":"'Mode Strength'!A264","v":263.64173338970301},0,0,0,0,0,0,0,0,0,0,0,0,1]
[{"$f":"'Mode Strength'!A265","v":263.89785911760981},0,0,0,0,0,0,0,0,0,0,0,0,1]
[{"$f":"'Mode Strength'!A266","v":264.28052816396132},0,0,0,0,0,0,0,0,0,0,0,0,1]
[{"$f":"'Mode Strength'!A267","v":264.39973339231017},0,0,0,0,0,0,0,0,0,0,0,0,1]
[{"$f":"'Mode Strength'!A268","v":264.53122131830821},0,0,0,0,0,0,0,0,0,0,0,0,1]
[{"$f":"'Mode Strength'!A269","v":264.5973903301882},0,0,0,0,0,0,0,0,0,0,0,0,1]
[{"$f":"'Mode Strength'!A270","v":264.76777748959103},0,0,0,0,0,0,0,0,0,0,0,0,1]
[{"$f":"'Mode Strength'!A271","v":265.07062714134776},0,0,0,0,0,0,0,0,0,0,0,0,1]
[{"$f":"'Mode Strength'!A272","v":265.16239533542483},0,0,0,0,0,0,0,0,0,0,0,0,1]
[{"$f":"'Mode Strength'!A273","v":265.6388928346928},0,0,0,0,0,0,0,0,0,0,0,0,1]
[{"$f":"'Mode Strength'!A274","v":266.07521114550474},0,0,0,0,0,0,0,0,0,0,0,0,1]
[{"$f":"'Mode Strength'!A275","v":266.42496353181036},0,0,0,0,0,0,0,0,0,0,0,0,1]
[{"$f":"'Mode Strength'!A276","v":266.95517556186621},0,0,0,0,0,0,0,0,0,0,0,0,1]
[{"$f":"'Mode Strength'!A277","v":267.55304921807272},0,0,0,0,0,0,0,0,0,0,0,0,1]
[{"$f":"'Mode Strength'!A278","v":268.78677206581153},0,0,0,0,0,0,0,0,0,0,0,0,1]
[{"$f":"'Mode Strength'!A279","v":268.92306699835785},0,0,0,0,0,0,0,0,0,0,0,0,1]
[{"$f":"'Mode Strength'!A280","v":269.27953470069974},0,0,0,0,0,0,0,0,0,0,0,0,1]
[{"$f":"'Mode Strength'!A281","v":269.67293680660407},0,0,0,0,0,0,0,0,0,0,0,0,1]
[{"$f":"'Mode Strength'!A282","v":269.69956575843491},0,0,0,0,0,0,0,0,0,0,0,0,1]
[{"$f":"'Mode Strength'!A283","v":269.95127069026017},0,0,0,0,0,0,0,0,0,0,0,0,1]
[{"$f":"'Mode Strength'!A284","v":270.4472825753362},0,0,0,0,0,0,0,0,0,0,0,0,1]
[{"$f":"'Mode Strength'!A285","v":271.25755442252438},0,0,0,0,0,0,0,0,0,0,0,0,1]
[{"$f":"'Mode Strength'!A286","v":271.40411685662571},0,0,0,0,0,0,0,0,0,0,0,0,1]
[{"$f":"'Mode Strength'!A287","v":271.68001801876932},0,0,0,0,0,0,0,0,0,0,0,0,1]
[{"$f":"'Mode Strength'!A288","v":271.8068103888109},0,0,0,0,0,0,0,0,0,0,0,0,1]
[{"$f":"'Mode Strength'!A289","v":271.83513512081652},0,0,0,0,0,0,0,0,0,0,0,0,1]
[{"$f":"'Mode Strength'!A290","v":272.58115241356631},0,0,0,0,0,0,0,0,0,0,0,0,1]
[{"$f":"'Mode Strength'!A291","v":273.15593441470696},0,0,0,0,0,0,0,0,0,0,0,0,1]
[{"$f":"'Mode Strength'!A292","v":273.24564258249012},0,0,0,0,0,0,0,0,0,0,0,0,1]
[{"$f":"'Mode Strength'!A293","v":273.27796615459397},0,0,0,0,0,0,0,0,0,0,0,0,1]
[{"$f":"'Mode Strength'!A294","v":273.52979565048491},0,0,0,0,0,0,0,0,0,0,0,0,1]
[{"$f":"'Mode Strength'!A295","v":273.72224015323258},0,0,0,0,0,0,0,0,0,0,0,0,1]
[{"$f":"'Mode Strength'!A296","v":276.26547367522068},0,0,0,0,0,0,0,0,0,0,0,0,1]
[{"$f":"'Mode Strength'!A297","v":276.5139347493452},0,0,0,0,0,0,0,0,0,0,0,0,1]
[{"$f":"'Mode Strength'!A298","v":276.80932225021252},0,0,0,0,0,0,0,0,0,0,0,0,1]
[{"$f":"'Mode Strength'!A299","v":276.96156661186006},0,0,0,0,0,0,0,0,0,0,0,0,1]
[{"$f":"'Mode Strength'!A300","v":277.02139222716926},0,0,0,0,0,0,0,0,0,0,0,0,1]
[{"$f":"'Mode Strength'!A301","v":277.08055862046496},0,0,0,0,0,0,0,0,0,0,0,0,1]
[{"$f":"'Mode Strength'!A302","v":277.3794293424545},0,0,0,0,0,0,0,0,0,0,0,0,1]
[{"$f":"'Mode Strength'!A303","v":277.68793645671167},0,0,0,0,0,0,0,0,0,0,0,0,1]
[{"$f":"'Mode Strength'!A304","v":278.00197045397374},0,0,0,0,0,0,0,0,0,0,0,0,1]
[{"$f":"'Mode Strength'!A305","v":278.25803348675282},0,0,0,0,0,0,0,0,0,0,0,0,1]
[{"$f":"'Mode Strength'!A306","v":279.12802669388054},0,0,0,0,0,0,0,0,0,0,0,0,1]
[{"$f":"'Mode Strength'!A307","v":279.13208767334436},0,0,0,0,0,0,0,0,0,0,0,0,1]
[{"$f":"'Mode Strength'!A308","v":279.69340754430266},0,0,0,0,0,0,0,0,0,0,0,0,1]
[{"$f":"'Mode Strength'!A309","v":279.81258817887937},0,0,0,0,0,0,0,0,0,0,0,0,1]
[{"$f":"'Mode Strength'!A310","v":280.94590195927123},0,0,0,0,0,0,0,0,0,0,0,0,1]
[{"$f":"'Mode Strength'!A311","v":281.39496757631741},0,0,0,0,0,0,0,0,0,0,0,0,1]
[{"$f":"'Mode Strength'!A312","v":281.66376534762833},0,0,0,0,0,0,0,0,0,0,0,0,1]
[{"$f":"'Mode Strength'!A313","v":282.11168827145769},0,0,0,0,0,0,0,0,0,0,0,0,0]
[{"$f":"'Mode Strength'!A314","v":282.94712440606372},0,0,0,0,0,0,0,0,0,0,0,0,0]
[{"$f":"'Mode Strength'!A315","v":283.35215998656258},0,0,0,0,0,0,0,0,0,0,0,0,0]
[{"$f":"'Mode Strength'!A316","v":283.41526807976908},0,0,0,0,0,0,0,0,0,0,0,0,0]
[{"$f":"'Mode Strength'!A317","v":283.50089076495743},0,0,0,0,0,0,0,0,0,0,0,0,0]
[{"$f":"'Mode Strength'!A318","v":284.42808105752113},0,0,0,0,0,0,0,0,0,0,0,0,0]
[{"$f":"'Mode Strength'!A319","v":284.79545852647709},0,0,0,0,0,0,0,0,0,0,0,0,0]
[{"$f":"'Mode Strength'!A320","v":284.88464536363335},0,0,0,0,0,0,0,0,0,0,0,0,0]
[{"$f":"'Mode Strength'!A321","v":285.23916050172295},0,0,0,0,0,0,0,0,0,0,0,0,0]
[{"$f":"'Mode Strength'!A322","v":285.54307664240275},0,0,0,0,0,0,0,0,0,0,0,0,0]
[{"$f":"'Mode Strength'!A323","v":285.61907615692417},{"$f":"IF((AND($A323>=14.1,$A323<17.8)),1,0)","v":0},{"$f":"IF((AND($A323>=17.8,$A323<22.4)),1,0)","v":0},{"$f":"IF((AND($A323>=22.4,$A323<28.2)),1,0)","v":0},{"$f":"IF((AND($A323>=28.2,$A323<35.5)),1,0)","v":0},{"$f":"IF((AND($A323>=35.5,$A323<44.7)),1,0)","v":0},{"$f":"IF((AND($A323>=44.7,$A323<56.2)),1,0)","v":0},{"$f":"IF((AND($A323>=56.2,$A323<70.8)),1,0)","v":0},{"$f":"IF((AND($A323>=70.8,$A323<89.1)),1,0)","v":0},{"$f":"IF((AND($A323>=89.1,$A323<112)),1,0)","v":0},{"$f":"IF((AND($A323>=112,$A323<141)),1,0)","v":0},{"$f":"IF((AND($A323>=141,$A323<178)),1,0)","v":0},{"$f":"IF((AND($A323>=178,$A323<224)),1,0)","v":0},{"$f":"IF((AND($A323>=224,$A323<282)),1,0)","v":0}]
[{"$f":"'Mode Strength'!A324","v":285.79245200223772},0,0,0,0,0,0,0,0,0,0,0,0,0]
[{"$f":"'Mode Strength'!A325","v":285.90902140655101},0,0,0,0,0,0,0,0,0,0,0,0,0]
[{"$f":"'Mode Strength'!A326","v":285.97135956282875},0,0,0,0,0,0,0,0,0,0,0,0,0]
[{"$f":"'Mode Strength'!A327","v":286.52323715178215},0,0,0,0,0,0,0,0,0,0,0,0,0]
[{"$f":"'Mode Strength'!A328","v":287.2272300626305},0,0,0,0,0,0,0,0,0,0,0,0,0]
[{"$f":"'Mode Strength'!A329","v":287.63972452810816},0,0,0,0,0,0,0,0,0,0,0,0,0]
[{"$f":"'Mode Strength'!A330","v":288.1545122378779},0,0,0,0,0,0,0,0,0,0,0,0,0]
[{"$f":"'Mode Strength'!A331","v":288.27385462957568},0,0,0,0,0,0,0,0,0,0,0,0,0]
[{"$f":"'Mode Strength'!A332","v":288.42004742816948},0,0,0,0,0,0,0,0,0,0,0,0,0]
[{"$f":"'Mode Strength'!A333","v":288.47756500163121},0,0,0,0,0,0,0,0,0,0,0,0,0]
[{"$f":"'Mode Strength'!A334","v":289.41926327503467},0,0,0,0,0,0,0,0,0,0,0,0,0]
[{"$f":"'Mode Strength'!A335","v":290.31289053735111},0,0,0,0,0,0,0,0,0,0,0,0,0]
[{"$f":"'Mode Strength'!A336","v":290.50106654604804},0,0,0,0,0,0,0,0,0,0,0,0,0]
[{"$f":"'Mode Strength'!A337","v":291.71534404003177},0,0,0,0,0,0,0,0,0,0,0,0,0]
[{"$f":"'Mode Strength'!A338","v":291.72543680685777},0,0,0,0,0,0,0,0,0,0,0,0,0]
[{"$f":"'Mode Strength'!A339","v":292.19646980880452},0,0,0,0,0,0,0,0,0,0,0,0,0]
[{"$f":"'Mode Strength'!A340","v":292.25249665872468},0,0,0,0,0,0,0,0,0,0,0,0,0]
[{"$f":"'Mode Strength'!A341","v":292.79871958374326},0,0,0,0,0,0,0,0,0,0,0,0,0]
[{"$f":"'Mode Strength'!A342","v":292.95657408559896},0,0,0,0,0,0,0,0,0,0,0,0,0]
[{"$f":"'Mode Strength'!A343","v":294.02536286806719},0,0,0,0,0,0,0,0,0,0,0,0,0]
[{"$f":"'Mode Strength'!A344","v":294.28201573455374},0,0,0,0,0,0,0,0,0,0,0,0,0]
[{"$f":"'Mode Strength'!A345","v":294.78837515621672},0,0,0,0,0,0,0,0,0,0,0,0,0]
[{"$f":"'Mode Strength'!A346","v":295.50250185846346},0,0,0,0,0,0,0,0,0,0,0,0,0]
[{"$f":"'Mode Strength'!A347","v":296.20382360738006},0,0,0,0,0,0,0,0,0,0,0,0,0]
[{"$f":"'Mode Strength'!A348","v":296.37778773399901},0,0,0,0,0,0,0,0,0,0,0,0,0]
[{"$f":"'Mode Strength'!A349","v":296.6193280274033},0,0,0,0,0,0,0,0,0,0,0,0,0]
[{"$f":"'Mode Strength'!A350","v":296.77253764714658},0,0,0,0,0,0,0,0,0,0,0,0,0]
[{"$f":"'Mode Strength'!A351","v":296.99580567250518},0,0,0,0,0,0,0,0,0,0,0,0,0]
[{"$f":"'Mode Strength'!A352","v":297.02675047409639},0,0,0,0,0,0,0,0,0,0,0,0,0]
[{"$f":"'Mode Strength'!A353","v":297.08253544862657},0,0,0,0,0,0,0,0,0,0,0,0,0]
[{"$f":"'Mode Strength'!A354","v":297.55812446465779},0,0,0,0,0,0,0,0,0,0,0,0,0]
[{"$f":"'Mode Strength'!A355","v":297.67496614454473},0,0,0,0,0,0,0,0,0,0,0,0,0]
[{"$f":"'Mode Strength'!A356","v":297.84573132104111},0,0,0,0,0,0,0,0,0,0,0,0,0]
[{"$f":"'Mode Strength'!A357","v":297.98282319849602},0,0,0,0,0,0,0,0,0,0,0,0,0]
[{"$f":"'Mode Strength'!A358","v":298.29162922855045},0,0,0,0,0,0,0,0,0,0,0,0,0]
[{"$f":"'Mode Strength'!A359","v":298.37184773538803},0,0,0,0,0,0,0,0,0,0,0,0,0]
[{"$f":"'Mode Strength'!A360","v":298.45824361537251},0,0,0,0,0,0,0,0,0,0,0,0,0]
[{"$f":"'Mode Strength'!A361","v":298.91068062301008},0,0,0,0,0,0,0,0,0,0,0,0,0]
[{"$f":"'Mode Strength'!A362","v":299.13408375520908},0,0,0,0,0,0,0,0,0,0,0,0,0]
[{"$f":"'Mode Strength'!A363","v":300.21964294011491},0,0,0,0,0,0,0,0,0,0,0,0,0]
[{"$f":"'Mode Strength'!A364","v":300.88550885725215},0,0,0,0,0,0,0,0,0,0,0,0,0]
[{"$f":"'Mode Strength'!A365","v":301.5559091153462},0,0,0,0,0,0,0,0,0,0,0,0,0]
[{"$f":"'Mode Strength'!A366","v":301.58453935970147},0,0,0,0,0,0,0,0,0,0,0,0,0]
[{"$f":"'Mode Strength'!A367","v":301.69500705348713},0,0,0,0,0,0,0,0,0,0,0,0,0]
[{"$f":"'Mode Strength'!A368","v":302.6156908138866},0,0,0,0,0,0,0,0,0,0,0,0,0]
[{"$f":"'Mode Strength'!A369","v":302.62542004683559},0,0,0,0,0,0,0,0,0,0,0,0,0]
[{"$f":"'Mode Strength'!A370","v":302.78964971193074},0,0,0,0,0,0,0,0,0,0,0,0,0]
[{"$f":"'Mode Strength'!A371","v":303.13352863322399},0,0,0,0,0,0,0,0,0,0,0,0,0]
[{"$f":"'Mode Strength'!A372","v":303.47046113955474},0,0,0,0,0,0,0,0,0,0,0,0,0]
[{"$f":"'Mode Strength'!A373","v":303.66017942471689},0,0,0,0,0,0,0,0,0,0,0,0,0]
[{"$f":"'Mode Strength'!A374","v":303.82384975903608},0,0,0,0,0,0,0,0,0,0,0,0,0]
[{"$f":"'Mode Strength'!A375","v":304.09650264141078},0,0,0,0,0,0,0,0,0,0,0,0,0]
[{"$f":"'Mode Strength'!A376","v":304.78340296876837},0,0,0,0,0,0,0,0,0,0,0,0,0]
[{"$f":"'Mode Strength'!A377","v":304.82204128352322},0,0,0,0,0,0,0,0,0,0,0,0,0]
[{"$f":"'Mode Strength'!A378","v":305.09067367450592},0,0,0,0,0,0,0,0,0,0,0,0,0]
[{"$f":"'Mode Strength'!A379","v":305.18246710941344},0,0,0,0,0,0,0,0,0,0,0,0,0]
[{"$f":"'Mode Strength'!A380","v":305.52488954949439},0,0,0,0,0,0,0,0,0,0,0,0,0]
[{"$f":"'Mode Strength'!A381","v":306.00049129384257},0,0,0,0,0,0,0,0,0,0,0,0,0]
[{"$f":"'Mode Strength'!A382","v":306.1910456973294},0,0,0,0,0,0,0,0,0,0,0,0,0]
[{"$f":"'Mode Strength'!A383","v":306.62136717221222},0,0,0,0,0,0,0,0,0,0,0,0,0]
[{"$f":"'Mode Strength'!A384","v":307.36424692056028},0,0,0,0,0,0,0,0,0,0,0,0,0]
[{"$f":"'Mode Strength'!A385","v":307.49366412968374},0,0,0,0,0,0,0,0,0,0,0,0,0]
[{"$f":"'Mode Strength'!A386","v":307.73902072303542},0,0,0,0,0,0,0,0,0,0,0,0,0]
[{"$f":"'Mode Strength'!A387","v":308.28884324059101},{"$f":"IF((AND($A387>=14.1,$A387<17.8)),1,0)","v":0},{"$f":"IF((AND($A387>=17.8,$A387<22.4)),1,0)","v":0},{"$f":"IF((AND($A387>=22.4,$A387<28.2)),1,0)","v":0},{"$f":"IF((AND($A387>=28.2,$A387<35.5)),1,0)","v":0},{"$f":"IF((AND($A387>=35.5,$A387<44.7)),1,0)","v":0},{"$f":"IF((AND($A387>=44.7,$A387<56.2)),1,0)","v":0},{"$f":"IF((AND($A387>=56.2,$A387<70.8)),1,0)","v":0},{"$f":"IF((AND($A387>=70.8,$A387<89.1)),1,0)","v":0},{"$f":"IF((AND($A387>=89.1,$A387<112)),1,0)","v":0},{"$f":"IF((AND($A387>=112,$A387<141)),1,0)","v":0},{"$f":"IF((AND($A387>=141,$A387<178)),1,0)","v":0},{"$f":"IF((AND($A387>=178,$A387<224)),1,0)","v":0},{"$f":"IF((AND($A387>=224,$A387<282)),1,0)","v":0}]
[{"$f":"'Mode Strength'!A388","v":308.34871770357375},0,0,0,0,0,0,0,0,0,0,0,0,0]
[{"$f":"'Mode Strength'!A389","v":309.44766129364962},0,0,0,0,0,0,0,0,0,0,0,0,0]
[{"$f":"'Mode Strength'!A390","v":309.45409140362131},0,0,0,0,0,0,0,0,0,0,0,0,0]
[{"$f":"'Mode Strength'!A391","v":309.50892092398607},0,0,0,0,0,0,0,0,0,0,0,0,0]
[{"$f":"'Mode Strength'!A392","v":310.12270940160823},0,0,0,0,0,0,0,0,0,0,0,0,0]
[{"$f":"'Mode Strength'!A393","v":310.83904451863384},0,0,0,0,0,0,0,0,0,0,0,0,0]
[{"$f":"'Mode Strength'!A394","v":310.85728517199072},0,0,0,0,0,0,0,0,0,0,0,0,0]
[{"$f":"'Mode Strength'!A395","v":311.84655089800953},0,0,0,0,0,0,0,0,0,0,0,0,0]
[{"$f":"'Mode Strength'!A396","v":311.98169786456805},0,0,0,0,0,0,0,0,0,0,0,0,0]
[{"$f":"'Mode Strength'!A397","v":312.35271448269583},0,0,0,0,0,0,0,0,0,0,0,0,0]
[{"$f":"'Mode Strength'!A398","v":312.923802459797},0,0,0,0,0,0,0,0,0,0,0,0,0]
[{"$f":"'Mode Strength'!A399","v":313.13320427938919},0,0,0,0,0,0,0,0,0,0,0,0,0]
[{"$f":"'Mode Strength'!A400","v":313.23966208304051},0,0,0,0,0,0,0,0,0,0,0,0,0]
[{"$f":"'Mode Strength'!A401","v":313.74357816475083},0,0,0,0,0,0,0,0,0,0,0,0,0]
[{"$f":"'Mode Strength'!A402","v":314.49828945610301},0,0,0,0,0,0,0,0,0,0,0,0,0]
[{"$f":"'Mode Strength'!A403","v":315.17962296476435},0,0,0,0,0,0,0,0,0,0,0,0,0]
[{"$f":"'Mode Strength'!A404","v":315.26955328833401},0,0,0,0,0,0,0,0,0,0,0,0,0]
[{"$f":"'Mode Strength'!A405","v":315.42719975419959},0,0,0,0,0,0,0,0,0,0,0,0,0]
[{"$f":"'Mode Strength'!A406","v":315.5806081156324},0,0,0,0,0,0,0,0,0,0,0,0,0]
[{"$f":"'Mode Strength'!A407","v":315.64061508404433},0,0,0,0,0,0,0,0,0,0,0,0,0]
[{"$f":"'Mode Strength'!A408","v":315.9240386542935},0,0,0,0,0,0,0,0,0,0,0,0,0]
[{"$f":"'Mode Strength'!A409","v":316.18619523400503},0,0,0,0,0,0,0,0,0,0,0,0,0]
[{"$f":"'Mode Strength'!A410","v":316.56259267597449},0,0,0,0,0,0,0,0,0,0,0,0,0]
[{"$f":"'Mode Strength'!A411","v":316.59338408058335},0,0,0,0,0,0,0,0,0,0,0,0,0]
[{"$f":"'Mode Strength'!A412","v":316.82422088383919},0,0,0,0,0,0,0,0,0,0,0,0,0]
[{"$f":"'Mode Strength'!A413","v":317.00958532026806},0,0,0,0,0,0,0,0,0,0,0,0,0]
[{"$f":"'Mode Strength'!A414","v":317.72485675988622},0,0,0,0,0,0,0,0,0,0,0,0,0]
[{"$f":"'Mode Strength'!A415","v":317.86676710584544},0,0,0,0,0,0,0,0,0,0,0,0,0]
[{"$f":"'Mode Strength'!A416","v":318.21810831244977},0,0,0,0,0,0,0,0,0,0,0,0,0]
[{"$f":"'Mode Strength'!A417","v":318.62270045461838},0,0,0,0,0,0,0,0,0,0,0,0,0]
[{"$f":"'Mode Strength'!A418","v":318.85206811317596},0,0,0,0,0,0,0,0,0,0,0,0,0]
[{"$f":"'Mode Strength'!A419","v":318.95661714356885},0,0,0,0,0,0,0,0,0,0,0,0,0]
[{"$f":"'Mode Strength'!A420","v":319.04305250246568},0,0,0,0,0,0,0,0,0,0,0,0,0]
[{"$f":"'Mode Strength'!A421","v":319.95130714534429},0,0,0,0,0,0,0,0,0,0,0,0,0]
[{"$f":"'Mode Strength'!A422","v":320.34569904024426},0,0,0,0,0,0,0,0,0,0,0,0,0]
[{"$f":"'Mode Strength'!A423","v":320.76732701685853},0,0,0,0,0,0,0,0,0,0,0,0,0]
[{"$f":"'Mode Strength'!A424","v":321.09083757657896},0,0,0,0,0,0,0,0,0,0,0,0,0]
[{"$f":"'Mode Strength'!A425","v":322.06627529959815},0,0,0,0,0,0,0,0,0,0,0,0,0]
[{"$f":"'Mode Strength'!A426","v":322.19713558756285},0,0,0,0,0,0,0,0,0,0,0,0,0]
[{"$f":"'Mode Strength'!A427","v":323.13063382045931},0,0,0,0,0,0,0,0,0,0,0,0,0]
[{"$f":"'Mode Strength'!A428","v":323.16196863083877},0,0,0,0,0,0,0,0,0,0,0,0,0]
[{"$f":"'Mode Strength'!A429","v":323.41536803353853},0,0,0,0,0,0,0,0,0,0,0,0,0]
[{"$f":"'Mode Strength'!A430","v":323.59185381536099},0,0,0,0,0,0,0,0,0,0,0,0,0]
[{"$f":"'Mode Strength'!A431","v":323.77715533943535},0,0,0,0,0,0,0,0,0,0,0,0,0]
[{"$f":"'Mode Strength'!A432","v":324.21530614355225},0,0,0,0,0,0,0,0,0,0,0,0,0]
[{"$f":"'Mode Strength'!A433","v":324.23745567430518},0,0,0,0,0,0,0,0,0,0,0,0,0]
[{"$f":"'Mode Strength'!A434","v":324.24254861604891},0,0,0,0,0,0,0,0,0,0,0,0,0]
[{"$f":"'Mode Strength'!A435","v":324.45359850420732},0,0,0,0,0,0,0,0,0,0,0,0,0]
[{"$f":"'Mode Strength'!A436","v":324.58349631150861},0,0,0,0,0,0,0,0,0,0,0,0,0]
[{"$f":"'Mode Strength'!A437","v":324.63454598854156},0,0,0,0,0,0,0,0,0,0,0,0,0]
[{"$f":"'Mode Strength'!A438","v":324.8596690022361},0,0,0,0,0,0,0,0,0,0,0,0,0]
[{"$f":"'Mode Strength'!A439","v":324.88685744350425},0,0,0,0,0,0,0,0,0,0,0,0,0]
[{"$f":"'Mode Strength'!A440","v":325.48075335687253},0,0,0,0,0,0,0,0,0,0,0,0,0]
[{"$f":"'Mode Strength'!A441","v":325.68318132351266},0,0,0,0,0,0,0,0,0,0,0,0,0]
[{"$f":"'Mode Strength'!A442","v":325.69045103843956},0,0,0,0,0,0,0,0,0,0,0,0,0]
[{"$f":"'Mode Strength'!A443","v":326.43405457109867},0,0,0,0,0,0,0,0,0,0,0,0,0]
[{"$f":"'Mode Strength'!A444","v":326.58466685620186},0,0,0,0,0,0,0,0,0,0,0,0,0]
[{"$f":"'Mode Strength'!A445","v":327.13553048226419},0,0,0,0,0,0,0,0,0,0,0,0,0]
[{"$f":"'Mode Strength'!A446","v":327.5556468639918},0,0,0,0,0,0,0,0,0,0,0,0,0]
[{"$f":"'Mode Strength'!A447","v":327.5911119770538},0,0,0,0,0,0,0,0,0,0,0,0,0]
[{"$f":"'Mode Strength'!A448","v":328.19345148703553},0,0,0,0,0,0,0,0,0,0,0,0,0]
[{"$f":"'Mode Strength'!A449","v":328.23387869586452},0,0,0,0,0,0,0,0,0,0,0,0,0]
[{"$f":"'Mode Strength'!A450","v":328.98896844283314},0,0,0,0,0,0,0,0,0,0,0,0,0]
[{"$f":"'Mode Strength'!A451","v":329.18319450116945},{"$f":"IF((AND($A451>=14.1,$A451<17.8)),1,0)","v":0},{"$f":"IF((AND($A451>=17.8,$A451<22.4)),1,0)","v":0},{"$f":"IF((AND($A451>=22.4,$A451<28.2)),1,0)","v":0},{"$f":"IF((AND($A451>=28.2,$A451<35.5)),1,0)","v":0},{"$f":"IF((AND($A451>=35.5,$A451<44.7)),1,0)","v":0},{"$f":"IF((AND($A451>=44.7,$A451<56.2)),1,0)","v":0},{"$f":"IF((AND($A451>=56.2,$A451<70.8)),1,0)","v":0},{"$f":"IF((AND($A451>=70.8,$A451<89.1)),1,0)","v":0},{"$f":"IF((AND($A451>=89.1,$A451<112)),1,0)","v":0},{"$f":"IF((AND($A451>=112,$A451<141)),1,0)","v":0},{"$f":"IF((AND($A451>=141,$A451<178)),1,0)","v":0},{"$f":"IF((AND($A451>=178,$A451<224)),1,0)","v":0},{"$f":"IF((AND($A451>=224,$A451<282)),1,0)","v":0}]
[{"$f":"'Mode Strength'!A452","v":329.2615058019054},0,0,0,0,0,0,0,0,0,0,0,0,0]
[{"$f":"'Mode Strength'!A453","v":329.87424283358894},0,0,0,0,0,0,0,0,0,0,0,0,0]
[{"$f":"'Mode Strength'!A454","v":329.92387140000028},0,0,0,0,0,0,0,0,0,0,0,0,0]
[{"$f":"'Mode Strength'!A455","v":329.92730714874722},0,0,0,0,0,0,0,0,0,0,0,0,0]
[{"$f":"'Mode Strength'!A456","v":330.40234239073976},0,0,0,0,0,0,0,0,0,0,0,0,0]
[{"$f":"'Mode Strength'!A457","v":330.50323771017338},0,0,0,0,0,0,0,0,0,0,0,0,0]
[{"$f":"'Mode Strength'!A458","v":331.50708979324821},0,0,0,0,0,0,0,0,0,0,0,0,0]
[{"$f":"'Mode Strength'!A459","v":332.30461204732029},0,0,0,0,0,0,0,0,0,0,0,0,0]
[{"$f":"'Mode Strength'!A460","v":333.0042355460115},0,0,0,0,0,0,0,0,0,0,0,0,0]
[{"$f":"'Mode Strength'!A461","v":333.03464136292337},0,0,0,0,0,0,0,0,0,0,0,0,0]
[{"$f":"'Mode Strength'!A462","v":333.19271899853823},0,0,0,0,0,0,0,0,0,0,0,0,0]
[{"$f":"'Mode Strength'!A463","v":333.42906927251852},0,0,0,0,0,0,0,0,0,0,0,0,0]
[{"$f":"'Mode Strength'!A464","v":333.63162424756524},0,0,0,0,0,0,0,0,0,0,0,0,0]
[{"$f":"'Mode Strength'!A465","v":333.93439208598005},0,0,0,0,0,0,0,0,0,0,0,0,0]
[{"$f":"'Mode Strength'!A466","v":334.02874078308798},0,0,0,0,0,0,0,0,0,0,0,0,0]
[{"$f":"'Mode Strength'!A467","v":334.1328294307018},0,0,0,0,0,0,0,0,0,0,0,0,0]
[{"$f":"'Mode Strength'!A468","v":334.28812716083877},0,0,0,0,0,0,0,0,0,0,0,0,0]
[{"$f":"'Mode Strength'!A469","v":334.41420492582978},0,0,0,0,0,0,0,0,0,0,0,0,0]
[{"$f":"'Mode Strength'!A470","v":334.41985426647148},0,0,0,0,0,0,0,0,0,0,0,0,0]
[{"$f":"'Mode Strength'!A471","v":334.63274877278639},0,0,0,0,0,0,0,0,0,0,0,0,0]
[{"$f":"'Mode Strength'!A472","v":335.01045063945708},0,0,0,0,0,0,0,0,0,0,0,0,0]
[{"$f":"'Mode Strength'!A473","v":335.28515503095127},0,0,0,0,0,0,0,0,0,0,0,0,0]
[{"$f":"'Mode Strength'!A474","v":335.35652466790566},0,0,0,0,0,0,0,0,0,0,0,0,0]
[{"$f":"'Mode Strength'!A475","v":335.43339472729764},0,0,0,0,0,0,0,0,0,0,0,0,0]
[{"$f":"'Mode Strength'!A476","v":336.21065771640673},0,0,0,0,0,0,0,0,0,0,0,0,0]
[{"$f":"'Mode Strength'!A477","v":336.89177740378909},0,0,0,0,0,0,0,0,0,0,0,0,0]
[{"$f":"'Mode Strength'!A478","v":337.59491784769739},0,0,0,0,0,0,0,0,0,0,0,0,0]
[{"$f":"'Mode Strength'!A479","v":337.62049199510085},0,0,0,0,0,0,0,0,0,0,0,0,0]
[{"$f":"'Mode Strength'!A480","v":338.19791082676261},0,0,0,0,0,0,0,0,0,0,0,0,0]
[{"$f":"'Mode Strength'!A481","v":338.21808570375021},0,0,0,0,0,0,0,0,0,0,0,0,0]
[{"$f":"'Mode Strength'!A482","v":338.86634780694055},0,0,0,0,0,0,0,0,0,0,0,0,0]
[{"$f":"'Mode Strength'!A483","v":339.26044671816067},0,0,0,0,0,0,0,0,0,0,0,0,0]
[{"$f":"'Mode Strength'!A484","v":339.30617886867992},0,0,0,0,0,0,0,0,0,0,0,0,0]
[{"$f":"'Mode Strength'!A485","v":339.60002252346163},0,0,0,0,0,0,0,0,0,0,0,0,0]
[{"$f":"'Mode Strength'!A486","v":339.92679431876724},0,0,0,0,0,0,0,0,0,0,0,0,0]
[{"$f":"'Mode Strength'!A487","v":340.45986846476274},0,0,0,0,0,0,0,0,0,0,0,0,0]
[{"$f":"'Mode Strength'!A488","v":340.485811202636},0,0,0,0,0,0,0,0,0,0,0,0,0]
[{"$f":"'Mode Strength'!A489","v":341.07354315679288},0,0,0,0,0,0,0,0,0,0,0,0,0]
[{"$f":"'Mode Strength'!A490","v":341.0994392208849},0,0,0,0,0,0,0,0,0,0,0,0,0]
[{"$f":"'Mode Strength'!A491","v":341.86492536513373},0,0,0,0,0,0,0,0,0,0,0,0,0]
[{"$f":"'Mode Strength'!A492","v":341.9133948330948},0,0,0,0,0,0,0,0,0,0,0,0,0]
[{"$f":"'Mode Strength'!A493","v":342.42827302496971},0,0,0,0,0,0,0,0,0,0,0,0,0]
[{"$f":"'Mode Strength'!A494","v":342.71694140042536},0,0,0,0,0,0,0,0,0,0,0,0,0]
[{"$f":"'Mode Strength'!A495","v":343.08846811761356},0,0,0,0,0,0,0,0,0,0,0,0,0]
[{"$f":"'Mode Strength'!A496","v":343.17757627879223},0,0,0,0,0,0,0,0,0,0,0,0,0]
[{"$f":"'Mode Strength'!A497","v":343.4975874678085},0,0,0,0,0,0,0,0,0,0,0,0,0]
[{"$f":"'Mode Strength'!A498","v":344.28888512558422},0,0,0,0,0,0,0,0,0,0,0,0,0]
[{"$f":"'Mode Strength'!A499","v":344.71747035179527},0,0,0,0,0,0,0,0,0,0,0,0,0]
[{"$f":"'Mode Strength'!A500","v":345.9037225872396},0,0,0,0,0,0,0,0,0,0,0,0,0]
[{"$f":"'Mode Strength'!A501","v":345.92862555549084},0,0,0,0,0,0,0,0,0,0,0,0,0]
[{"$f":"'Mode Strength'!A502","v":346.35684655362854},0,0,0,0,0,0,0,0,0,0,0,0,0]
[{"$f":"'Mode Strength'!A503","v":346.95114591435919},0,0,0,0,0,0,0,0,0,0,0,0,0]
[{"$f":"'Mode Strength'!A504","v":347.27306327862397},0,0,0,0,0,0,0,0,0,0,0,0,0]
[{"$f":"'Mode Strength'!A505","v":347.64384255435709},0,0,0,0,0,0,0,0,0,0,0,0,0]
[{"$f":"'Mode Strength'!A506","v":347.78681455758016},0,0,0,0,0,0,0,0,0,0,0,0,0]
[{"$f":"'Mode Strength'!A507","v":347.85407480869691},0,0,0,0,0,0,0,0,0,0,0,0,0]
[{"$f":"'Mode Strength'!A508","v":348.29415162242702},0,0,0,0,0,0,0,0,0,0,0,0,0]
[{"$f":"'Mode Strength'!A509","v":348.52459751620364},0,0,0,0,0,0,0,0,0,0,0,0,0]
[{"$f":"'Mode Strength'!A510","v":349.10352612932331},0,0,0,0,0,0,0,0,0,0,0,0,0]
[{"$f":"'Mode Strength'!A511","v":349.86997871879316},0,0,0,0,0,0,0,0,0,0,0,0,0]
[{"$f":"'Mode Strength'!A512","v":350.39468296268001},0,0,0,0,0,0,0,0,0,0,0,0,0]
[{"$f":"'Mode Strength'!A513","v":350.46717651610948},0,0,0,0,0,0,0,0,0,0,0,0,0]
[{"$f":"'Mode Strength'!A514","v":350.75541241004157},0,0,0,0,0,0,0,0,0,0,0,0,0]
[{"$f":"'Mode Strength'!A515","v":351.0644347067153},{"$f":"IF((AND($A515>=14.1,$A515<17.8)),1,0)","v":0},{"$f":"IF((AND($A515>=17.8,$A515<22.4)),1,0)","v":0},{"$f":"IF((AND($A515>=22.4,$A515<28.2)),1,0)","v":0},{"$f":"IF((AND($A515>=28.2,$A515<35.5)),1,0)","v":0},{"$f":"IF((AND($A515>=35.5,$A515<44.7)),1,0)","v":0},{"$f":"IF((AND($A515>=44.7,$A515<56.2)),1,0)","v":0},{"$f":"IF((AND($A515>=56.2,$A515<70.8)),1,0)","v":0},{"$f":"IF((AND($A515>=70.8,$A515<89.1)),1,0)","v":0},{"$f":"IF((AND($A515>=89.1,$A515<112)),1,0)","v":0},{"$f":"IF((AND($A515>=112,$A515<141)),1,0)","v":0},{"$f":"IF((AND($A515>=141,$A515<178)),1,0)","v":0},{"$f":"IF((AND($A515>=178,$A515<224)),1,0)","v":0},{"$f":"IF((AND($A515>=224,$A515<282)),1,0)","v":0}]
[{"$f":"'Mode Strength'!A516","v":351.20550433138436},0,0,0,0,0,0,0,0,0,0,0,0,0]
[{"$f":"'Mode Strength'!A517","v":351.212245762132},0,0,0,0,0,0,0,0,0,0,0,0,0]
[{"$f":"'Mode Strength'!A518","v":351.30036887663857},0,0,0,0,0,0,0,0,0,0,0,0,0]
[{"$f":"'Mode Strength'!A519","v":352.04164001043159},0,0,0,0,0,0,0,0,0,0,0,0,0]
[{"$f":"'Mode Strength'!A520","v":352.24088897306115},0,0,0,0,0,0,0,0,0,0,0,0,0]
[{"$f":"'Mode Strength'!A521","v":352.37403755194845},0,0,0,0,0,0,0,0,0,0,0,0,0]
[{"$f":"'Mode Strength'!A522","v":353.13029263185564},0,0,0,0,0,0,0,0,0,0,0,0,0]
[{"$f":"'Mode Strength'!A523","v":353.30274777349484},0,0,0,0,0,0,0,0,0,0,0,0,0]
[{"$f":"'Mode Strength'!A524","v":353.39395320305215},0,0,0,0,0,0,0,0,0,0,0,0,0]
[{"$f":"'Mode Strength'!A525","v":353.57212955688334},0,0,0,0,0,0,0,0,0,0,0,0,0]
[{"$f":"'Mode Strength'!A526","v":354.81686544567208},0,0,0,0,0,0,0,0,0,0,0,0,0]
[{"$f":"'Mode Strength'!A527","v":354.93565121042144},0,0,0,0,0,0,0,0,0,0,0,0,0]
[{"$f":"'Mode Strength'!A528","v":355.45405159193177},0,0,0,0,0,0,0,0,0,0,0,0,0]
[{"$f":"'Mode Strength'!A529","v":355.94822702183114},0,0,0,0,0,0,0,0,0,0,0,0,0]
[{"$f":"'Mode Strength'!A530","v":356.43619010972822},0,0,0,0,0,0,0,0,0,0,0,0,0]
[{"$f":"'Mode Strength'!A531","v":357.22288664688426},0,0,0,0,0,0,0,0,0,0,0,0,0]
[{"$f":"'Mode Strength'!A532","v":357.56348475413114},0,0,0,0,0,0,0,0,0,0,0,0,0]
[{"$f":"'Mode Strength'!A533","v":357.98034439333117},0,0,0,0,0,0,0,0,0,0,0,0,0]
[{"$f":"'Mode Strength'!A534","v":358.03330015989985},0,0,0,0,0,0,0,0,0,0,0,0,0]
[{"$f":"'Mode Strength'!A535","v":358.14785415523966},0,0,0,0,0,0,0,0,0,0,0,0,0]
[{"$f":"'Mode Strength'!A536","v":358.22899738037933},0,0,0,0,0,0,0,0,0,0,0,0,0]
[{"$f":"'Mode Strength'!A537","v":358.56403441847459},0,0,0,0,0,0,0,0,0,0,0,0,0]
[{"$f":"'Mode Strength'!A538","v":358.56408933114386},0,0,0,0,0,0,0,0,0,0,0,0,0]
[{"$f":"'Mode Strength'!A539","v":358.56863980183323},0,0,0,0,0,0,0,0,0,0,0,0,0]
[{"$f":"'Mode Strength'!A540","v":358.96881728005604},0,0,0,0,0,0,0,0,0,0,0,0,0]
[{"$f":"'Mode Strength'!A541","v":359.02262483822722},0,0,0,0,0,0,0,0,0,0,0,0,0]
[{"$f":"'Mode Strength'!A542","v":359.15137373511726},0,0,0,0,0,0,0,0,0,0,0,0,0]
[{"$f":"'Mode Strength'!A543","v":359.19955962717864},0,0,0,0,0,0,0,0,0,0,0,0,0]
[{"$f":"'Mode Strength'!A544","v":359.87188513873946},0,0,0,0,0,0,0,0,0,0,0,0,0]
[{"$f":"'Mode Strength'!A545","v":360.02370611606887},0,0,0,0,0,0,0,0,0,0,0,0,0]
[{"$f":"'Mode Strength'!A546","v":360.98944311123108},0,0,0,0,0,0,0,0,0,0,0,0,0]
[{"$f":"'Mode Strength'!A547","v":361.00839883124422},0,0,0,0,0,0,0,0,0,0,0,0,0]
[{"$f":"'Mode Strength'!A548","v":361.23051646228487},0,0,0,0,0,0,0,0,0,0,0,0,0]
[{"$f":"'Mode Strength'!A549","v":361.44968767317215},0,0,0,0,0,0,0,0,0,0,0,0,0]
[{"$f":"'Mode Strength'!A550","v":361.56733938340466},0,0,0,0,0,0,0,0,0,0,0,0,0]
[{"$f":"'Mode Strength'!A551","v":361.58720087025171},0,0,0,0,0,0,0,0,0,0,0,0,0]
[{"$f":"'Mode Strength'!A552","v":362.14524809153465},0,0,0,0,0,0,0,0,0,0,0,0,0]
[{"$f":"'Mode Strength'!A553","v":362.17738050377079},0,0,0,0,0,0,0,0,0,0,0,0,0]
[{"$f":"'Mode Strength'!A554","v":362.30940312292489},0,0,0,0,0,0,0,0,0,0,0,0,0]
[{"$f":"'Mode Strength'!A555","v":363.01038611175676},0,0,0,0,0,0,0,0,0,0,0,0,0]
[{"$f":"'Mode Strength'!A556","v":363.04244195176511},0,0,0,0,0,0,0,0,0,0,0,0,0]
[{"$f":"'Mode Strength'!A557","v":363.11345103045164},0,0,0,0,0,0,0,0,0,0,0,0,0]
[{"$f":"'Mode Strength'!A558","v":363.16165854428306},0,0,0,0,0,0,0,0,0,0,0,0,0]
[{"$f":"'Mode Strength'!A559","v":363.59327564120076},0,0,0,0,0,0,0,0,0,0,0,0,0]
[{"$f":"'Mode Strength'!A560","v":363.83158519164317},0,0,0,0,0,0,0,0,0,0,0,0,0]
[{"$f":"'Mode Strength'!A561","v":363.94742872911974},0,0,0,0,0,0,0,0,0,0,0,0,0]
[{"$f":"'Mode Strength'!A562","v":364.14824862079678},0,0,0,0,0,0,0,0,0,0,0,0,0]
[{"$f":"'Mode Strength'!A563","v":364.23979636115183},0,0,0,0,0,0,0,0,0,0,0,0,0]
[{"$f":"'Mode Strength'!A564","v":364.36850625420891},0,0,0,0,0,0,0,0,0,0,0,0,0]
[{"$f":"'Mode Strength'!A565","v":364.45301092389326},0,0,0,0,0,0,0,0,0,0,0,0,0]
[{"$f":"'Mode Strength'!A566","v":364.59746682800659},0,0,0,0,0,0,0,0,0,0,0,0,0]
[{"$f":"'Mode Strength'!A567","v":365.35493998267293},0,0,0,0,0,0,0,0,0,0,0,0,0]
[{"$f":"'Mode Strength'!A568","v":366.17837883018774},0,0,0,0,0,0,0,0,0,0,0,0,0]
[{"$f":"'Mode Strength'!A569","v":366.25491610345415},0,0,0,0,0,0,0,0,0,0,0,0,0]
[{"$f":"'Mode Strength'!A570","v":366.30662189202883},0,0,0,0,0,0,0,0,0,0,0,0,0]
[{"$f":"'Mode Strength'!A571","v":366.51065469899987},0,0,0,0,0,0,0,0,0,0,0,0,0]
[{"$f":"'Mode Strength'!A572","v":367.08078104740724},0,0,0,0,0,0,0,0,0,0,0,0,0]
[{"$f":"'Mode Strength'!A573","v":367.44174883298365},0,0,0,0,0,0,0,0,0,0,0,0,0]
[{"$f":"'Mode Strength'!A574","v":367.93431414330212},0,0,0,0,0,0,0,0,0,0,0,0,0]
[{"$f":"'Mode Strength'!A575","v":368.29838939262248},0,0,0,0,0,0,0,0,0,0,0,0,0]
[{"$f":"'Mode Strength'!A576","v":368.35396490029433},0,0,0,0,0,0,0,0,0,0,0,0,0]
[{"$f":"'Mode Strength'!A577","v":370.70990778683},0,0,0,0,0,0,0,0,0,0,0,0,0]
[{"$f":"'Mode Strength'!A578","v":370.80520171280125},0,0,0,0,0,0,0,0,0,0,0,0,0]
[{"$f":"'Mode Strength'!A579","v":372.80719054314812},{"$f":"IF((AND($A579>=14.1,$A579<17.8)),1,0)","v":0},{"$f":"IF((AND($A579>=17.8,$A579<22.4)),1,0)","v":0},{"$f":"IF((AND($A579>=22.4,$A579<28.2)),1,0)","v":0},{"$f":"IF((AND($A579>=28.2,$A579<35.5)),1,0)","v":0},{"$f":"IF((AND($A579>=35.5,$A579<44.7)),1,0)","v":0},{"$f":"IF((AND($A579>=44.7,$A579<56.2)),1,0)","v":0},{"$f":"IF((AND($A579>=56.2,$A579<70.8)),1,0)","v":0},{"$f":"IF((AND($A579>=70.8,$A579<89.1)),1,0)","v":0},{"$f":"IF((AND($A579>=89.1,$A579<112)),1,0)","v":0},{"$f":"IF((AND($A579>=112,$A579<141)),1,0)","v":0},{"$f":"IF((AND($A579>=141,$A579<178)),1,0)","v":0},{"$f":"IF((AND($A579>=178,$A579<224)),1,0)","v":0},{"$f":"IF((AND($A579>=224,$A579<282)),1,0)","v":0}]
[{"$f":"'Mode Strength'!A580","v":372.99513651177551},0,0,0,0,0,0,0,0,0,0,0,0,0]
[{"$f":"'Mode Strength'!A581","v":373.10813493799867},0,0,0,0,0,0,0,0,0,0,0,0,0]
[{"$f":"'Mode Strength'!A582","v":373.15254619028821},0,0,0,0,0,0,0,0,0,0,0,0,0]
[{"$f":"'Mode Strength'!A583","v":373.32134515270224},0,0,0,0,0,0,0,0,0,0,0,0,0]
[{"$f":"'Mode Strength'!A584","v":373.74426240993552},0,0,0,0,0,0,0,0,0,0,0,0,0]
[{"$f":"'Mode Strength'!A585","v":373.88108611309576},0,0,0,0,0,0,0,0,0,0,0,0,0]
[{"$f":"'Mode Strength'!A586","v":373.92737387579058},0,0,0,0,0,0,0,0,0,0,0,0,0]
[{"$f":"'Mode Strength'!A587","v":374.07152280911589},0,0,0,0,0,0,0,0,0,0,0,0,0]
[{"$f":"'Mode Strength'!A588","v":374.30337093169737},0,0,0,0,0,0,0,0,0,0,0,0,0]
[{"$f":"'Mode Strength'!A589","v":374.37803743748157},0,0,0,0,0,0,0,0,0,0,0,0,0]
[{"$f":"'Mode Strength'!A590","v":374.55504855905201},0,0,0,0,0,0,0,0,0,0,0,0,0]
[{"$f":"'Mode Strength'!A591","v":374.71912983304674},0,0,0,0,0,0,0,0,0,0,0,0,0]
[{"$f":"'Mode Strength'!A592","v":375.00108433034984},0,0,0,0,0,0,0,0,0,0,0,0,0]
[{"$f":"'Mode Strength'!A593","v":375.15871200000322},0,0,0,0,0,0,0,0,0,0,0,0,0]
[{"$f":"'Mode Strength'!A594","v":375.240204528775},0,0,0,0,0,0,0,0,0,0,0,0,0]
[{"$f":"'Mode Strength'!A595","v":375.33816583896646},0,0,0,0,0,0,0,0,0,0,0,0,0]
[{"$f":"'Mode Strength'!A596","v":375.64708881481164},0,0,0,0,0,0,0,0,0,0,0,0,0]
[{"$f":"'Mode Strength'!A597","v":375.77797697163192},0,0,0,0,0,0,0,0,0,0,0,0,0]
[{"$f":"'Mode Strength'!A598","v":376.94691355174689},0,0,0,0,0,0,0,0,0,0,0,0,0]
[{"$f":"'Mode Strength'!A599","v":377.04516683832321},0,0,0,0,0,0,0,0,0,0,0,0,0]
[{"$f":"'Mode Strength'!A600","v":377.2121716952509},0,0,0,0,0,0,0,0,0,0,0,0,0]
[{"$f":"'Mode Strength'!A601","v":378.20392673109131},0,0,0,0,0,0,0,0,0,0,0,0,0]
[{"$f":"'Mode Strength'!A602","v":378.68364669058508},0,0,0,0,0,0,0,0,0,0,0,0,0]
[{"$f":"'Mode Strength'!A603","v":378.69441491194129},0,0,0,0,0,0,0,0,0,0,0,0,0]
[{"$f":"'Mode Strength'!A604","v":379.44026143207702},0,0,0,0,0,0,0,0,0,0,0,0,0]
[{"$f":"'Mode Strength'!A605","v":379.52183019587312},0,0,0,0,0,0,0,0,0,0,0,0,0]
[{"$f":"'Mode Strength'!A606","v":379.8441647136741},0,0,0,0,0,0,0,0,0,0,0,0,0]
[{"$f":"'Mode Strength'!A607","v":380.66735372256153},0,0,0,0,0,0,0,0,0,0,0,0,0]
[{"$f":"'Mode Strength'!A608","v":380.75963354751252},0,0,0,0,0,0,0,0,0,0,0,0,0]
[{"$f":"'Mode Strength'!A609","v":381.58064185675062},0,0,0,0,0,0,0,0,0,0,0,0,0]
[{"$f":"'Mode Strength'!A610","v":381.69109858009995},0,0,0,0,0,0,0,0,0,0,0,0,0]
[{"$f":"'Mode Strength'!A611","v":381.8995170525813},0,0,0,0,0,0,0,0,0,0,0,0,0]
[{"$f":"'Mode Strength'!A612","v":382.20594862511291},0,0,0,0,0,0,0,0,0,0,0,0,0]
[{"$f":"'Mode Strength'!A613","v":382.44670338686393},0,0,0,0,0,0,0,0,0,0,0,0,0]
[{"$f":"'Mode Strength'!A614","v":382.59595986742028},0,0,0,0,0,0,0,0,0,0,0,0,0]
[{"$f":"'Mode Strength'!A615","v":382.93253882885443},0,0,0,0,0,0,0,0,0,0,0,0,0]
[{"$f":"'Mode Strength'!A616","v":383.12340751899779},0,0,0,0,0,0,0,0,0,0,0,0,0]
[{"$f":"'Mode Strength'!A617","v":383.14646153167263},0,0,0,0,0,0,0,0,0,0,0,0,0]
[{"$f":"'Mode Strength'!A618","v":383.26601811432158},0,0,0,0,0,0,0,0,0,0,0,0,0]
[{"$f":"'Mode Strength'!A619","v":384.19487432417418},0,0,0,0,0,0,0,0,0,0,0,0,0]
[{"$f":"'Mode Strength'!A620","v":385.01046890532155},0,0,0,0,0,0,0,0,0,0,0,0,0]
[{"$f":"'Mode Strength'!A621","v":385.13053018007679},0,0,0,0,0,0,0,0,0,0,0,0,0]
[{"$f":"'Mode Strength'!A622","v":385.94414749613014},0,0,0,0,0,0,0,0,0,0,0,0,0]
[{"$f":"'Mode Strength'!A623","v":385.95424915875554},0,0,0,0,0,0,0,0,0,0,0,0,0]
[{"$f":"'Mode Strength'!A624","v":386.84518099457034},0,0,0,0,0,0,0,0,0,0,0,0,0]
[{"$f":"'Mode Strength'!A625","v":387.40304574712479},0,0,0,0,0,0,0,0,0,0,0,0,0]
[{"$f":"'Mode Strength'!A626","v":387.42969536052527},0,0,0,0,0,0,0,0,0,0,0,0,0]
[{"$f":"'Mode Strength'!A627","v":387.92026369040451},0,0,0,0,0,0,0,0,0,0,0,0,0]
[{"$f":"'Mode Strength'!A628","v":387.92395741465145},0,0,0,0,0,0,0,0,0,0,0,0,0]
[{"$f":"'Mode Strength'!A629","v":388.2355747146533},0,0,0,0,0,0,0,0,0,0,0,0,0]
[{"$f":"'Mode Strength'!A630","v":388.27825569480518},0,0,0,0,0,0,0,0,0,0,0,0,0]
[{"$f":"'Mode Strength'!A631","v":388.45896924658342},0,0,0,0,0,0,0,0,0,0,0,0,0]
[{"$f":"'Mode Strength'!A632","v":388.73172811846973},0,0,0,0,0,0,0,0,0,0,0,0,0]
[{"$f":"'Mode Strength'!A633","v":388.87299502228177},0,0,0,0,0,0,0,0,0,0,0,0,0]
[{"$f":"'Mode Strength'!A634","v":389.13130244973144},0,0,0,0,0,0,0,0,0,0,0,0,0]
[{"$f":"'Mode Strength'!A635","v":389.45615418509652},0,0,0,0,0,0,0,0,0,0,0,0,0]
[{"$f":"'Mode Strength'!A636","v":389.73449169101377},0,0,0,0,0,0,0,0,0,0,0,0,0]
[{"$f":"'Mode Strength'!A637","v":389.88003959446104},0,0,0,0,0,0,0,0,0,0,0,0,0]
[{"$f":"'Mode Strength'!A638","v":389.94702957013232},0,0,0,0,0,0,0,0,0,0,0,0,0]
[{"$f":"'Mode Strength'!A639","v":390.58904431997854},0,0,0,0,0,0,0,0,0,0,0,0,0]
[{"$f":"'Mode Strength'!A640","v":391.26254583378369},0,0,0,0,0,0,0,0,0,0,0,0,0]
[{"$f":"'Mode Strength'!A641","v":391.5963997178311},0,0,0,0,0,0,0,0,0,0,0,0,0]
[{"$f":"'Mode Strength'!A642","v":391.81864204988977},0,0,0,0,0,0,0,0,0,0,0,0,0]
[{"$f":"'Mode Strength'!A643","v":392.1291919036438},{"$f":"IF((AND($A643>=14.1,$A643<17.8)),1,0)","v":0},{"$f":"IF((AND($A643>=17.8,$A643<22.4)),1,0)","v":0},{"$f":"IF((AND($A643>=22.4,$A643<28.2)),1,0)","v":0},{"$f":"IF((AND($A643>=28.2,$A643<35.5)),1,0)","v":0},{"$f":"IF((AND($A643>=35.5,$A643<44.7)),1,0)","v":0},{"$f":"IF((AND($A643>=44.7,$A643<56.2)),1,0)","v":0},{"$f":"IF((AND($A643>=56.2,$A643<70.8)),1,0)","v":0},{"$f":"IF((AND($A643>=70.8,$A643<89.1)),1,0)","v":0},{"$f":"IF((AND($A643>=89.1,$A643<112)),1,0)","v":0},{"$f":"IF((AND($A643>=112,$A643<141)),1,0)","v":0},{"$f":"IF((AND($A643>=141,$A643<178)),1,0)","v":0},{"$f":"IF((AND($A643>=178,$A643<224)),1,0)","v":0},{"$f":"IF((AND($A643>=224,$A643<282)),1,0)","v":0}]
[{"$f":"'Mode Strength'!A644","v":392.53549627433659},0,0,0,0,0,0,0,0,0,0,0,0,0]
[{"$f":"'Mode Strength'!A645","v":392.66212314086238},0,0,0,0,0,0,0,0,0,0,0,0,0]
[{"$f":"'Mode Strength'!A646","v":393.33379659656413},0,0,0,0,0,0,0,0,0,0,0,0,0]
[{"$f":"'Mode Strength'!A647","v":393.46016654703101},0,0,0,0,0,0,0,0,0,0,0,0,0]
[{"$f":"'Mode Strength'!A648","v":394.51021432632677},0,0,0,0,0,0,0,0,0,0,0,0,0]
[{"$f":"'Mode Strength'!A649","v":396.12702777481644},0,0,0,0,0,0,0,0,0,0,0,0,0]
[{"$f":"'Mode Strength'!A650","v":396.49120526486951},0,0,0,0,0,0,0,0,0,0,0,0,0]
[{"$f":"'Mode Strength'!A651","v":396.50334610966445},0,0,0,0,0,0,0,0,0,0,0,0,0]
[{"$f":"'Mode Strength'!A652","v":396.9646113777074},0,0,0,0,0,0,0,0,0,0,0,0,0]
[{"$f":"'Mode Strength'!A653","v":396.9868615981236},0,0,0,0,0,0,0,0,0,0,0,0,0]
[{"$f":"'Mode Strength'!A654","v":397.0345651873767},0,0,0,0,0,0,0,0,0,0,0,0,0]
[{"$f":"'Mode Strength'!A655","v":397.68644735647888},0,0,0,0,0,0,0,0,0,0,0,0,0]
[{"$f":"'Mode Strength'!A656","v":398.3441550511447},0,0,0,0,0,0,0,0,0,0,0,0,0]
[{"$f":"'Mode Strength'!A657","v":398.90209647741045},0,0,0,0,0,0,0,0,0,0,0,0,0]
[{"$f":"'Mode Strength'!A658","v":399.29792074564699},0,0,0,0,0,0,0,0,0,0,0,0,0]
[{"$f":"'Mode Strength'!A659","v":399.68768092574589},0,0,0,0,0,0,0,0,0,0,0,0,0]
[{"$f":"'Mode Strength'!A660","v":399.74481536723709},0,0,0,0,0,0,0,0,0,0,0,0,0]
[{"$f":"'Mode Strength'!A661","v":399.79313498267408},0,0,0,0,0,0,0,0,0,0,0,0,0]
[{"$f":"'Mode Strength'!A662","v":400.55780026858559},0,0,0,0,0,0,0,0,0,0,0,0,0]
[{"$f":"'Mode Strength'!A663","v":400.69236903027456},0,0,0,0,0,0,0,0,0,0,0,0,0]
[{"$f":"'Mode Strength'!A664","v":401.1223331409455},0,0,0,0,0,0,0,0,0,0,0,0,0]
[{"$f":"'Mode Strength'!A665","v":401.5603113746439},0,0,0,0,0,0,0,0,0,0,0,0,0]
[{"$f":"'Mode Strength'!A666","v":403.37804359998444},0,0,0,0,0,0,0,0,0,0,0,0,0]
[{"$f":"'Mode Strength'!A667","v":403.38460049753678},0,0,0,0,0,0,0,0,0,0,0,0,0]
[{"$f":"'Mode Strength'!A668","v":403.583396481406},0,0,0,0,0,0,0,0,0,0,0,0,0]
[{"$f":"'Mode Strength'!A669","v":403.88490043656344},0,0,0,0,0,0,0,0,0,0,0,0,0]
[{"$f":"'Mode Strength'!A670","v":403.90268100749518},0,0,0,0,0,0,0,0,0,0,0,0,0]
[{"$f":"'Mode Strength'!A671","v":404.22151911060098},0,0,0,0,0,0,0,0,0,0,0,0,0]
[{"$f":"'Mode Strength'!A672","v":404.40234001194631},0,0,0,0,0,0,0,0,0,0,0,0,0]
[{"$f":"'Mode Strength'!A673","v":404.54934863765232},0,0,0,0,0,0,0,0,0,0,0,0,0]
[{"$f":"'Mode Strength'!A674","v":405.06417103947797},0,0,0,0,0,0,0,0,0,0,0,0,0]
[{"$f":"'Mode Strength'!A675","v":405.17726036497339},0,0,0,0,0,0,0,0,0,0,0,0,0]
[{"$f":"'Mode Strength'!A676","v":405.26960188386073},0,0,0,0,0,0,0,0,0,0,0,0,0]
[{"$f":"'Mode Strength'!A677","v":406.3537102948597},0,0,0,0,0,0,0,0,0,0,0,0,0]
[{"$f":"'Mode Strength'!A678","v":406.59978444320166},0,0,0,0,0,0,0,0,0,0,0,0,0]
[{"$f":"'Mode Strength'!A679","v":406.94139252777546},0,0,0,0,0,0,0,0,0,0,0,0,0]
[{"$f":"'Mode Strength'!A680","v":407.52002702815395},0,0,0,0,0,0,0,0,0,0,0,0,0]
[{"$f":"'Mode Strength'!A681","v":407.71148703730751},0,0,0,0,0,0,0,0,0,0,0,0,0]
[{"$f":"'Mode Strength'!A682","v":407.81486627837194},0,0,0,0,0,0,0,0,0,0,0,0,0]
[{"$f":"'Mode Strength'!A683","v":408.25472759643918},0,0,0,0,0,0,0,0,0,0,0,0,0]
[{"$f":"'Mode Strength'!A684","v":409.13536442681391},0,0,0,0,0,0,0,0,0,0,0,0,0]
[{"$f":"'Mode Strength'!A685","v":409.8304246956788},0,0,0,0,0,0,0,0,0,0,0,0,0]
[{"$f":"'Mode Strength'!A686","v":409.92166998227657},0,0,0,0,0,0,0,0,0,0,0,0,0]
[{"$f":"'Mode Strength'!A687","v":410.4068752479854},0,0,0,0,0,0,0,0,0,0,0,0,0]
[{"$f":"'Mode Strength'!A688","v":410.70768294014118},0,0,0,0,0,0,0,0,0,0,0,0,0]
[{"$f":"'Mode Strength'!A689","v":411.72761175409221},0,0,0,0,0,0,0,0,0,0,0,0,0]
[{"$f":"'Mode Strength'!A690","v":411.76597465565203},0,0,0,0,0,0,0,0,0,0,0,0,0]
[{"$f":"'Mode Strength'!A691","v":412.08968395627016},0,0,0,0,0,0,0,0,0,0,0,0,0]
[{"$f":"'Mode Strength'!A692","v":412.59688172486619},0,0,0,0,0,0,0,0,0,0,0,0,0]
[{"$f":"'Mode Strength'!A693","v":412.60083628192945},0,0,0,0,0,0,0,0,0,0,0,0,0]
[{"$f":"'Mode Strength'!A694","v":413.32828633607545},0,0,0,0,0,0,0,0,0,0,0,0,0]
[{"$f":"'Mode Strength'!A695","v":413.94653265413393},0,0,0,0,0,0,0,0,0,0,0,0,0]
[{"$f":"'Mode Strength'!A696","v":414.52157990921717},0,0,0,0,0,0,0,0,0,0,0,0,0]
[{"$f":"'Mode Strength'!A697","v":414.72285285225047},0,0,0,0,0,0,0,0,0,0,0,0,0]
[{"$f":"'Mode Strength'!A698","v":414.7867415535207},0,0,0,0,0,0,0,0,0,0,0,0,0]
[{"$f":"'Mode Strength'!A699","v":415.20949117283527},0,0,0,0,0,0,0,0,0,0,0,0,0]
[{"$f":"'Mode Strength'!A700","v":415.38893103963733},0,0,0,0,0,0,0,0,0,0,0,0,0]
[{"$f":"'Mode Strength'!A701","v":415.55211020151546},0,0,0,0,0,0,0,0,0,0,0,0,0]
[{"$f":"'Mode Strength'!A702","v":416.09630024954561},0,0,0,0,0,0,0,0,0,0,0,0,0]
[{"$f":"'Mode Strength'!A703","v":416.1133703490126},0,0,0,0,0,0,0,0,0,0,0,0,0]
[{"$f":"'Mode Strength'!A704","v":416.55654954694313},0,0,0,0,0,0,0,0,0,0,0,0,0]
[{"$f":"'Mode Strength'!A705","v":416.74562410750514},0,0,0,0,0,0,0,0,0,0,0,0,0]
[{"$f":"'Mode Strength'!A706","v":417.03761233003792},0,0,0,0,0,0,0,0,0,0,0,0,0]
[{"$f":"'Mode Strength'!A707","v":417.15003199646173},{"$f":"IF((AND($A707>=14.1,$A707<17.8)),1,0)","v":0},{"$f":"IF((AND($A707>=17.8,$A707<22.4)),1,0)","v":0},{"$f":"IF((AND($A707>=22.4,$A707<28.2)),1,0)","v":0},{"$f":"IF((AND($A707>=28.2,$A707<35.5)),1,0)","v":0},{"$f":"IF((AND($A707>=35.5,$A707<44.7)),1,0)","v":0},{"$f":"IF((AND($A707>=44.7,$A707<56.2)),1,0)","v":0},{"$f":"IF((AND($A707>=56.2,$A707<70.8)),1,0)","v":0},{"$f":"IF((AND($A707>=70.8,$A707<89.1)),1,0)","v":0},{"$f":"IF((AND($A707>=89.1,$A707<112)),1,0)","v":0},{"$f":"IF((AND($A707>=112,$A707<141)),1,0)","v":0},{"$f":"IF((AND($A707>=141,$A707<178)),1,0)","v":0},{"$f":"IF((AND($A707>=178,$A707<224)),1,0)","v":0},{"$f":"IF((AND($A707>=224,$A707<282)),1,0)","v":0}]
[{"$f":"'Mode Strength'!A708","v":417.30890079194637},0,0,0,0,0,0,0,0,0,0,0,0,0]
[{"$f":"'Mode Strength'!A709","v":417.53875257803804},0,0,0,0,0,0,0,0,0,0,0,0,0]
[{"$f":"'Mode Strength'!A710","v":417.65942032308118},0,0,0,0,0,0,0,0,0,0,0,0,0]
[{"$f":"'Mode Strength'!A711","v":417.70928590114784},0,0,0,0,0,0,0,0,0,0,0,0,0]
[{"$f":"'Mode Strength'!A712","v":417.98018552284248},0,0,0,0,0,0,0,0,0,0,0,0,0]
[{"$f":"'Mode Strength'!A713","v":418.01192927291936},0,0,0,0,0,0,0,0,0,0,0,0,0]
[{"$f":"'Mode Strength'!A714","v":418.22508010542271},0,0,0,0,0,0,0,0,0,0,0,0,0]
[{"$f":"'Mode Strength'!A715","v":418.28933719872856},0,0,0,0,0,0,0,0,0,0,0,0,0]
[{"$f":"'Mode Strength'!A716","v":418.84398298969916},0,0,0,0,0,0,0,0,0,0,0,0,0]
[{"$f":"'Mode Strength'!A717","v":419.52120406375195},0,0,0,0,0,0,0,0,0,0,0,0,0]
[{"$f":"'Mode Strength'!A718","v":419.82429438358537},0,0,0,0,0,0,0,0,0,0,0,0,0]
[{"$f":"'Mode Strength'!A719","v":420.58702366326685},0,0,0,0,0,0,0,0,0,0,0,0,0]
[{"$f":"'Mode Strength'!A720","v":420.68071262478196},0,0,0,0,0,0,0,0,0,0,0,0,0]
[{"$f":"'Mode Strength'!A721","v":421.69911818114076},0,0,0,0,0,0,0,0,0,0,0,0,0]
[{"$f":"'Mode Strength'!A722","v":422.12451210744456},0,0,0,0,0,0,0,0,0,0,0,0,0]
[{"$f":"'Mode Strength'!A723","v":422.22436241579175},0,0,0,0,0,0,0,0,0,0,0,0,0]
[{"$f":"'Mode Strength'!A724","v":422.26360793798608},0,0,0,0,0,0,0,0,0,0,0,0,0]
[{"$f":"'Mode Strength'!A725","v":422.88666663580767},0,0,0,0,0,0,0,0,0,0,0,0,0]
[{"$f":"'Mode Strength'!A726","v":423.07592230856261},0,0,0,0,0,0,0,0,0,0,0,0,0]
[{"$f":"'Mode Strength'!A727","v":423.23956978755149},0,0,0,0,0,0,0,0,0,0,0,0,0]
[{"$f":"'Mode Strength'!A728","v":423.64862577771424},0,0,0,0,0,0,0,0,0,0,0,0,0]
[{"$f":"'Mode Strength'!A729","v":424.84416386837751},0,0,0,0,0,0,0,0,0,0,0,0,0]
[{"$f":"'Mode Strength'!A730","v":425.48420346451616},0,0,0,0,0,0,0,0,0,0,0,0,0]
[{"$f":"'Mode Strength'!A731","v":425.62037955988217},0,0,0,0,0,0,0,0,0,0,0,0,0]
[{"$f":"'Mode Strength'!A732","v":425.85532089614361},0,0,0,0,0,0,0,0,0,0,0,0,0]
[{"$f":"'Mode Strength'!A733","v":427.16880942550989},0,0,0,0,0,0,0,0,0,0,0,0,0]
[{"$f":"'Mode Strength'!A734","v":427.47029432821068},0,0,0,0,0,0,0,0,0,0,0,0,0]
[{"$f":"'Mode Strength'!A735","v":427.58657561621027},0,0,0,0,0,0,0,0,0,0,0,0,0]
[{"$f":"'Mode Strength'!A736","v":427.64128499023923},0,0,0,0,0,0,0,0,0,0,0,0,0]
[{"$f":"'Mode Strength'!A737","v":428.18841802124774},0,0,0,0,0,0,0,0,0,0,0,0,0]
[{"$f":"'Mode Strength'!A738","v":428.37416861644522},0,0,0,0,0,0,0,0,0,0,0,0,0]
[{"$f":"'Mode Strength'!A739","v":429.28434155639968},0,0,0,0,0,0,0,0,0,0,0,0,0]
[{"$f":"'Mode Strength'!A740","v":429.72958718282337},0,0,0,0,0,0,0,0,0,0,0,0,0]
[{"$f":"'Mode Strength'!A741","v":429.8276708121449},0,0,0,0,0,0,0,0,0,0,0,0,0]
[{"$f":"'Mode Strength'!A742","v":430.43978071889802},0,0,0,0,0,0,0,0,0,0,0,0,0]
[{"$f":"'Mode Strength'!A743","v":430.73347944146894},0,0,0,0,0,0,0,0,0,0,0,0,0]
[{"$f":"'Mode Strength'!A744","v":430.98516017696198},0,0,0,0,0,0,0,0,0,0,0,0,0]
[{"$f":"'Mode Strength'!A745","v":431.17736507112517},0,0,0,0,0,0,0,0,0,0,0,0,0]
[{"$f":"'Mode Strength'!A746","v":431.22682256756417},0,0,0,0,0,0,0,0,0,0,0,0,0]
[{"$f":"'Mode Strength'!A747","v":431.45958679216221},0,0,0,0,0,0,0,0,0,0,0,0,0]
[{"$f":"'Mode Strength'!A748","v":431.54100544903218},0,0,0,0,0,0,0,0,0,0,0,0,0]
[{"$f":"'Mode Strength'!A749","v":431.94399502869402},0,0,0,0,0,0,0,0,0,0,0,0,0]
[{"$f":"'Mode Strength'!A750","v":432.66959050882701},0,0,0,0,0,0,0,0,0,0,0,0,0]
[{"$f":"'Mode Strength'!A751","v":432.77799508201156},0,0,0,0,0,0,0,0,0,0,0,0,0]
[{"$f":"'Mode Strength'!A752","v":433.03027812868407},0,0,0,0,0,0,0,0,0,0,0,0,0]
[{"$f":"'Mode Strength'!A753","v":433.32391957031473},0,0,0,0,0,0,0,0,0,0,0,0,0]
[{"$f":"'Mode Strength'!A754","v":433.60882930012468},0,0,0,0,0,0,0,0,0,0,0,0,0]
[{"$f":"'Mode Strength'!A755","v":435.64962221322673},0,0,0,0,0,0,0,0,0,0,0,0,0]
[{"$f":"'Mode Strength'!A756","v":435.68765842735382},0,0,0,0,0,0,0,0,0,0,0,0,0]
[{"$f":"'Mode Strength'!A757","v":436.09183471659026},0,0,0,0,0,0,0,0,0,0,0,0,0]
[{"$f":"'Mode Strength'!A758","v":436.77437701039526},0,0,0,0,0,0,0,0,0,0,0,0,0]
[{"$f":"'Mode Strength'!A759","v":437.11570293832852},0,0,0,0,0,0,0,0,0,0,0,0,0]
[{"$f":"'Mode Strength'!A760","v":437.5976236597246},0,0,0,0,0,0,0,0,0,0,0,0,0]
[{"$f":"'Mode Strength'!A761","v":438.18916541845954},0,0,0,0,0,0,0,0,0,0,0,0,0]
[{"$f":"'Mode Strength'!A762","v":438.34930321929761},0,0,0,0,0,0,0,0,0,0,0,0,0]
[{"$f":"'Mode Strength'!A763","v":438.39250598618264},0,0,0,0,0,0,0,0,0,0,0,0,0]
[{"$f":"'Mode Strength'!A764","v":438.84573612868763},0,0,0,0,0,0,0,0,0,0,0,0,0]
[{"$f":"'Mode Strength'!A765","v":440.05812308386629},0,0,0,0,0,0,0,0,0,0,0,0,0]
[{"$f":"'Mode Strength'!A766","v":440.08456678846306},0,0,0,0,0,0,0,0,0,0,0,0,0]
[{"$f":"'Mode Strength'!A767","v":440.19905429882215},0,0,0,0,0,0,0,0,0,0,0,0,0]
[{"$f":"'Mode Strength'!A768","v":440.31197408170425},0,0,0,0,0,0,0,0,0,0,0,0,0]
[{"$f":"'Mode Strength'!A769","v":440.73578666833077},0,0,0,0,0,0,0,0,0,0,0,0,0]
[{"$f":"'Mode Strength'!A770","v":440.79676227839605},0,0,0,0,0,0,0,0,0,0,0,0,0]
[{"$f":"'Mode Strength'!A771","v":441.70795549821116},{"$f":"IF((AND($A771>=14.1,$A771<17.8)),1,0)","v":0},{"$f":"IF((AND($A771>=17.8,$A771<22.4)),1,0)","v":0},{"$f":"IF((AND($A771>=22.4,$A771<28.2)),1,0)","v":0},{"$f":"IF((AND($A771>=28.2,$A771<35.5)),1,0)","v":0},{"$f":"IF((AND($A771>=35.5,$A771<44.7)),1,0)","v":0},{"$f":"IF((AND($A771>=44.7,$A771<56.2)),1,0)","v":0},{"$f":"IF((AND($A771>=56.2,$A771<70.8)),1,0)","v":0},{"$f":"IF((AND($A771>=70.8,$A771<89.1)),1,0)","v":0},{"$f":"IF((AND($A771>=89.1,$A771<112)),1,0)","v":0},{"$f":"IF((AND($A771>=112,$A771<141)),1,0)","v":0},{"$f":"IF((AND($A771>=141,$A771<178)),1,0)","v":0},{"$f":"IF((AND($A771>=178,$A771<224)),1,0)","v":0},{"$f":"IF((AND($A771>=224,$A771<282)),1,0)","v":0}]
[{"$f":"'Mode Strength'!A772","v":442.07836838530727},0,0,0,0,0,0,0,0,0,0,0,0,0]
[{"$f":"'Mode Strength'!A773","v":443.02258149319988},0,0,0,0,0,0,0,0,0,0,0,0,0]
[{"$f":"'Mode Strength'!A774","v":444.12866468084519},0,0,0,0,0,0,0,0,0,0,0,0,0]
[{"$f":"'Mode Strength'!A775","v":444.42705786468201},0,0,0,0,0,0,0,0,0,0,0,0,0]
[{"$f":"'Mode Strength'!A776","v":444.68168134511728},0,0,0,0,0,0,0,0,0,0,0,0,0]
[{"$f":"'Mode Strength'!A777","v":445.15880647071987},0,0,0,0,0,0,0,0,0,0,0,0,0]
[{"$f":"'Mode Strength'!A778","v":445.49370850875772},0,0,0,0,0,0,0,0,0,0,0,0,0]
[{"$f":"'Mode Strength'!A779","v":445.88560656777304},0,0,0,0,0,0,0,0,0,0,0,0,0]
[{"$f":"'Mode Strength'!A780","v":445.96657587565335},0,0,0,0,0,0,0,0,0,0,0,0,0]
[{"$f":"'Mode Strength'!A781","v":445.98013704624185},0,0,0,0,0,0,0,0,0,0,0,0,0]
[{"$f":"'Mode Strength'!A782","v":446.78642152554698},0,0,0,0,0,0,0,0,0,0,0,0,0]
[{"$f":"'Mode Strength'!A783","v":447.13287366076764},0,0,0,0,0,0,0,0,0,0,0,0,0]
[{"$f":"'Mode Strength'!A784","v":448.38115287968134},0,0,0,0,0,0,0,0,0,0,0,0,0]
[{"$f":"'Mode Strength'!A785","v":449.19659161558758},0,0,0,0,0,0,0,0,0,0,0,0,0]
[{"$f":"'Mode Strength'!A786","v":449.38100736009949},0,0,0,0,0,0,0,0,0,0,0,0,0]
[{"$f":"'Mode Strength'!A787","v":449.62884212221337},0,0,0,0,0,0,0,0,0,0,0,0,0]
[{"$f":"'Mode Strength'!A788","v":449.76553617404272},0,0,0,0,0,0,0,0,0,0,0,0,0]
[{"$f":"'Mode Strength'!A789","v":450.53895125963459},0,0,0,0,0,0,0,0,0,0,0,0,0]
[{"$f":"'Mode Strength'!A790","v":450.81298137628585},0,0,0,0,0,0,0,0,0,0,0,0,0]
[{"$f":"'Mode Strength'!A791","v":451.87063384436561},0,0,0,0,0,0,0,0,0,0,0,0,0]
[{"$f":"'Mode Strength'!A792","v":452.09193375879653},0,0,0,0,0,0,0,0,0,0,0,0,0]
[{"$f":"'Mode Strength'!A793","v":452.37680903955226},0,0,0,0,0,0,0,0,0,0,0,0,0]
[{"$f":"'Mode Strength'!A794","v":452.5383889261368},0,0,0,0,0,0,0,0,0,0,0,0,0]
[{"$f":"'Mode Strength'!A795","v":453.0920309635589},0,0,0,0,0,0,0,0,0,0,0,0,0]
[{"$f":"'Mode Strength'!A796","v":453.18505824680096},0,0,0,0,0,0,0,0,0,0,0,0,0]
[{"$f":"'Mode Strength'!A797","v":453.76566115969581},0,0,0,0,0,0,0,0,0,0,0,0,0]
[{"$f":"'Mode Strength'!A798","v":453.77464766369837},0,0,0,0,0,0,0,0,0,0,0,0,0]
[{"$f":"'Mode Strength'!A799","v":454.46538985058169},0,0,0,0,0,0,0,0,0,0,0,0,0]
[{"$f":"'Mode Strength'!A800","v":455.08186887808273},0,0,0,0,0,0,0,0,0,0,0,0,0]
[{"$f":"'Mode Strength'!A801","v":456.91077018198632},0,0,0,0,0,0,0,0,0,0,0,0,0]
[{"$f":"'Mode Strength'!A802","v":457.47733972928546},0,0,0,0,0,0,0,0,0,0,0,0,0]
[{"$f":"'Mode Strength'!A803","v":457.91215761927646},0,0,0,0,0,0,0,0,0,0,0,0,0]
[{"$f":"'Mode Strength'!A804","v":458.37503469733605},0,0,0,0,0,0,0,0,0,0,0,0,0]
[{"$f":"'Mode Strength'!A805","v":458.71065363351875},0,0,0,0,0,0,0,0,0,0,0,0,0]
[{"$f":"'Mode Strength'!A806","v":459.15955424405917},0,0,0,0,0,0,0,0,0,0,0,0,0]
[{"$f":"'Mode Strength'!A807","v":459.2865685459941},0,0,0,0,0,0,0,0,0,0,0,0,0]
[{"$f":"'Mode Strength'!A808","v":459.91717224497103},0,0,0,0,0,0,0,0,0,0,0,0,0]
[{"$f":"'Mode Strength'!A809","v":460.06953373003648},0,0,0,0,0,0,0,0,0,0,0,0,0]
[{"$f":"'Mode Strength'!A810","v":460.68775374232791},0,0,0,0,0,0,0,0,0,0,0,0,0]
[{"$f":"'Mode Strength'!A811","v":461.2381674073211},0,0,0,0,0,0,0,0,0,0,0,0,0]
[{"$f":"'Mode Strength'!A812","v":461.46834156632116},0,0,0,0,0,0,0,0,0,0,0,0,0]
[{"$f":"'Mode Strength'!A813","v":461.50511125345116},0,0,0,0,0,0,0,0,0,0,0,0,0]
[{"$f":"'Mode Strength'!A814","v":461.60359731609446},0,0,0,0,0,0,0,0,0,0,0,0,0]
[{"$f":"'Mode Strength'!A815","v":461.74717166507099},0,0,0,0,0,0,0,0,0,0,0,0,0]
[{"$f":"'Mode Strength'!A816","v":462.10905573095715},0,0,0,0,0,0,0,0,0,0,0,0,0]
[{"$f":"'Mode Strength'!A817","v":462.38263902851952},0,0,0,0,0,0,0,0,0,0,0,0,0]
[{"$f":"'Mode Strength'!A818","v":462.410474931127},0,0,0,0,0,0,0,0,0,0,0,0,0]
[{"$f":"'Mode Strength'!A819","v":462.63344180318575},0,0,0,0,0,0,0,0,0,0,0,0,0]
[{"$f":"'Mode Strength'!A820","v":463.80222264175069},0,0,0,0,0,0,0,0,0,0,0,0,0]
[{"$f":"'Mode Strength'!A821","v":463.92063064607913},0,0,0,0,0,0,0,0,0,0,0,0,0]
[{"$f":"'Mode Strength'!A822","v":464.31492626142193},0,0,0,0,0,0,0,0,0,0,0,0,0]
[{"$f":"'Mode Strength'!A823","v":464.71192833241906},0,0,0,0,0,0,0,0,0,0,0,0,0]
[{"$f":"'Mode Strength'!A824","v":464.86596955718841},0,0,0,0,0,0,0,0,0,0,0,0,0]
[{"$f":"'Mode Strength'!A825","v":464.93220847120585},0,0,0,0,0,0,0,0,0,0,0,0,0]
[{"$f":"'Mode Strength'!A826","v":465.38810342783341},0,0,0,0,0,0,0,0,0,0,0,0,0]
[{"$f":"'Mode Strength'!A827","v":465.494912889825},0,0,0,0,0,0,0,0,0,0,0,0,0]
[{"$f":"'Mode Strength'!A828","v":465.6395531654972},0,0,0,0,0,0,0,0,0,0,0,0,0]
[{"$f":"'Mode Strength'!A829","v":465.71866844186275},0,0,0,0,0,0,0,0,0,0,0,0,0]
[{"$f":"'Mode Strength'!A830","v":466.28592775798614},0,0,0,0,0,0,0,0,0,0,0,0,0]
[{"$f":"'Mode Strength'!A831","v":466.79424233687234},0,0,0,0,0,0,0,0,0,0,0,0,0]
[{"$f":"'Mode Strength'!A832","v":467.05490061085993},0,0,0,0,0,0,0,0,0,0,0,0,0]
[{"$f":"'Mode Strength'!A833","v":467.6661424847041},0,0,0,0,0,0,0,0,0,0,0,0,0]
[{"$f":"'Mode Strength'!A834","v":467.9526310767161},0,0,0,0,0,0,0,0,0,0,0,0,0]
[{"$f":"'Mode Strength'!A835","v":468.56834659794384},{"$f":"IF((AND($A835>=14.1,$A835<17.8)),1,0)","v":0},{"$f":"IF((AND($A835>=17.8,$A835<22.4)),1,0)","v":0},{"$f":"IF((AND($A835>=22.4,$A835<28.2)),1,0)","v":0},{"$f":"IF((AND($A835>=28.2,$A835<35.5)),1,0)","v":0},{"$f":"IF((AND($A835>=35.5,$A835<44.7)),1,0)","v":0},{"$f":"IF((AND($A835>=44.7,$A835<56.2)),1,0)","v":0},{"$f":"IF((AND($A835>=56.2,$A835<70.8)),1,0)","v":0},{"$f":"IF((AND($A835>=70.8,$A835<89.1)),1,0)","v":0},{"$f":"IF((AND($A835>=89.1,$A835<112)),1,0)","v":0},{"$f":"IF((AND($A835>=112,$A835<141)),1,0)","v":0},{"$f":"IF((AND($A835>=141,$A835<178)),1,0)","v":0},{"$f":"IF((AND($A835>=178,$A835<224)),1,0)","v":0},{"$f":"IF((AND($A835>=224,$A835<282)),1,0)","v":0}]
[{"$f":"'Mode Strength'!A836","v":469.12991128585082},0,0,0,0,0,0,0,0,0,0,0,0,0]
[{"$f":"'Mode Strength'!A837","v":470.7704892523418},0,0,0,0,0,0,0,0,0,0,0,0,0]
[{"$f":"'Mode Strength'!A838","v":471.50945125532377},0,0,0,0,0,0,0,0,0,0,0,0,0]
[{"$f":"'Mode Strength'!A839","v":471.65806805763367},0,0,0,0,0,0,0,0,0,0,0,0,0]
[{"$f":"'Mode Strength'!A840","v":471.74743418415449},0,0,0,0,0,0,0,0,0,0,0,0,0]
[{"$f":"'Mode Strength'!A841","v":471.77130073621538},0,0,0,0,0,0,0,0,0,0,0,0,0]
[{"$f":"'Mode Strength'!A842","v":471.78256011717576},0,0,0,0,0,0,0,0,0,0,0,0,0]
[{"$f":"'Mode Strength'!A843","v":472.50975172915986},0,0,0,0,0,0,0,0,0,0,0,0,0]
[{"$f":"'Mode Strength'!A844","v":473.0226078796415},0,0,0,0,0,0,0,0,0,0,0,0,0]
[{"$f":"'Mode Strength'!A845","v":473.37091217344852},0,0,0,0,0,0,0,0,0,0,0,0,0]
[{"$f":"'Mode Strength'!A846","v":473.64769257945625},0,0,0,0,0,0,0,0,0,0,0,0,0]
[{"$f":"'Mode Strength'!A847","v":473.91461485405193},0,0,0,0,0,0,0,0,0,0,0,0,0]
[{"$f":"'Mode Strength'!A848","v":474.14337510216421},0,0,0,0,0,0,0,0,0,0,0,0,0]
[{"$f":"'Mode Strength'!A849","v":474.3180915906417},0,0,0,0,0,0,0,0,0,0,0,0,0]
[{"$f":"'Mode Strength'!A850","v":474.78936059963422},0,0,0,0,0,0,0,0,0,0,0,0,0]
[{"$f":"'Mode Strength'!A851","v":475.44003153284632},0,0,0,0,0,0,0,0,0,0,0,0,0]
[{"$f":"'Mode Strength'!A852","v":475.67500082681039},0,0,0,0,0,0,0,0,0,0,0,0,0]
[{"$f":"'Mode Strength'!A853","v":477.09281148373015},0,0,0,0,0,0,0,0,0,0,0,0,0]
[{"$f":"'Mode Strength'!A854","v":477.31054428545161},0,0,0,0,0,0,0,0,0,0,0,0,0]
[{"$f":"'Mode Strength'!A855","v":477.60157865030249},0,0,0,0,0,0,0,0,0,0,0,0,0]
[{"$f":"'Mode Strength'!A856","v":478.47648588225434},0,0,0,0,0,0,0,0,0,0,0,0,0]
[{"$f":"'Mode Strength'!A857","v":478.56457875369853},0,0,0,0,0,0,0,0,0,0,0,0,0]
[{"$f":"'Mode Strength'!A858","v":479.41171061346523},0,0,0,0,0,0,0,0,0,0,0,0,0]
[{"$f":"'Mode Strength'!A859","v":479.72270075094332},0,0,0,0,0,0,0,0,0,0,0,0,0]
[{"$f":"'Mode Strength'!A860","v":479.82163555182547},0,0,0,0,0,0,0,0,0,0,0,0,0]
[{"$f":"'Mode Strength'!A861","v":480.16186030665534},0,0,0,0,0,0,0,0,0,0,0,0,0]
[{"$f":"'Mode Strength'!A862","v":480.70102615933342},0,0,0,0,0,0,0,0,0,0,0,0,0]
[{"$f":"'Mode Strength'!A863","v":481.21619098812226},0,0,0,0,0,0,0,0,0,0,0,0,0]
[{"$f":"'Mode Strength'!A864","v":481.68620206265462},0,0,0,0,0,0,0,0,0,0,0,0,0]
[{"$f":"'Mode Strength'!A865","v":481.96353211517572},0,0,0,0,0,0,0,0,0,0,0,0,0]
[{"$f":"'Mode Strength'!A866","v":481.99572466983011},0,0,0,0,0,0,0,0,0,0,0,0,0]
[{"$f":"'Mode Strength'!A867","v":482.40531045232615},0,0,0,0,0,0,0,0,0,0,0,0,0]
[{"$f":"'Mode Strength'!A868","v":482.43281509176342},0,0,0,0,0,0,0,0,0,0,0,0,0]
[{"$f":"'Mode Strength'!A869","v":483.07920416389987},0,0,0,0,0,0,0,0,0,0,0,0,0]
[{"$f":"'Mode Strength'!A870","v":483.15394042641401},0,0,0,0,0,0,0,0,0,0,0,0,0]
[{"$f":"'Mode Strength'!A871","v":483.80039559351178},0,0,0,0,0,0,0,0,0,0,0,0,0]
[{"$f":"'Mode Strength'!A872","v":483.83464649384285},0,0,0,0,0,0,0,0,0,0,0,0,0]
[{"$f":"'Mode Strength'!A873","v":483.91078703715596},0,0,0,0,0,0,0,0,0,0,0,0,0]
[{"$f":"'Mode Strength'!A874","v":484.19863459988534},0,0,0,0,0,0,0,0,0,0,0,0,0]
[{"$f":"'Mode Strength'!A875","v":484.31205597220162},0,0,0,0,0,0,0,0,0,0,0,0,0]
[{"$f":"'Mode Strength'!A876","v":484.6657534186017},0,0,0,0,0,0,0,0,0,0,0,0,0]
[{"$f":"'Mode Strength'!A877","v":485.82026506442782},0,0,0,0,0,0,0,0,0,0,0,0,0]
[{"$f":"'Mode Strength'!A878","v":486.12138674584213},0,0,0,0,0,0,0,0,0,0,0,0,0]
[{"$f":"'Mode Strength'!A879","v":486.39401890110395},0,0,0,0,0,0,0,0,0,0,0,0,0]
[{"$f":"'Mode Strength'!A880","v":486.66269723622753},0,0,0,0,0,0,0,0,0,0,0,0,0]
[{"$f":"'Mode Strength'!A881","v":486.68039775631098},0,0,0,0,0,0,0,0,0,0,0,0,0]
[{"$f":"'Mode Strength'!A882","v":487.90105231233991},0,0,0,0,0,0,0,0,0,0,0,0,0]
[{"$f":"'Mode Strength'!A883","v":488.00293437810262},0,0,0,0,0,0,0,0,0,0,0,0,0]
[{"$f":"'Mode Strength'!A884","v":488.36462979613526},0,0,0,0,0,0,0,0,0,0,0,0,0]
[{"$f":"'Mode Strength'!A885","v":488.86760842650028},0,0,0,0,0,0,0,0,0,0,0,0,0]
[{"$f":"'Mode Strength'!A886","v":490.45003532960442},0,0,0,0,0,0,0,0,0,0,0,0,0]
[{"$f":"'Mode Strength'!A887","v":491.27667295571263},0,0,0,0,0,0,0,0,0,0,0,0,0]
[{"$f":"'Mode Strength'!A888","v":491.94921197805746},0,0,0,0,0,0,0,0,0,0,0,0,0]
[{"$f":"'Mode Strength'!A889","v":493.0377303880731},0,0,0,0,0,0,0,0,0,0,0,0,0]
[{"$f":"'Mode Strength'!A890","v":493.12322200611891},0,0,0,0,0,0,0,0,0,0,0,0,0]
[{"$f":"'Mode Strength'!A891","v":493.49648263655314},0,0,0,0,0,0,0,0,0,0,0,0,0]
[{"$f":"'Mode Strength'!A892","v":493.85254469478548},0,0,0,0,0,0,0,0,0,0,0,0,0]
[{"$f":"'Mode Strength'!A893","v":494.20146443212514},0,0,0,0,0,0,0,0,0,0,0,0,0]
[{"$f":"'Mode Strength'!A894","v":494.94141785488705},0,0,0,0,0,0,0,0,0,0,0,0,0]
[{"$f":"'Mode Strength'!A895","v":495.35748667494579},0,0,0,0,0,0,0,0,0,0,0,0,0]
[{"$f":"'Mode Strength'!A896","v":495.5830126553484},0,0,0,0,0,0,0,0,0,0,0,0,0]
[{"$f":"'Mode Strength'!A897","v":496.03407883024767},0,0,0,0,0,0,0,0,0,0,0,0,0]
[{"$f":"'Mode Strength'!A898","v":496.20108748156639},0,0,0,0,0,0,0,0,0,0,0,0,0]
[{"$f":"'Mode Strength'!A899","v":497.4983151924103},{"$f":"IF((AND($A899>=14.1,$A899<17.8)),1,0)","v":0},{"$f":"IF((AND($A899>=17.8,$A899<22.4)),1,0)","v":0},{"$f":"IF((AND($A899>=22.4,$A899<28.2)),1,0)","v":0},{"$f":"IF((AND($A899>=28.2,$A899<35.5)),1,0)","v":0},{"$f":"IF((AND($A899>=35.5,$A899<44.7)),1,0)","v":0},{"$f":"IF((AND($A899>=44.7,$A899<56.2)),1,0)","v":0},{"$f":"IF((AND($A899>=56.2,$A899<70.8)),1,0)","v":0},{"$f":"IF((AND($A899>=70.8,$A899<89.1)),1,0)","v":0},{"$f":"IF((AND($A899>=89.1,$A899<112)),1,0)","v":0},{"$f":"IF((AND($A899>=112,$A899<141)),1,0)","v":0},{"$f":"IF((AND($A899>=141,$A899<178)),1,0)","v":0},{"$f":"IF((AND($A899>=178,$A899<224)),1,0)","v":0},{"$f":"IF((AND($A899>=224,$A899<282)),1,0)","v":0}]
[{"$f":"'Mode Strength'!A900","v":497.82645949045929},0,0,0,0,0,0,0,0,0,0,0,0,0]
[{"$f":"'Mode Strength'!A901","v":498.34651421103979},0,0,0,0,0,0,0,0,0,0,0,0,0]
[{"$f":"'Mode Strength'!A902","v":498.45691807098041},0,0,0,0,0,0,0,0,0,0,0,0,0]
[{"$f":"'Mode Strength'!A903","v":499.07673339694418},0,0,0,0,0,0,0,0,0,0,0,0,0]
[{"$f":"'Mode Strength'!A904","v":499.17071658330883},0,0,0,0,0,0,0,0,0,0,0,0,0]
[{"$f":"'Mode Strength'!A905","v":499.5644282418375},0,0,0,0,0,0,0,0,0,0,0,0,0]
[{"$f":"'Mode Strength'!A906","v":499.64880312081976},0,0,0,0,0,0,0,0,0,0,0,0,0]
[{"$f":"'Mode Strength'!A907","v":499.89121628021542},0,0,0,0,0,0,0,0,0,0,0,0,0]
[{"$f":"'Mode Strength'!A908","v":500.01719245744096},0,0,0,0,0,0,0,0,0,0,0,0,0]
[{"$f":"'Mode Strength'!A909","v":501.36986030622126},0,0,0,0,0,0,0,0,0,0,0,0,0]
[{"$f":"'Mode Strength'!A910","v":502.04651136480408},0,0,0,0,0,0,0,0,0,0,0,0,0]
[{"$f":"'Mode Strength'!A911","v":504.66592236726399},0,0,0,0,0,0,0,0,0,0,0,0,0]
[{"$f":"'Mode Strength'!A912","v":505.61825389582782},0,0,0,0,0,0,0,0,0,0,0,0,0]
[{"$f":"'Mode Strength'!A913","v":505.71656665252306},0,0,0,0,0,0,0,0,0,0,0,0,0]
[{"$f":"'Mode Strength'!A914","v":506.13871310363646},0,0,0,0,0,0,0,0,0,0,0,0,0]
[{"$f":"'Mode Strength'!A915","v":506.4307379926513},0,0,0,0,0,0,0,0,0,0,0,0,0]
[{"$f":"'Mode Strength'!A916","v":506.9643740098266},0,0,0,0,0,0,0,0,0,0,0,0,0]
[{"$f":"'Mode Strength'!A917","v":507.1528487991863},0,0,0,0,0,0,0,0,0,0,0,0,0]
[{"$f":"'Mode Strength'!A918","v":507.29686624014386},0,0,0,0,0,0,0,0,0,0,0,0,0]
[{"$f":"'Mode Strength'!A919","v":507.42751204738977},0,0,0,0,0,0,0,0,0,0,0,0,0]
[{"$f":"'Mode Strength'!A920","v":507.75684025965438},0,0,0,0,0,0,0,0,0,0,0,0,0]
[{"$f":"'Mode Strength'!A921","v":507.87326644649397},0,0,0,0,0,0,0,0,0,0,0,0,0]
[{"$f":"'Mode Strength'!A922","v":508.00584082950218},0,0,0,0,0,0,0,0,0,0,0,0,0]
[{"$f":"'Mode Strength'!A923","v":508.23413001939673},0,0,0,0,0,0,0,0,0,0,0,0,0]
[{"$f":"'Mode Strength'!A924","v":509.06444142522895},0,0,0,0,0,0,0,0,0,0,0,0,0]
[{"$f":"'Mode Strength'!A925","v":510.12685263211421},0,0,0,0,0,0,0,0,0,0,0,0,0]
[{"$f":"'Mode Strength'!A926","v":510.5767184384726},0,0,0,0,0,0,0,0,0,0,0,0,0]
[{"$f":"'Mode Strength'!A927","v":511.04413466663823},0,0,0,0,0,0,0,0,0,0,0,0,0]
[{"$f":"'Mode Strength'!A928","v":512.02450539087101},0,0,0,0,0,0,0,0,0,0,0,0,0]
[{"$f":"'Mode Strength'!A929","v":513.64240953745457},0,0,0,0,0,0,0,0,0,0,0,0,0]
[{"$f":"'Mode Strength'!A930","v":514.8853808805062},0,0,0,0,0,0,0,0,0,0,0,0,0]
[{"$f":"'Mode Strength'!A931","v":516.5659586541218},0,0,0,0,0,0,0,0,0,0,0,0,0]
[{"$f":"'Mode Strength'!A932","v":516.88199793547756},0,0,0,0,0,0,0,0,0,0,0,0,0]
[{"$f":"'Mode Strength'!A933","v":517.00383405607306},0,0,0,0,0,0,0,0,0,0,0,0,0]
[{"$f":"'Mode Strength'!A934","v":518.0862880246201},0,0,0,0,0,0,0,0,0,0,0,0,0]
[{"$f":"'Mode Strength'!A935","v":518.28020040105184},0,0,0,0,0,0,0,0,0,0,0,0,0]
[{"$f":"'Mode Strength'!A936","v":518.52414757094562},0,0,0,0,0,0,0,0,0,0,0,0,0]
[{"$f":"'Mode Strength'!A937","v":518.73323548350254},0,0,0,0,0,0,0,0,0,0,0,0,0]
[{"$f":"'Mode Strength'!A938","v":518.89293833323632},0,0,0,0,0,0,0,0,0,0,0,0,0]
[{"$f":"'Mode Strength'!A939","v":520.13357501078269},0,0,0,0,0,0,0,0,0,0,0,0,0]
[{"$f":"'Mode Strength'!A940","v":520.65855329385931},0,0,0,0,0,0,0,0,0,0,0,0,0]
[{"$f":"'Mode Strength'!A941","v":520.94492075506855},0,0,0,0,0,0,0,0,0,0,0,0,0]
[{"$f":"'Mode Strength'!A942","v":521.34935785696871},0,0,0,0,0,0,0,0,0,0,0,0,0]
[{"$f":"'Mode Strength'!A943","v":523.41630123385619},0,0,0,0,0,0,0,0,0,0,0,0,0]
[{"$f":"'Mode Strength'!A944","v":523.5530705814266},0,0,0,0,0,0,0,0,0,0,0,0,0]
[{"$f":"'Mode Strength'!A945","v":523.83785569362055},0,0,0,0,0,0,0,0,0,0,0,0,0]
[{"$f":"'Mode Strength'!A946","v":524.24006097880317},0,0,0,0,0,0,0,0,0,0,0,0,0]
[{"$f":"'Mode Strength'!A947","v":524.48552106591171},0,0,0,0,0,0,0,0,0,0,0,0,0]
[{"$f":"'Mode Strength'!A948","v":524.733938289251},0,0,0,0,0,0,0,0,0,0,0,0,0]
[{"$f":"'Mode Strength'!A949","v":525.26594477631056},0,0,0,0,0,0,0,0,0,0,0,0,0]
[{"$f":"'Mode Strength'!A950","v":526.29565169637931},0,0,0,0,0,0,0,0,0,0,0,0,0]
[{"$f":"'Mode Strength'!A951","v":526.84318681788636},0,0,0,0,0,0,0,0,0,0,0,0,0]
[{"$f":"'Mode Strength'!A952","v":526.91341502901412},0,0,0,0,0,0,0,0,0,0,0,0,0]
[{"$f":"'Mode Strength'!A953","v":527.34269856134893},0,0,0,0,0,0,0,0,0,0,0,0,0]
[{"$f":"'Mode Strength'!A954","v":527.67592256311173},0,0,0,0,0,0,0,0,0,0,0,0,0]
[{"$f":"'Mode Strength'!A955","v":529.70390983417508},0,0,0,0,0,0,0,0,0,0,0,0,0]
[{"$f":"'Mode Strength'!A956","v":529.95412166024221},0,0,0,0,0,0,0,0,0,0,0,0,0]
[{"$f":"'Mode Strength'!A957","v":531.60371540759559},0,0,0,0,0,0,0,0,0,0,0,0,0]
[{"$f":"'Mode Strength'!A958","v":532.22529816850817},0,0,0,0,0,0,0,0,0,0,0,0,0]
[{"$f":"'Mode Strength'!A959","v":533.33176491320023},0,0,0,0,0,0,0,0,0,0,0,0,0]
[{"$f":"'Mode Strength'!A960","v":534.43895706838737},0,0,0,0,0,0,0,0,0,0,0,0,0]
[{"$f":"'Mode Strength'!A961","v":536.78796342566636},0,0,0,0,0,0,0,0,0,0,0,0,0]
[{"$f":"'Mode Strength'!A962","v":537.66246345967988},0,0,0,0,0,0,0,0,0,0,0,0,0]
[{"$f":"'Mode Strength'!A963","v":537.80966572767852},{"$f":"IF((AND($A963>=14.1,$A963<17.8)),1,0)","v":0},{"$f":"IF((AND($A963>=17.8,$A963<22.4)),1,0)","v":0},{"$f":"IF((AND($A963>=22.4,$A963<28.2)),1,0)","v":0},{"$f":"IF((AND($A963>=28.2,$A963<35.5)),1,0)","v":0},{"$f":"IF((AND($A963>=35.5,$A963<44.7)),1,0)","v":0},{"$f":"IF((AND($A963>=44.7,$A963<56.2)),1,0)","v":0},{"$f":"IF((AND($A963>=56.2,$A963<70.8)),1,0)","v":0},{"$f":"IF((AND($A963>=70.8,$A963<89.1)),1,0)","v":0},{"$f":"IF((AND($A963>=89.1,$A963<112)),1,0)","v":0},{"$f":"IF((AND($A963>=112,$A963<141)),1,0)","v":0},{"$f":"IF((AND($A963>=141,$A963<178)),1,0)","v":0},{"$f":"IF((AND($A963>=178,$A963<224)),1,0)","v":0},{"$f":"IF((AND($A963>=224,$A963<282)),1,0)","v":0}]
[{"$f":"'Mode Strength'!A964","v":538.40017818947888},0,0,0,0,0,0,0,0,0,0,0,0,0]
[{"$f":"'Mode Strength'!A965","v":538.82031018038856},0,0,0,0,0,0,0,0,0,0,0,0,0]
[{"$f":"'Mode Strength'!A966","v":540.4659223398985},0,0,0,0,0,0,0,0,0,0,0,0,0]
[{"$f":"'Mode Strength'!A967","v":540.94498580558582},0,0,0,0,0,0,0,0,0,0,0,0,0]
[{"$f":"'Mode Strength'!A968","v":541.70437854627437},0,0,0,0,0,0,0,0,0,0,0,0,0]
[{"$f":"'Mode Strength'!A969","v":542.36837809373105},0,0,0,0,0,0,0,0,0,0,0,0,0]
[{"$f":"'Mode Strength'!A970","v":543.36003603753863},0,0,0,0,0,0,0,0,0,0,0,0,0]
[{"$f":"'Mode Strength'!A971","v":544.35551711678431},0,0,0,0,0,0,0,0,0,0,0,0,0]
[{"$f":"'Mode Strength'!A972","v":544.97613400179409},0,0,0,0,0,0,0,0,0,0,0,0,0]
[{"$f":"'Mode Strength'!A973","v":547.65139287194108},0,0,0,0,0,0,0,0,0,0,0,0,0]
[{"$f":"'Mode Strength'!A974","v":547.74216126634542},0,0,0,0,0,0,0,0,0,0,0,0,0]
[{"$f":"'Mode Strength'!A975","v":549.06852166832664},0,0,0,0,0,0,0,0,0,0,0,0,0]
[{"$f":"'Mode Strength'!A976","v":550.83467117229611},0,0,0,0,0,0,0,0,0,0,0,0,0]
[{"$f":"'Mode Strength'!A977","v":552.23257315492594},0,0,0,0,0,0,0,0,0,0,0,0,0]
[{"$f":"'Mode Strength'!A978","v":553.4949830749955},0,0,0,0,0,0,0,0,0,0,0,0,0]
[{"$f":"'Mode Strength'!A979","v":554.50620708846861},0,0,0,0,0,0,0,0,0,0,0,0,0]
[{"$f":"'Mode Strength'!A980","v":556.21864845254447},0,0,0,0,0,0,0,0,0,0,0,0,0]
[{"$f":"'Mode Strength'!A981","v":558.06740563455458},0,0,0,0,0,0,0,0,0,0,0,0,0]
[{"$f":"'Mode Strength'!A982","v":561.56705615622241},0,0,0,0,0,0,0,0,0,0,0,0,0]
[{"$f":"'Mode Strength'!A983","v":561.83257283857802},0,0,0,0,0,0,0,0,0,0,0,0,0]
[{"$f":"'Mode Strength'!A984","v":562.20759722702519},0,0,0,0,0,0,0,0,0,0,0,0,0]
[{"$f":"'Mode Strength'!A985","v":563.16432201132534},0,0,0,0,0,0,0,0,0,0,0,0,0]
[{"$f":"'Mode Strength'!A986","v":564.12485660467246},0,0,0,0,0,0,0,0,0,0,0,0,0]
[{"$f":"'Mode Strength'!A987","v":565.11705977584177},0,0,0,0,0,0,0,0,0,0,0,0,0]
[{"$f":"'Mode Strength'!A988","v":565.84144615224284},0,0,0,0,0,0,0,0,0,0,0,0,0]
[{"$f":"'Mode Strength'!A989","v":567.30589009663697},0,0,0,0,0,0,0,0,0,0,0,0,0]
[{"$f":"'Mode Strength'!A990","v":571.72960363888023},0,0,0,0,0,0,0,0,0,0,0,0,0]
[{"$f":"'Mode Strength'!A991","v":573.33672558745127},0,0,0,0,0,0,0,0,0,0,0,0,0]
[{"$f":"'Mode Strength'!A992","v":573.92600439725686},0,0,0,0,0,0,0,0,0,0,0,0,0]
[{"$f":"'Mode Strength'!A993","v":576.55316070643983},0,0,0,0,0,0,0,0,0,0,0,0,0]
[{"$f":"'Mode Strength'!A994","v":577.36743418333094},0,0,0,0,0,0,0,0,0,0,0,0,0]
[{"$f":"'Mode Strength'!A995","v":582.67689005539478},0,0,0,0,0,0,0,0,0,0,0,0,0]
[{"$f":"'Mode Strength'!A996","v":584.18423127764481},0,0,0,0,0,0,0,0,0,0,0,0,0]
[{"$f":"'Mode Strength'!A997","v":592.13927899701173},0,0,0,0,0,0,0,0,0,0,0,0,0]
[{"$f":"'Mode Strength'!A998","v":593.08461718506157},0,0,0,0,0,0,0,0,0,0,0,0,0]
[{"$f":"'Mode Strength'!A999","v":601.18739426936349},0,0,0,0,0,0,0,0,0,0,0,0,0]
[{"$f":"'Mode Strength'!A1000","v":611.28004054223095},0,0,0,0,0,0,0,0,0,0,0,0,0]

{"sheet":"Ideal Rooms - METRIC","index":6,"n_rows":433,"n_cols":25,"rows_kept":433,"cut":false,"hidden":false,"merged":[[23,16,23,20],[8,5,8,6],[9,5,9,6],[10,5,10,6],[11,5,11,6],[12,5,12,6],[225,2,225,4],[239,5,240,9],[2,7,2,8],[17,1,18,7],[23,0,23,7],[13,5,13,6],[14,5,14,6],[3,5,3,6],[4,5,4,6],[5,5,5,6],[6,5,6,6],[7,5,7,6],[19,2,21,3],[217,0,218,7],[221,2,222,4]]}
["Ideal Room Dimensions for Low Frequency Mode Response"]
["In the yellow boxes - Enter the room height in meters & the spreadsheet will automatically calculate ideal widths and depths",null,null,null,null,null,null,null,null,null,null,null,null,null,null,null,null,null,null,null,null,null,null,null,2]
[null,"Dimensions","Height","Width","Length",null,null,"PHI - Golden Ratio",null,null,null,null,null,null,null,null,null,null,null,null,null,null,null,null,3]
[null,"A",1,1.1399999999999999,1.39,"L. W. Sepmeyer, 1965",null,{"$f":"((SQRT(5)+1)/2)","v":1.6180339887498949},null,null,null,null,null,null,null,null,null,null,null,null,null,null,null,null,5]
[null,"B",1,1.28,1.54,"L. W. Sepmeyer, 1965",null,null,null,null,null,null,null,null,null,null,null,null,null,null,null,null,null,null,7]
[null,"C",1,1.6,2.33,"L. W. Sepmeyer, 1965",null,null,null,null,null,null,null,null,null,null,null,null,null,null,null,null,null,null,11]
[null,"D",1,1.4,1.9,"M. M. Louden, 1971",null,null,null,null,null,null,null,null,null,null,null,null,null,null,null,null,null,null,13]
[null,"E",1,1.3,1.9,"M. M. Louden, 1971",null,null,null,null,null,null,null,null,null,null,null,null,null,null,null,null,null,null,17]
[null,"F",1,1.5,2.1,"M. M. Louden, 1971",null,null,null,null,null,null,null,null,null,null,null,null,null,null,null,null,null,null,19]
[null,"G",1,1.5,2.5,"Richard H. Bolt, 1946",null,null,null,null,null,null,null,null,null,null,null,null,null,null,null,null,null,null,23]
[null,"H",1,1.26,1.59,"Richard H. Bolt, 1946",null,null,null,null,null,null,null,null,null,null,null,null,null,null,null,null,null,null,29]
[null,"I",1,1.96,2.59,"IEC 60268-13, 1998",null,null,null,null,null,null,null,null,null,null,null,null,null,null,null,null,null,null,31]
[null,"J",1,1.62,2.62,"The Golden Ratio, 1968",null,null,null,null,null,null,null,null,null,null,null,null,null,null,null,null,null,null,37]
[null,"K",1,1.49,2.31,"Dolby Lab Recomendations",null,null,null,null,null,null,"   Sonic Behavior Characteristics",null,null,null,null,null,null,null,null,null,null,null,41]
[null,"L",1,1.07,1.87,"Worst ratio (RPG Inc.)",null,null,null,null,null,null,null,null,null,null,null,null,null,null,null,null,null,null,43]
[null,null,null,null,null,null,null,null,null,null,null,"Wave Region","Transitional region from F² to F³",null,"Ray Region",null,null,null,null,null,null,null,null,null,47]
[null,null,null,null,null,null,null,null,null,null,null,null,null,null,null,null,null,null,null,null,null,null,null,null,53]
[null,"IT IS HIGHLY RECOMMENDED TO ALWAYS USE PRIME NUMBERS",null,null,null,null,null,null,null,null,null,null,null,null,null,null,null,null,null,null,null,null,null,null,59]
[null,null,null,null,null,null,null,null,null,null,null,null,null,null,null,null,null,null,null,null,null,null,null,null,61]
[null,null,"If you found this spreadsheet helpful, please send a donation via PayPal to erika@jhbrandt.net",null,null,null,null,null,null,null,null,null,"cubic meters","Useable YES","Useable NO",null,null,null,null,null,null,null,null,null,67]
[null,null,null,null,null,null,null,null,null,null,"Minimum size",null,"Legend ->",1,0,null,null,null,null,null,null,null,null,null,71]
[null,null,null,null,null,null,null,null,null,null,42,null,null,null,null,null,null,null,null,null,null,null,null,null,73]
[null,null,null,null,null,null,null,null,null,null,null,null,null,null,null,null,null,null,null,null,null,null,null,null,79]
["**Note: you can change the numbers in the yellow blocks and all the other ratios will change too!",null,null,null,null,null,null,null,null,null,"USEABLE?",null,null,null,null,null,"USING PRIMES",null,null,null,null,null,null,null,83]
["HEIGHT m","HEIGHT cm","PRIME height","WIDTH cm","PRIME width","DEPTH cm","PRIME depth","VOLUME","PRIME volume","TABLE","1=Yes 0=NO","F¹","F²","F³","minimum RT60","Floor area","F¹","F²","F³","minimum RT60","Floor area",null,null,null,89]
[2.4,{"$f":"A26*100","v":240},{"$f":"INDEX($Y$2:$Y$276,MATCH(MIN(ABS($Y$2:$Y$276-B26)),ABS($Y$2:$Y$276-B26),0))","v":239},{"$f":"B26*$D$4","v":273.59999999999997},{"$f":"INDEX($Y$2:$Y$276,MATCH(MIN(ABS($Y$2:$Y$276-D26)),ABS($Y$2:$Y$276-D26),0))","v":271},{"$f":"B26*$E$4","v":333.59999999999997},{"$f":"INDEX($Y$2:$Y$276,MATCH(MIN(ABS($Y$2:$Y$276-F26)),ABS($Y$2:$Y$276-F26),0))","v":331},{"$f":"(B26/100)*(D26/100)*(F26/100)","v":21.905510399999997},{"$f":"(C26/100)*(E26/100)*(G26/100)","v":21.438539000000002},"A",{"$f":"IF(H26>$K$22,$N$21,$O$21)","v":0},{"$f":"565/(F26*0.0328083989501312)","v":51.622302158273442},{"$f":"(SQRT(O26/(H26*35.3146667214885))*11250)","v":86.689798444643358},{"$f":"4*M26","v":346.75919377857343},{"$f":"0.25*(((0.028316846592*H26)/100)^(1/3))","v":4.5934546203182013E-2},{"$f":"(D26/100)*(F26/100)","v":9.1272959999999994},{"$f":"565/(G26*0.0328083989501312)","v":52.027794561933597},{"$f":"(SQRT(T26/(I26*35.3146667214885))*11250)","v":87.31470484106265},{"$f":"4*R26","v":349.2588193642506},{"$f":"0.25*(((0.028316846592*I26)/100)^(1/3))","v":4.5605795258066448E-2},{"$f":"(E26/100)*(G26/100)","v":8.9701000000000004},null,null,null,97]
[2.5499999999999998,{"$f":"A27*100","v":254.99999999999997},{"$f":"INDEX($Y$2:$Y$276,MATCH(MIN(ABS($Y$2:$Y$276-B27)),ABS($Y$2:$Y$276-B27),0))","v":257},290.69999999999993,{"$f":"INDEX($Y$2:$Y$276,MATCH(MIN(ABS($Y$2:$Y$276-D27)),ABS($Y$2:$Y$276-D27),0))","v":293},354.44999999999993,{"$f":"INDEX($Y$2:$Y$276,MATCH(MIN(ABS($Y$2:$Y$276-F27)),ABS($Y$2:$Y$276-F27),0))","v":353},{"$f":"(B27/100)*(D27/100)*(F27/100)","v":26.274846824999983},{"$f":"(C27/100)*(E27/100)*(G27/100)","v":26.581253},"A",0,48.585696148963244,81.590398536134927,{"$f":"4*M27","v":326.36159414453971},4.8805455340880877E-2,10.303861499999995,48.785269121813087,81.275684494287574,{"$f":"4*R27","v":325.1027379771503},4.8994438826041299E-2,10.3429,null,null,null,101]
[2.7,270,{"$f":"INDEX($Y$2:$Y$276,MATCH(MIN(ABS($Y$2:$Y$276-B28)),ABS($Y$2:$Y$276-B28),0))","v":269},307.79999999999995,{"$f":"INDEX($Y$2:$Y$276,MATCH(MIN(ABS($Y$2:$Y$276-D28)),ABS($Y$2:$Y$276-D28),0))","v":307},375.29999999999995,{"$f":"INDEX($Y$2:$Y$276,MATCH(MIN(ABS($Y$2:$Y$276-F28)),ABS($Y$2:$Y$276-F28),0))","v":373},31.189681799999995,30.803459,"A",0,45.886490807354171,77.057598617460755,308.23039446984302,5.1676364478579755E-2,11.551733999999996,46.169436997319082,77.378318822215888,309.51327528886355,5.1462174580830106E-2,11.451099999999999,null,null,null,103]
[2.85,285,{"$f":"INDEX($Y$2:$Y$276,MATCH(MIN(ABS($Y$2:$Y$276-B29)),ABS($Y$2:$Y$276-B29),0))","v":283},324.89999999999998,{"$f":"INDEX($Y$2:$Y$276,MATCH(MIN(ABS($Y$2:$Y$276-D29)),ABS($Y$2:$Y$276-D29),0))","v":331},396.15,{"$f":"INDEX($Y$2:$Y$276,MATCH(MIN(ABS($Y$2:$Y$276-F29)),ABS($Y$2:$Y$276-F29),0))","v":397},36.682103474999991,37.188181,"A",0,43.471412343809213,73.001935532331245,292.00774212932498,5.4547273616278633E-2,12.870913499999997,43.378337531486196,72.669271549326893,290.67708619730757,5.4796979068340336E-2,13.140700000000001,null,null,null,107]
[3,300,{"$f":"INDEX($Y$2:$Y$276,MATCH(MIN(ABS($Y$2:$Y$276-B30)),ABS($Y$2:$Y$276-B30),0))","v":293},341.99999999999994,{"$f":"INDEX($Y$2:$Y$276,MATCH(MIN(ABS($Y$2:$Y$276-D30)),ABS($Y$2:$Y$276-D30),0))","v":337},416.99999999999994,{"$f":"INDEX($Y$2:$Y$276,MATCH(MIN(ABS($Y$2:$Y$276-F30)),ABS($Y$2:$Y$276-F30),0))","v":419},42.784199999999984,41.372479000000006,"A",1,41.297841726618756,69.351838755714681,277.40735502285872,5.7418182753977497E-2,14.261399999999995,41.100715990453509,70.131846038337599,280.5273841533504,5.6779576995923002E-2,14.120300000000002,null,null,null,109]
[3.2,320,{"$f":"INDEX($Y$2:$Y$276,MATCH(MIN(ABS($Y$2:$Y$276-B31)),ABS($Y$2:$Y$276-B31),0))","v":317},364.79999999999995,{"$f":"INDEX($Y$2:$Y$276,MATCH(MIN(ABS($Y$2:$Y$276-D31)),ABS($Y$2:$Y$276-D31),0))","v":367},444.79999999999995,{"$f":"INDEX($Y$2:$Y$276,MATCH(MIN(ABS($Y$2:$Y$276-F31)),ABS($Y$2:$Y$276-F31),0))","v":443},51.924172799999994,51.53817699999999,"A",1,38.716726618705081,65.017348833482515,260.06939533393006,6.1246061604242674E-2,16.226303999999995,38.874040632054218,65.179261361937876,260.7170454477515,6.1093919581073526E-2,16.258099999999999,null,null,null,113]
[3.3,330,{"$f":"INDEX($Y$2:$Y$276,MATCH(MIN(ABS($Y$2:$Y$276-B32)),ABS($Y$2:$Y$276-B32),0))","v":331},376.2,{"$f":"INDEX($Y$2:$Y$276,MATCH(MIN(ABS($Y$2:$Y$276-D32)),ABS($Y$2:$Y$276-D32),0))","v":379},458.7,{"$f":"INDEX($Y$2:$Y$276,MATCH(MIN(ABS($Y$2:$Y$276-F32)),ABS($Y$2:$Y$276-F32),0))","v":457},56.945770199999998,57.330193000000001,"A",1,37.543492478744319,63.047126141558806,252.18850456623522,6.316000102937526E-2,17.256294,37.683150984682754,62.905890917394807,251.62356366957923,6.3301806777191397E-2,17.3203,null,null,null,127]
[3.4,340,{"$f":"INDEX($Y$2:$Y$276,MATCH(MIN(ABS($Y$2:$Y$276-B33)),ABS($Y$2:$Y$276-B33),0))","v":337},387.59999999999997,{"$f":"INDEX($Y$2:$Y$276,MATCH(MIN(ABS($Y$2:$Y$276-D33)),ABS($Y$2:$Y$276-D33),0))","v":389},472.59999999999997,{"$f":"INDEX($Y$2:$Y$276,MATCH(MIN(ABS($Y$2:$Y$276-F33)),ABS($Y$2:$Y$276-F33),0))","v":467},62.28111839999999,61.220431000000005,"A",1,36.439272111722424,61.192798902101195,244.77119560840478,6.5073940454507845E-2,18.317975999999998,36.876231263383339,61.544180222854024,246.1767208914161,6.4702406264586107E-2,18.1663,null,null,null,131]
[3.6,360,{"$f":"INDEX($Y$2:$Y$276,MATCH(MIN(ABS($Y$2:$Y$276-B34)),ABS($Y$2:$Y$276-B34),0))","v":359},410.4,{"$f":"INDEX($Y$2:$Y$276,MATCH(MIN(ABS($Y$2:$Y$276-D34)),ABS($Y$2:$Y$276-D34),0))","v":409},500.4,{"$f":"INDEX($Y$2:$Y$276,MATCH(MIN(ABS($Y$2:$Y$276-F34)),ABS($Y$2:$Y$276-F34),0))","v":499},73.931097599999987,73.268669000000003,"A",1,34.414868105515623,57.79319896309557,231.17279585238228,6.8901819304773002E-2,20.536415999999999,34.51142284569142,57.966847847780294,231.86739139112117,6.8695412979101464E-2,20.409099999999999,null,null,null,137]
[3.75,375,{"$f":"INDEX($Y$2:$Y$276,MATCH(MIN(ABS($Y$2:$Y$276-B35)),ABS($Y$2:$Y$276-B35),0))","v":373},427.49999999999994,{"$f":"INDEX($Y$2:$Y$276,MATCH(MIN(ABS($Y$2:$Y$276-D35)),ABS($Y$2:$Y$276-D35),0))","v":431},521.25,{"$f":"INDEX($Y$2:$Y$276,MATCH(MIN(ABS($Y$2:$Y$276-F35)),ABS($Y$2:$Y$276-F35),0))","v":521},83.56289062499998,83.757522999999992,"A",1,33.038273381294999,55.481471004571752,221.92588401828701,7.1772728442471886E-2,22.283437499999998,33.054126679462605,55.438462467290726,221.75384986916291,7.1828408920060885E-2,22.455099999999998,null,null,null,139]
[3.9,390,{"$f":"INDEX($Y$2:$Y$276,MATCH(MIN(ABS($Y$2:$Y$276-B36)),ABS($Y$2:$Y$276-B36),0))","v":389},444.59999999999997,{"$f":"INDEX($Y$2:$Y$276,MATCH(MIN(ABS($Y$2:$Y$276-D36)),ABS($Y$2:$Y$276-D36),0))","v":443},542.09999999999991,{"$f":"INDEX($Y$2:$Y$276,MATCH(MIN(ABS($Y$2:$Y$276-F36)),ABS($Y$2:$Y$276-F36),0))","v":541},93.996887399999977,93.228906999999992,"A",1,31.767570558937503,53.347568273626671,213.39027309450668,7.4643637580170744E-2,24.101765999999994,31.832162661737556,53.493652796894899,213.9746111875796,7.443979507473733E-2,23.9663,null,null,null,149]
[4.05,405,{"$f":"INDEX($Y$2:$Y$276,MATCH(MIN(ABS($Y$2:$Y$276-B37)),ABS($Y$2:$Y$276-B37),0))","v":401},461.7,{"$f":"INDEX($Y$2:$Y$276,MATCH(MIN(ABS($Y$2:$Y$276-D37)),ABS($Y$2:$Y$276-D37),0))","v":461},562.94999999999993,{"$f":"INDEX($Y$2:$Y$276,MATCH(MIN(ABS($Y$2:$Y$276-F37)),ABS($Y$2:$Y$276-F37),0))","v":563},{"$f":"(B37/100)*(D37/100)*(F37/100)","v":105.26517607499999},104.07674299999999,"A",1,30.590993871569445,51.371732411640501,205.486929646562,7.7514546717869642E-2,25.991401499999995,30.588277087033777,51.566527608649885,206.26611043459954,7.7221731550759815E-2,25.9543,null,null,null,151]
[4.2,420,{"$f":"INDEX($Y$2:$Y$276,MATCH(MIN(ABS($Y$2:$Y$276-B38)),ABS($Y$2:$Y$276-B38),0))","v":419},478.79999999999995,{"$f":"INDEX($Y$2:$Y$276,MATCH(MIN(ABS($Y$2:$Y$276-D38)),ABS($Y$2:$Y$276-D38),0))","v":479},583.79999999999995,{"$f":"INDEX($Y$2:$Y$276,MATCH(MIN(ABS($Y$2:$Y$276-F38)),ABS($Y$2:$Y$276-F38),0))","v":587},{"$f":"(B38/100)*(D38/100)*(F38/100)","v":117.39984479999997},117.81148700000003,"A",1,29.49845837615625,49.537027682653346,198.14811073061338,8.0385455855568513E-2,27.952343999999993,29.337649063032398,49.479264987253814,197.91705994901525,8.0479298813873043E-2,28.1173,null,null,null,157]
[4.3499999999999996,434.99999999999994,{"$f":"INDEX($Y$2:$Y$276,MATCH(MIN(ABS($Y$2:$Y$276-B39)),ABS($Y$2:$Y$276-B39),0))","v":433},495.89999999999992,{"$f":"INDEX($Y$2:$Y$276,MATCH(MIN(ABS($Y$2:$Y$276-D39)),ABS($Y$2:$Y$276-D39),0))","v":499},604.64999999999986,{"$f":"INDEX($Y$2:$Y$276,MATCH(MIN(ABS($Y$2:$Y$276-F39)),ABS($Y$2:$Y$276-F39),0))","v":607},{"$f":"(B39/100)*(D39/100)*(F39/100)","v":130.43298172499996},131.152669,"A",1,28.481270156288801,47.828854314285984,191.31541725714393,8.3256364993267371E-2,29.984593499999988,28.3710049423394,47.741208436028003,190.96483374411201,8.3409211506153214E-2,30.289300000000004,null,null,null,163]
[4.5,450,{"$f":"INDEX($Y$2:$Y$276,MATCH(MIN(ABS($Y$2:$Y$276-B40)),ABS($Y$2:$Y$276-B40),0))","v":449},513,{"$f":"INDEX($Y$2:$Y$276,MATCH(MIN(ABS($Y$2:$Y$276-D40)),ABS($Y$2:$Y$276-D40),0))","v":509},625.5,{"$f":"INDEX($Y$2:$Y$276,MATCH(MIN(ABS($Y$2:$Y$276-F40)),ABS($Y$2:$Y$276-F40),0))","v":631},{"$f":"(B40/100)*(D40/100)*(F40/100)","v":144.39667500000002},144.20937099999998,"A",1,27.531894484412501,46.234559170476444,184.93823668190578,8.6127274130966269E-2,32.088149999999999,27.291917591125227,46.2545675126281,185.0182700505124,8.6090018048765704E-2,32.117899999999999,null,null,null,167]
["HEIGHT m","HEIGHT cm","PRIME height","WIDTH cm","PRIME width","DEPTH cm","PRIME depth","VOLUME","PRIME volume","TABLE","1=Yes 0=NO","F¹","F²","F³","minimum RT60","Floor area","F¹","F²","F³","minimum RT60","Floor area",null,null,null,173]
[{"$f":"A26","v":2.4},240,{"$f":"INDEX($Y$2:$Y$276,MATCH(MIN(ABS($Y$2:$Y$276-B42)),ABS($Y$2:$Y$276-B42),0))","v":239},{"$f":"B42*$D$5","v":307.2},{"$f":"INDEX($Y$2:$Y$276,MATCH(MIN(ABS($Y$2:$Y$276-D42)),ABS($Y$2:$Y$276-D42),0))","v":307},{"$f":"B42*$E$5","v":369.6},{"$f":"INDEX($Y$2:$Y$276,MATCH(MIN(ABS($Y$2:$Y$276-F42)),ABS($Y$2:$Y$276-F42),0))","v":367},27.249868800000002,{"$f":"(C42/100)*(E42/100)*(G42/100)","v":26.927890999999999},"B",{"$f":"IF(H42>$K$22,$N$21,$O$21)","v":0},{"$f":"565/(F42*0.0328083989501312)","v":46.594155844155893},{"$f":"(SQRT(O42/(H42*35.3146667214885))*11250)","v":80.605432683516241},322.42173073406497,{"$f":"0.25*(((0.028316846592*H42)/100)^(1/3))","v":4.9401838305798654E-2},{"$f":"(D42/100)*(F42/100)","v":11.354112000000001},{"$f":"565/(G42*0.0328083989501312)","v":46.924250681198963},{"$f":"(SQRT(T42/(I42*35.3146667214885))*11250)","v":80.925428044748529},{"$f":"4*R42","v":323.70171217899411},{"$f":"0.25*(((0.028316846592*I42)/100)^(1/3))","v":4.9206493536223098E-2},{"$f":"(E42/100)*(G42/100)","v":11.2669},null,null,null,179]
[2.5499999999999998,254.99999999999997,{"$f":"INDEX($Y$2:$Y$276,MATCH(MIN(ABS($Y$2:$Y$276-B43)),ABS($Y$2:$Y$276-B43),0))","v":257},326.39999999999998,{"$f":"INDEX($Y$2:$Y$276,MATCH(MIN(ABS($Y$2:$Y$276-D43)),ABS($Y$2:$Y$276-D43),0))","v":331},392.7,{"$f":"INDEX($Y$2:$Y$276,MATCH(MIN(ABS($Y$2:$Y$276-F43)),ABS($Y$2:$Y$276-F43),0))","v":389},32.685206399999991,33.091063000000005,"B",0,43.853323147440847,75.863936643309401,303.4557465732376,5.2489453199911051E-2,12.817727999999999,44.270437017994908,75.5525069196121,{"$f":"4*R43","v":302.2100276784484},5.2705816317080198E-2,12.875900000000001,null,null,null,181]
[2.7,270,{"$f":"INDEX($Y$2:$Y$276,MATCH(MIN(ABS($Y$2:$Y$276-B44)),ABS($Y$2:$Y$276-B44),0))","v":269},345.6,{"$f":"INDEX($Y$2:$Y$276,MATCH(MIN(ABS($Y$2:$Y$276-D44)),ABS($Y$2:$Y$276-D44),0))","v":347},415.8,{"$f":"INDEX($Y$2:$Y$276,MATCH(MIN(ABS($Y$2:$Y$276-F44)),ABS($Y$2:$Y$276-F44),0))","v":419},38.799129600000008,39.110717000000008,"B",0,41.417027417027462,71.649273496458861,286.59709398583544,5.557706809402347E-2,14.370048000000002,41.100715990453509,71.458494065769884,285.83397626307953,5.5725447395168298E-2,14.539300000000003,null,null,null,191]
[2.85,285,{"$f":"INDEX($Y$2:$Y$276,MATCH(MIN(ABS($Y$2:$Y$276-B45)),ABS($Y$2:$Y$276-B45),0))","v":283},364.8,{"$f":"INDEX($Y$2:$Y$276,MATCH(MIN(ABS($Y$2:$Y$276-D45)),ABS($Y$2:$Y$276-D45),0))","v":367},438.90000000000003,{"$f":"INDEX($Y$2:$Y$276,MATCH(MIN(ABS($Y$2:$Y$276-F45)),ABS($Y$2:$Y$276-F45),0))","v":439},45.631555200000008,45.594979000000002,"B",1,39.237183868762855,67.878259101908398,271.51303640763359,5.8664682988135895E-2,16.011072000000002,39.228246013667466,67.896404851365233,271.58561940546093,5.8649004475528378E-2,16.1113,null,null,null,193]
[3,300,{"$f":"INDEX($Y$2:$Y$276,MATCH(MIN(ABS($Y$2:$Y$276-B46)),ABS($Y$2:$Y$276-B46),0))","v":293},384,{"$f":"INDEX($Y$2:$Y$276,MATCH(MIN(ABS($Y$2:$Y$276-D46)),ABS($Y$2:$Y$276-D46),0))","v":383},462,{"$f":"INDEX($Y$2:$Y$276,MATCH(MIN(ABS($Y$2:$Y$276-F46)),ABS($Y$2:$Y$276-F46),0))","v":461},53.2224,51.732959000000008,"B",1,37.275324675324718,64.484346146812982,257.93738458725193,6.1752297882248314E-2,17.7408,37.356182212581388,65.097355395128943,260.38942158051577,6.1170788395775152E-2,17.656300000000002,null,null,null,197]
[3.2,320,{"$f":"INDEX($Y$2:$Y$276,MATCH(MIN(ABS($Y$2:$Y$276-B47)),ABS($Y$2:$Y$276-B47),0))","v":317},409.6,{"$f":"INDEX($Y$2:$Y$276,MATCH(MIN(ABS($Y$2:$Y$276-D47)),ABS($Y$2:$Y$276-D47),0))","v":409},492.8,{"$f":"INDEX($Y$2:$Y$276,MATCH(MIN(ABS($Y$2:$Y$276-F47)),ABS($Y$2:$Y$276-F47),0))","v":491},64.592281600000007,63.659622999999996,"B",1,34.945616883116919,60.45407451263717,241.81629805054868,6.5869117741064867E-2,20.185088,35.073727087576415,60.74787603070174,242.99150412280696,6.555054780824747E-2,20.081900000000001,null,null,null,199]
[3.3,330,{"$f":"INDEX($Y$2:$Y$276,MATCH(MIN(ABS($Y$2:$Y$276-B48)),ABS($Y$2:$Y$276-B48),0))","v":331},422.40000000000003,{"$f":"INDEX($Y$2:$Y$276,MATCH(MIN(ABS($Y$2:$Y$276-D48)),ABS($Y$2:$Y$276-D48),0))","v":421},508.2,{"$f":"INDEX($Y$2:$Y$276,MATCH(MIN(ABS($Y$2:$Y$276-F48)),ABS($Y$2:$Y$276-F48),0))","v":509},70.839014399999996,70.929659000000001,"B",1,33.886658795749739,58.622132860739072,234.48853144295629,6.7927527670473137E-2,21.466367999999999,33.833398821218111,58.597150152281195,234.38860060912478,6.7956488355688127E-2,21.428899999999999,null,null,null,211]
[3.4,340,{"$f":"INDEX($Y$2:$Y$276,MATCH(MIN(ABS($Y$2:$Y$276-B49)),ABS($Y$2:$Y$276-B49),0))","v":337},435.2,{"$f":"INDEX($Y$2:$Y$276,MATCH(MIN(ABS($Y$2:$Y$276-D49)),ABS($Y$2:$Y$276-D49),0))","v":433},523.6,{"$f":"INDEX($Y$2:$Y$276,MATCH(MIN(ABS($Y$2:$Y$276-F49)),ABS($Y$2:$Y$276-F49),0))","v":523},77.476044800000011,76.316683000000012,"B",1,32.889992360580635,56.89795248248204,227.59180992992816,6.9985937599881407E-2,22.787072000000006,32.927724665392006,57.18462666038571,228.73850664154284,6.9635088738955617E-2,22.645900000000001,null,null,null,223]
[3.6,360,{"$f":"INDEX($Y$2:$Y$276,MATCH(MIN(ABS($Y$2:$Y$276-B50)),ABS($Y$2:$Y$276-B50),0))","v":359},460.8,{"$f":"INDEX($Y$2:$Y$276,MATCH(MIN(ABS($Y$2:$Y$276-D50)),ABS($Y$2:$Y$276-D50),0))","v":461},554.4,{"$f":"INDEX($Y$2:$Y$276,MATCH(MIN(ABS($Y$2:$Y$276-F50)),ABS($Y$2:$Y$276-F50),0))","v":557},91.968307200000012,92.182943000000009,"B",1,31.062770562770599,53.736955122344149,214.9478204893766,7.410275745869796E-2,25.546752000000001,30.917773788150843,53.695216245010755,214.78086498004302,7.4160359720499489E-2,25.677700000000002,null,null,null,227]
[3.75,375,{"$f":"INDEX($Y$2:$Y$276,MATCH(MIN(ABS($Y$2:$Y$276-B51)),ABS($Y$2:$Y$276-B51),0))","v":373},480,{"$f":"INDEX($Y$2:$Y$276,MATCH(MIN(ABS($Y$2:$Y$276-D51)),ABS($Y$2:$Y$276-D51),0))","v":479},577.5,{"$f":"INDEX($Y$2:$Y$276,MATCH(MIN(ABS($Y$2:$Y$276-F51)),ABS($Y$2:$Y$276-F51),0))","v":577},103.95,103.09085899999999,"B",1,29.820259740259772,51.587476917450388,206.34990766980155,7.7190372352810385E-2,27.720000000000002,29.846100519930708,51.730387624017823,206.92155049607129,7.6977125726217899E-2,27.638299999999997,null,null,null,229]
[3.9,390,{"$f":"INDEX($Y$2:$Y$276,MATCH(MIN(ABS($Y$2:$Y$276-B52)),ABS($Y$2:$Y$276-B52),0))","v":389},499.2,{"$f":"INDEX($Y$2:$Y$276,MATCH(MIN(ABS($Y$2:$Y$276-D52)),ABS($Y$2:$Y$276-D52),0))","v":499},600.6,{"$f":"INDEX($Y$2:$Y$276,MATCH(MIN(ABS($Y$2:$Y$276-F52)),ABS($Y$2:$Y$276-F52),0))","v":601},116.92961279999999,116.66071100000001,"B",1,28.673326673326706,49.60334318985614,198.41337275942456,8.0277987246922783E-2,29.981952,28.654242928452611,49.641425685505915,198.56570274202366,8.0216401866207279E-2,29.989899999999999,null,null,null,233]
[4.05,405,{"$f":"INDEX($Y$2:$Y$276,MATCH(MIN(ABS($Y$2:$Y$276-B53)),ABS($Y$2:$Y$276-B53),0))","v":401},518.4,{"$f":"INDEX($Y$2:$Y$276,MATCH(MIN(ABS($Y$2:$Y$276-D53)),ABS($Y$2:$Y$276-D53),0))","v":521},623.70000000000005,{"$f":"INDEX($Y$2:$Y$276,MATCH(MIN(ABS($Y$2:$Y$276-F53)),ABS($Y$2:$Y$276-F53),0))","v":619},130.94706239999999,129.32209900000001,"B",1,27.611351611351637,47.766182330972583,191.06472932389033,8.3365602141035208E-2,32.332608,27.821001615508912,47.965414717030953,191.86165886812381,8.3019329145633494E-2,32.249900000000004,null,null,null,239]
[4.2,420,{"$f":"INDEX($Y$2:$Y$276,MATCH(MIN(ABS($Y$2:$Y$276-B54)),ABS($Y$2:$Y$276-B54),0))","v":419},537.6,{"$f":"INDEX($Y$2:$Y$276,MATCH(MIN(ABS($Y$2:$Y$276-D54)),ABS($Y$2:$Y$276-D54),0))","v":541},646.80000000000007,{"$f":"INDEX($Y$2:$Y$276,MATCH(MIN(ABS($Y$2:$Y$276-F54)),ABS($Y$2:$Y$276-F54),0))","v":647},146.04226560000004,146.66131300000001,"B",1,26.625231910946223,46.060247247723552,184.24098899089421,8.645321703514762E-2,34.771968000000008,26.617001545595084,45.995350132342004,183.98140052936802,8.6575198156823921E-2,35.002699999999997,null,null,null,241]
[4.3499999999999996,434.99999999999994,{"$f":"INDEX($Y$2:$Y$276,MATCH(MIN(ABS($Y$2:$Y$276-B55)),ABS($Y$2:$Y$276-B55),0))","v":433},556.79999999999995,{"$f":"INDEX($Y$2:$Y$276,MATCH(MIN(ABS($Y$2:$Y$276-D55)),ABS($Y$2:$Y$276-D55),0))","v":557},669.9,{"$f":"INDEX($Y$2:$Y$276,MATCH(MIN(ABS($Y$2:$Y$276-F55)),ABS($Y$2:$Y$276-F55),0))","v":673},162.25513919999997,162.31481300000002,"B",1,25.707120465741184,44.471962859871027,177.88785143948411,8.9540831929260031E-2,37.300031999999995,25.588707280832125,44.46651226615036,177.86604906460144,8.9551807620210006E-2,37.486100000000008,null,null,null,251]
[4.5,450,{"$f":"INDEX($Y$2:$Y$276,MATCH(MIN(ABS($Y$2:$Y$276-B56)),ABS($Y$2:$Y$276-B56),0))","v":449},576,{"$f":"INDEX($Y$2:$Y$276,MATCH(MIN(ABS($Y$2:$Y$276-D56)),ABS($Y$2:$Y$276-D56),0))","v":577},693,{"$f":"INDEX($Y$2:$Y$276,MATCH(MIN(ABS($Y$2:$Y$276-F56)),ABS($Y$2:$Y$276-F56),0))","v":691},179.62559999999999,179.019443,"B",1,24.850216450216479,42.989564097875324,171.95825639150129,9.2628446823372443E-2,39.916799999999995,24.92214182344431,43.038030098422631,172.15212039369052,9.2524136046504377E-2,39.870699999999999,null,null,null,257]
["HEIGHT m","HEIGHT cm","PRIME height","WIDTH cm","PRIME width","DEPTH cm","PRIME depth","VOLUME","PRIME volume","TABLE","1=Yes 0=NO","F¹","F²","F³","minimum RT60","Floor area","F¹","F²","F³","minimum RT60","Floor area",null,null,null,263]
[{"$f":"A42","v":2.4},240,{"$f":"INDEX($Y$2:$Y$276,MATCH(MIN(ABS($Y$2:$Y$276-B58)),ABS($Y$2:$Y$276-B58),0))","v":239},{"$f":"B58*$D$6","v":384},{"$f":"INDEX($Y$2:$Y$276,MATCH(MIN(ABS($Y$2:$Y$276-D58)),ABS($Y$2:$Y$276-D58),0))","v":383},{"$f":"B58*$E$6","v":559.20000000000005},{"$f":"INDEX($Y$2:$Y$276,MATCH(MIN(ABS($Y$2:$Y$276-F58)),ABS($Y$2:$Y$276-F58),0))","v":557},51.535871999999998,{"$f":"(C58/100)*(E58/100)*(G58/100)","v":50.986109000000006},"C",{"$f":"IF(H58>$K$22,$N$21,$O$21)","v":1},{"$f":"565/(F58*0.0328083989501312)","v":30.796137339055825},{"$f":"(SQRT(O58/(H58*35.3146667214885))*11250)","v":65.180233086109837},260.72093234443935,{"$f":"0.25*(((0.028316846592*H58)/100)^(1/3))","v":6.1093008776745179E-2},{"$f":"(D58/100)*(F58/100)","v":21.473280000000003},{"$f":"565/(G58*0.0328083989501312)","v":30.917773788150843},{"$f":"(SQRT(T58/(I58*35.3146667214885))*11250)","v":65.413666948385398},{"$f":"4*R58","v":261.65466779354159},{"$f":"0.25*(((0.028316846592*I58)/100)^(1/3))","v":6.0874993526078336E-2},{"$f":"(E58/100)*(G58/100)","v":21.333100000000002},null,null,null,269]
[2.5499999999999998,254.99999999999997,{"$f":"INDEX($Y$2:$Y$276,MATCH(MIN(ABS($Y$2:$Y$276-B59)),ABS($Y$2:$Y$276-B59),0))","v":257},408,{"$f":"INDEX($Y$2:$Y$276,MATCH(MIN(ABS($Y$2:$Y$276-D59)),ABS($Y$2:$Y$276-D59),0))","v":409},594.15,{"$f":"INDEX($Y$2:$Y$276,MATCH(MIN(ABS($Y$2:$Y$276-F59)),ABS($Y$2:$Y$276-F59),0))","v":593},61.815365999999997,62.332008999999985,"C",1,28.984599848523136,61.346101728103378,245.38440691241351,6.4911321825291746E-2,24.241319999999998,29.040809443507619,61.176140868275617,{"$f":"4*R59","v":244.70456347310247},6.5091659844548941E-2,24.253699999999998,null,null,null,271]
[2.7,270,{"$f":"INDEX($Y$2:$Y$276,MATCH(MIN(ABS($Y$2:$Y$276-B60)),ABS($Y$2:$Y$276-B60),0))","v":269},432,{"$f":"INDEX($Y$2:$Y$276,MATCH(MIN(ABS($Y$2:$Y$276-D60)),ABS($Y$2:$Y$276-D60),0))","v":431},629.1,{"$f":"INDEX($Y$2:$Y$276,MATCH(MIN(ABS($Y$2:$Y$276-F60)),ABS($Y$2:$Y$276-F60),0))","v":631},73.378224000000017,73.157508999999976,"C",1,27.374344301382955,57.937984965430957,231.75193986172383,6.8729634873838333E-2,27.177120000000002,27.291917591125227,57.996192449810529,231.98476979924212,6.8660654842920041E-2,27.196099999999994,null,null,null,277]
[2.85,285,{"$f":"INDEX($Y$2:$Y$276,MATCH(MIN(ABS($Y$2:$Y$276-B61)),ABS($Y$2:$Y$276-B61),0))","v":283},456,{"$f":"INDEX($Y$2:$Y$276,MATCH(MIN(ABS($Y$2:$Y$276-D61)),ABS($Y$2:$Y$276-D61),0))","v":457},664.05000000000007,{"$f":"INDEX($Y$2:$Y$276,MATCH(MIN(ABS($Y$2:$Y$276-F61)),ABS($Y$2:$Y$276-F61),0))","v":661},86.299937999999997,85.487791000000016,"C",1,25.933589338152274,54.888617335671441,219.55446934268576,7.2547947922384906E-2,30.28068,26.053252647503811,55.061886528095833,220.24754611238333,7.2319653449725602E-2,30.207700000000003,null,null,null,281]
[3,300,{"$f":"INDEX($Y$2:$Y$276,MATCH(MIN(ABS($Y$2:$Y$276-B62)),ABS($Y$2:$Y$276-B62),0))","v":293},480,{"$f":"INDEX($Y$2:$Y$276,MATCH(MIN(ABS($Y$2:$Y$276-D62)),ABS($Y$2:$Y$276-D62),0))","v":479},699,{"$f":"INDEX($Y$2:$Y$276,MATCH(MIN(ABS($Y$2:$Y$276-F62)),ABS($Y$2:$Y$276-F62),0))","v":701},100.65599999999999,98.383246999999997,"C",1,24.636909871244661,52.144186468887881,208.57674587555152,7.6366260970931493E-2,33.552,24.566619115549241,52.542661550034715,210.17064620013886,7.5787111549498104E-2,33.5779,null,null,null,283]
[3.2,320,{"$f":"INDEX($Y$2:$Y$276,MATCH(MIN(ABS($Y$2:$Y$276-B63)),ABS($Y$2:$Y$276-B63),0))","v":317},512,{"$f":"INDEX($Y$2:$Y$276,MATCH(MIN(ABS($Y$2:$Y$276-D63)),ABS($Y$2:$Y$276-D63),0))","v":509},745.6,{"$f":"INDEX($Y$2:$Y$276,MATCH(MIN(ABS($Y$2:$Y$276-F63)),ABS($Y$2:$Y$276-F63),0))","v":743},122.15910400000001,119.885279,"C",1,23.097103004291871,48.885174814582385,195.54069925832954,8.1457345035660253E-2,38.174720000000001,23.177927321668935,49.192304238230172,196.76921695292069,8.0948770618988808E-2,37.8187,null,null,null,293]
[3.3,330,{"$f":"INDEX($Y$2:$Y$276,MATCH(MIN(ABS($Y$2:$Y$276-B64)),ABS($Y$2:$Y$276-B64),0))","v":331},528,{"$f":"INDEX($Y$2:$Y$276,MATCH(MIN(ABS($Y$2:$Y$276-D64)),ABS($Y$2:$Y$276-D64),0))","v":523},768.9,{"$f":"INDEX($Y$2:$Y$276,MATCH(MIN(ABS($Y$2:$Y$276-F64)),ABS($Y$2:$Y$276-F64),0))","v":769},133.97313600000001,133.12389700000003,"C",1,22.3971907920406,47.403805880807148,189.61522352322859,8.4002887068024626E-2,40.597920000000002,22.394278283485068,47.504393527273855,190.01757410909542,8.3825016094853905E-2,40.218700000000005,null,null,null,307]
[3.4,340,{"$f":"INDEX($Y$2:$Y$276,MATCH(MIN(ABS($Y$2:$Y$276-B65)),ABS($Y$2:$Y$276-B65),0))","v":337},544,{"$f":"INDEX($Y$2:$Y$276,MATCH(MIN(ABS($Y$2:$Y$276-D65)),ABS($Y$2:$Y$276-D65),0))","v":541},792.2,{"$f":"INDEX($Y$2:$Y$276,MATCH(MIN(ABS($Y$2:$Y$276-F65)),ABS($Y$2:$Y$276-F65),0))","v":797},146.52531200000004,145.30664899999999,"C",1,21.738449886392345,46.00957629607754,184.03830518431016,8.6548429100389027E-2,43.095680000000009,21.607528230865768,46.137843296770455,184.55137318708182,8.6307817346086058E-2,43.117699999999999,null,null,null,311]
[3.6,360,{"$f":"INDEX($Y$2:$Y$276,MATCH(MIN(ABS($Y$2:$Y$276-B66)),ABS($Y$2:$Y$276-B66),0))","v":359},576,{"$f":"INDEX($Y$2:$Y$276,MATCH(MIN(ABS($Y$2:$Y$276-D66)),ABS($Y$2:$Y$276-D66),0))","v":577},838.80000000000007,{"$f":"INDEX($Y$2:$Y$276,MATCH(MIN(ABS($Y$2:$Y$276-F66)),ABS($Y$2:$Y$276-F66),0))","v":839},173.93356800000001,173.79297700000001,"C",1,20.530758226037214,43.453488724073225,173.8139548962929,9.1639513165117772E-2,48.314879999999995,20.525864123957113,43.465202896738752,173.86081158695501,9.1614815682794948E-2,48.410299999999999,null,null,null,313]
[3.75,375,{"$f":"INDEX($Y$2:$Y$276,MATCH(MIN(ABS($Y$2:$Y$276-B67)),ABS($Y$2:$Y$276-B67),0))","v":373},600,{"$f":"INDEX($Y$2:$Y$276,MATCH(MIN(ABS($Y$2:$Y$276-D67)),ABS($Y$2:$Y$276-D67),0))","v":599},873.75,{"$f":"INDEX($Y$2:$Y$276,MATCH(MIN(ABS($Y$2:$Y$276-F67)),ABS($Y$2:$Y$276-F67),0))","v":877},196.59375000000003,195.94547900000001,"C",1,19.709527896995731,41.715349175110298,166.86139670044119,9.545782621366436E-2,52.425000000000004,19.636488027366042,41.761302574787941,167.04521029915176,9.5352786107875023E-2,52.532299999999999,null,null,null,317]
[3.9,390,{"$f":"INDEX($Y$2:$Y$276,MATCH(MIN(ABS($Y$2:$Y$276-B68)),ABS($Y$2:$Y$276-B68),0))","v":389},624,{"$f":"INDEX($Y$2:$Y$276,MATCH(MIN(ABS($Y$2:$Y$276-D68)),ABS($Y$2:$Y$276-D68),0))","v":619},908.7,{"$f":"INDEX($Y$2:$Y$276,MATCH(MIN(ABS($Y$2:$Y$276-F68)),ABS($Y$2:$Y$276-F68),0))","v":907},221.14123199999997,218.39743700000005,"C",1,18.951469131726665,40.110912668375285,160.44365067350114,9.9276139262210919E-2,56.70288,18.986990077177531,40.278189390260046,161.11275756104018,9.8863842001868513E-2,56.143300000000004,null,null,null,331]
[4.05,405,{"$f":"INDEX($Y$2:$Y$276,MATCH(MIN(ABS($Y$2:$Y$276-B69)),ABS($Y$2:$Y$276-B69),0))","v":401},648,{"$f":"INDEX($Y$2:$Y$276,MATCH(MIN(ABS($Y$2:$Y$276-D69)),ABS($Y$2:$Y$276-D69),0))","v":647},943.65,{"$f":"INDEX($Y$2:$Y$276,MATCH(MIN(ABS($Y$2:$Y$276-F69)),ABS($Y$2:$Y$276-F69),0))","v":941},{"$f":"(B69/100)*(D69/100)*(F69/100)","v":247.65150600000001},{"$f":"(C69/100)*(E69/100)*(G69/100)","v":244.13962699999999},"C",1,18.24956286758864,38.625323310287314,154.50129324114926,0.10309445231075751,61.148520000000005,18.300956429330519,38.809647058742001,155.23858823496801,0.1026048123027966,60.8827,null,null,null,337]
[4.2,420,{"$f":"INDEX($Y$2:$Y$276,MATCH(MIN(ABS($Y$2:$Y$276-B70)),ABS($Y$2:$Y$276-B70),0))","v":419},672,{"$f":"INDEX($Y$2:$Y$276,MATCH(MIN(ABS($Y$2:$Y$276-D70)),ABS($Y$2:$Y$276-D70),0))","v":673},978.6,{"$f":"INDEX($Y$2:$Y$276,MATCH(MIN(ABS($Y$2:$Y$276-F70)),ABS($Y$2:$Y$276-F70),0))","v":977},{"$f":"(B70/100)*(D70/100)*(F70/100)","v":276.200064},275.50129900000002,"C",1,17.597792765174756,37.245847477777055,148.98338991110822,0.10691276535930408,65.761919999999989,17.626612077789169,37.277310271822806,149.10924108729122,0.10682252885101434,65.752099999999999,null,null,null,347]
[4.3499999999999996,434.99999999999994,{"$f":"INDEX($Y$2:$Y$276,MATCH(MIN(ABS($Y$2:$Y$276-B71)),ABS($Y$2:$Y$276-B71),0))","v":433},696,{"$f":"INDEX($Y$2:$Y$276,MATCH(MIN(ABS($Y$2:$Y$276-D71)),ABS($Y$2:$Y$276-D71),0))","v":691},1013.55,{"$f":"INDEX($Y$2:$Y$276,MATCH(MIN(ABS($Y$2:$Y$276-F71)),ABS($Y$2:$Y$276-F71),0))","v":1013},{"$f":"(B71/100)*(D71/100)*(F71/100)","v":306.86239799999998},303.09263900000002,"C",1,16.990972324996317,35.96150790957784,143.84603163831136,0.11073107840785064,70.543080000000003,17.000197433366257,36.109986197355688,144.43994478942275,0.11027577053717094,69.9983,null,null,null,349]
[4.5,450,{"$f":"INDEX($Y$2:$Y$276,MATCH(MIN(ABS($Y$2:$Y$276-B72)),ABS($Y$2:$Y$276-B72),0))","v":449},720,{"$f":"INDEX($Y$2:$Y$276,MATCH(MIN(ABS($Y$2:$Y$276-D72)),ABS($Y$2:$Y$276-D72),0))","v":719},1048.5,{"$f":"INDEX($Y$2:$Y$276,MATCH(MIN(ABS($Y$2:$Y$276-F72)),ABS($Y$2:$Y$276-F72),0))","v":1049},{"$f":"(B72/100)*(D72/100)*(F72/100)","v":339.71399999999994},338.64971900000006,"C",1,16.424606580829774,34.762790979258583,139.05116391703433,0.11454939145639721,75.492000000000004,16.416777883698778,34.799169461155294,139.19667784462118,0.11442964339838603,75.423100000000005,null,null,null,353]
["HEIGHT m","HEIGHT cm","PRIME height","WIDTH cm","PRIME width","DEPTH cm","PRIME depth","VOLUME","PRIME volume","TABLE","1=Yes 0=NO","F¹","F²","F³","minimum RT60","Floor area","F¹","F²","F³","minimum RT60","Floor area",null,null,null,359]
[{"$f":"A58","v":2.4},240,{"$f":"INDEX($Y$2:$Y$276,MATCH(MIN(ABS($Y$2:$Y$276-B74)),ABS($Y$2:$Y$276-B74),0))","v":239},{"$f":"B74*$D$7","v":336},{"$f":"INDEX($Y$2:$Y$276,MATCH(MIN(ABS($Y$2:$Y$276-D74)),ABS($Y$2:$Y$276-D74),0))","v":337},{"$f":"B74*$E$7","v":456},{"$f":"INDEX($Y$2:$Y$276,MATCH(MIN(ABS($Y$2:$Y$276-F74)),ABS($Y$2:$Y$276-F74),0))","v":457},{"$f":"(B74/100)*(D74/100)*(F74/100)","v":36.771839999999997},{"$f":"(C74/100)*(E74/100)*(G74/100)","v":36.808151000000009},"D",{"$f":"IF(H74>$K$22,$N$21,$O$21)","v":0},{"$f":"565/(F74*0.0328083989501312)","v":37.765789473684251},{"$f":"(SQRT(O74/(H74*35.3146667214885))*11250)","v":72.942503494724676},291.7700139788987,{"$f":"0.25*(((0.028316846592*H74)/100)^(1/3))","v":5.4591717602453758E-2},{"$f":"(D74/100)*(F74/100)","v":15.321599999999998},{"$f":"565/(G74*0.0328083989501312)","v":37.683150984682754},{"$f":"(SQRT(T74/(I74*35.3146667214885))*11250)","v":72.918509835736515},{"$f":"4*R74","v":291.67403934294606},{"$f":"0.25*(((0.028316846592*I74)/100)^(1/3))","v":5.4609680874861295E-2},{"$f":"(E74/100)*(G74/100)","v":15.400900000000002},null,null,null,367]
[2.5499999999999998,254.99999999999997,{"$f":"INDEX($Y$2:$Y$276,MATCH(MIN(ABS($Y$2:$Y$276-B75)),ABS($Y$2:$Y$276-B75),0))","v":257},356.99999999999994,{"$f":"INDEX($Y$2:$Y$276,MATCH(MIN(ABS($Y$2:$Y$276-D75)),ABS($Y$2:$Y$276-D75),0))","v":359},484.49999999999994,{"$f":"INDEX($Y$2:$Y$276,MATCH(MIN(ABS($Y$2:$Y$276-F75)),ABS($Y$2:$Y$276-F75),0))","v":487},{"$f":"(B75/100)*(D75/100)*(F75/100)","v":44.106457499999991},44.932080999999997,"D",1,35.544272445820475,68.651767995035001,274.60707198014001,5.8003699952607117E-2,17.296649999999996,35.361806981519543,68.228675582633088,{"$f":"4*R75","v":272.91470233053235},5.8363386332734211E-2,17.4833,null,null,null,373]
[2.7,270,{"$f":"INDEX($Y$2:$Y$276,MATCH(MIN(ABS($Y$2:$Y$276-B76)),ABS($Y$2:$Y$276-B76),0))","v":269},378,{"$f":"INDEX($Y$2:$Y$276,MATCH(MIN(ABS($Y$2:$Y$276-D76)),ABS($Y$2:$Y$276-D76),0))","v":379},513,{"$f":"INDEX($Y$2:$Y$276,MATCH(MIN(ABS($Y$2:$Y$276-F76)),ABS($Y$2:$Y$276-F76),0))","v":509},52.356779999999993,51.893059000000001,"D",1,33.569590643274893,64.837780884199717,259.35112353679887,6.1415682302760483E-2,19.391399999999997,33.833398821218111,65.03034050430648,260.12136201722592,6.1233825951385025E-2,19.2911,null,null,null,379]
[2.85,285,{"$f":"INDEX($Y$2:$Y$276,MATCH(MIN(ABS($Y$2:$Y$276-B77)),ABS($Y$2:$Y$276-B77),0))","v":283},399,{"$f":"INDEX($Y$2:$Y$276,MATCH(MIN(ABS($Y$2:$Y$276-D77)),ABS($Y$2:$Y$276-D77),0))","v":397},541.5,{"$f":"INDEX($Y$2:$Y$276,MATCH(MIN(ABS($Y$2:$Y$276-F77)),ABS($Y$2:$Y$276-F77),0))","v":541},61.576672500000008,60.781891000000009,"D",1,31.802770083102526,61.425266100820778,245.70106440328311,6.4827664652913841E-2,21.60585,31.832162661737556,61.691838971941074,246.7673558877643,6.4547541755257773E-2,21.477700000000002,null,null,null,383]
[3,300,{"$f":"INDEX($Y$2:$Y$276,MATCH(MIN(ABS($Y$2:$Y$276-B78)),ABS($Y$2:$Y$276-B78),0))","v":293},420,{"$f":"INDEX($Y$2:$Y$276,MATCH(MIN(ABS($Y$2:$Y$276-D78)),ABS($Y$2:$Y$276-D78),0))","v":419},570,{"$f":"INDEX($Y$2:$Y$276,MATCH(MIN(ABS($Y$2:$Y$276-F78)),ABS($Y$2:$Y$276-F78),0))","v":569},71.820000000000007,69.854423000000011,"D",1,30.212631578947402,58.354002795779735,233.41601118311894,6.8239647003067186E-2,23.94,30.265729349736414,58.896273321160322,235.58509328464129,6.761135004732681E-2,23.841100000000004,null,null,null,389]
[3.2,320,{"$f":"INDEX($Y$2:$Y$276,MATCH(MIN(ABS($Y$2:$Y$276-B79)),ABS($Y$2:$Y$276-B79),0))","v":317},448,{"$f":"INDEX($Y$2:$Y$276,MATCH(MIN(ABS($Y$2:$Y$276-D79)),ABS($Y$2:$Y$276-D79),0))","v":449},608,{"$f":"INDEX($Y$2:$Y$276,MATCH(MIN(ABS($Y$2:$Y$276-F79)),ABS($Y$2:$Y$276-F79),0))","v":607},87.162880000000015,86.396130999999997,"D",1,28.324342105263188,54.706877621043503,218.82751048417401,7.2788956803271687E-2,27.238400000000002,28.3710049423394,54.86823887096795,219.4729554838718,7.2574892760172108E-2,27.254300000000004,null,null,null,397]
[3.3,330,{"$f":"INDEX($Y$2:$Y$276,MATCH(MIN(ABS($Y$2:$Y$276-B80)),ABS($Y$2:$Y$276-B80),0))","v":331},461.99999999999994,{"$f":"INDEX($Y$2:$Y$276,MATCH(MIN(ABS($Y$2:$Y$276-D80)),ABS($Y$2:$Y$276-D80),0))","v":461},627,{"$f":"INDEX($Y$2:$Y$276,MATCH(MIN(ABS($Y$2:$Y$276-F80)),ABS($Y$2:$Y$276-F80),0))","v":631},95.592419999999976,96.284921000000011,"D",1,27.466028708134001,53.049093450708853,212.19637380283541,7.5063611703373903E-2,28.967399999999994,27.291917591125227,52.921607319733909,211.68642927893563,7.5244437077313375E-2,29.089100000000002,null,null,null,401]
[3.4,340,{"$f":"INDEX($Y$2:$Y$276,MATCH(MIN(ABS($Y$2:$Y$276-B81)),ABS($Y$2:$Y$276-B81),0))","v":337},475.99999999999994,{"$f":"INDEX($Y$2:$Y$276,MATCH(MIN(ABS($Y$2:$Y$276-D81)),ABS($Y$2:$Y$276-D81),0))","v":479},646,{"$f":"INDEX($Y$2:$Y$276,MATCH(MIN(ABS($Y$2:$Y$276-F81)),ABS($Y$2:$Y$276-F81),0))","v":647},104.54863999999998,104.44068100000001,"D",1,26.658204334365355,51.48882599627624,205.95530398510496,7.7338266603476147E-2,30.749599999999997,26.617001545595084,51.506561001125313,206.02624400450125,7.7311637092466842E-2,30.991299999999999,null,null,null,409]
[3.6,360,{"$f":"INDEX($Y$2:$Y$276,MATCH(MIN(ABS($Y$2:$Y$276-B82)),ABS($Y$2:$Y$276-B82),0))","v":359},503.99999999999994,{"$f":"INDEX($Y$2:$Y$276,MATCH(MIN(ABS($Y$2:$Y$276-D82)),ABS($Y$2:$Y$276-D82),0))","v":503},684,{"$f":"INDEX($Y$2:$Y$276,MATCH(MIN(ABS($Y$2:$Y$276-F82)),ABS($Y$2:$Y$276-F82),0))","v":683},124.10495999999999,123.334091,"D",1,25.17719298245617,48.628335663149777,194.51334265259911,8.1887576403680634E-2,34.47359999999999,25.214055636896074,48.729438413460343,194.91775365384137,8.1717677889348653E-2,34.354900000000001,null,null,null,419]
[3.75,375,{"$f":"INDEX($Y$2:$Y$276,MATCH(MIN(ABS($Y$2:$Y$276-B83)),ABS($Y$2:$Y$276-B83),0))","v":373},525,{"$f":"INDEX($Y$2:$Y$276,MATCH(MIN(ABS($Y$2:$Y$276-D83)),ABS($Y$2:$Y$276-D83),0))","v":523},712.5,{"$f":"INDEX($Y$2:$Y$276,MATCH(MIN(ABS($Y$2:$Y$276-F83)),ABS($Y$2:$Y$276-F83),0))","v":709},140.2734375,138.31101100000001,"D",1,24.170105263157922,46.683202236623792,186.73280894649517,8.5299558753834007E-2,37.40625,24.289421720733451,46.902954458073047,187.61181783229219,8.4899908715976538E-2,37.0807,null,null,null,421]
[3.9,390,{"$f":"INDEX($Y$2:$Y$276,MATCH(MIN(ABS($Y$2:$Y$276-B84)),ABS($Y$2:$Y$276-B84),0))","v":389},546,{"$f":"INDEX($Y$2:$Y$276,MATCH(MIN(ABS($Y$2:$Y$276-D84)),ABS($Y$2:$Y$276-D84),0))","v":547},741,{"$f":"INDEX($Y$2:$Y$276,MATCH(MIN(ABS($Y$2:$Y$276-F84)),ABS($Y$2:$Y$276-F84),0))","v":739},157.78854000000001,157.24663699999996,"D",1,23.240485829959539,44.887694458292103,179.55077783316841,8.8711541103987351E-2,40.458599999999997,23.303382949932367,44.939199294825677,179.75679717930271,8.860986876680961E-2,40.423299999999998,null,null,null,431]
[4.05,405,{"$f":"INDEX($Y$2:$Y$276,MATCH(MIN(ABS($Y$2:$Y$276-B85)),ABS($Y$2:$Y$276-B85),0))","v":401},567,{"$f":"INDEX($Y$2:$Y$276,MATCH(MIN(ABS($Y$2:$Y$276-D85)),ABS($Y$2:$Y$276-D85),0))","v":569},769.5,{"$f":"INDEX($Y$2:$Y$276,MATCH(MIN(ABS($Y$2:$Y$276-F85)),ABS($Y$2:$Y$276-F85),0))","v":769},{"$f":"(B85/100)*(D85/100)*(F85/100)","v":176.70413250000001},175.461961,"D",1,22.379727095516593,43.22518725613314,172.90074902453256,9.212352345414071E-2,43.630650000000003,22.394278283485068,43.326950787087661,173.30780314835064,9.1907149699229265E-2,43.756100000000004,null,null,null,433]
[4.2,420,{"$f":"INDEX($Y$2:$Y$276,MATCH(MIN(ABS($Y$2:$Y$276-B86)),ABS($Y$2:$Y$276-B86),0))","v":419},588,{"$f":"INDEX($Y$2:$Y$276,MATCH(MIN(ABS($Y$2:$Y$276-D86)),ABS($Y$2:$Y$276-D86),0))","v":587},798,{"$f":"INDEX($Y$2:$Y$276,MATCH(MIN(ABS($Y$2:$Y$276-F86)),ABS($Y$2:$Y$276-F86),0))","v":797},{"$f":"(B86/100)*(D86/100)*(F86/100)","v":197.07408000000001},196.024541,"D",1,21.580451127819572,41.6814305684141,166.7257222736564,9.5535505804294069E-2,46.922400000000003,21.607528230865768,41.755687332125916,167.02274932850366,9.5365609008579225E-2,46.783900000000003,null,null,null,439]
[4.3499999999999996,434.99999999999994,{"$f":"INDEX($Y$2:$Y$276,MATCH(MIN(ABS($Y$2:$Y$276-B87)),ABS($Y$2:$Y$276-B87),0))","v":433},608.99999999999989,{"$f":"INDEX($Y$2:$Y$276,MATCH(MIN(ABS($Y$2:$Y$276-D87)),ABS($Y$2:$Y$276-D87),0))","v":607},826.49999999999989,{"$f":"INDEX($Y$2:$Y$276,MATCH(MIN(ABS($Y$2:$Y$276-F87)),ABS($Y$2:$Y$276-F87),0))","v":827},{"$f":"(B87/100)*(D87/100)*(F87/100)","v":218.95224749999991},217.36123699999999,"D",1,20.836297640653385,40.244139859158444,160.97655943663378,9.8947488154447427E-2,50.333849999999984,20.823700120919007,40.342092402745692,161.36836961098277,9.8707238887018794E-2,50.198900000000002,null,null,null,443]
[4.5,450,{"$f":"INDEX($Y$2:$Y$276,MATCH(MIN(ABS($Y$2:$Y$276-B88)),ABS($Y$2:$Y$276-B88),0))","v":449},630,{"$f":"INDEX($Y$2:$Y$276,MATCH(MIN(ABS($Y$2:$Y$276-D88)),ABS($Y$2:$Y$276-D88),0))","v":631},855,{"$f":"INDEX($Y$2:$Y$276,MATCH(MIN(ABS($Y$2:$Y$276-F88)),ABS($Y$2:$Y$276-F88),0))","v":853},{"$f":"(B88/100)*(D88/100)*(F88/100)","v":242.39250000000001},241.67110699999998,"D",1,20.141754385964934,38.902668530519819,155.61067412207927,0.10235947050460079,53.865000000000002,20.188980070339998,38.941338488970089,155.76535395588036,0.10225782437159676,53.824299999999994,null,null,null,449]
["HEIGHT m","HEIGHT cm","PRIME height","WIDTH cm","PRIME width","DEPTH cm","PRIME depth","VOLUME","PRIME volume","TABLE","1=Yes 0=NO","F¹","F²","F³","minimum RT60","Floor area","F¹","F²","F³","minimum RT60","Floor area",null,null,null,457]
[{"$f":"A74","v":2.4},240,{"$f":"INDEX($Y$2:$Y$276,MATCH(MIN(ABS($Y$2:$Y$276-B90)),ABS($Y$2:$Y$276-B90),0))","v":239},{"$f":"B90*$D$8","v":312},{"$f":"INDEX($Y$2:$Y$276,MATCH(MIN(ABS($Y$2:$Y$276-D90)),ABS($Y$2:$Y$276-D90),0))","v":311},{"$f":"B90*$E$8","v":456},{"$f":"INDEX($Y$2:$Y$276,MATCH(MIN(ABS($Y$2:$Y$276-F90)),ABS($Y$2:$Y$276-F90),0))","v":457},{"$f":"(B90/100)*(D90/100)*(F90/100)","v":34.145279999999993},{"$f":"(C90/100)*(E90/100)*(G90/100)","v":33.968353},"E",{"$f":"IF(H90>$K$22,$N$21,$O$21)","v":0},{"$f":"565/(F90*0.0328083989501312)","v":37.765789473684251},{"$f":"(SQRT(O90/(H90*35.3146667214885))*11250)","v":74.766817095611799},299.0672683824472,{"$f":"0.25*(((0.028316846592*H90)/100)^(1/3))","v":5.3259677309892055E-2},{"$f":"(D90/100)*(F90/100)","v":14.2272},{"$f":"565/(G90*0.0328083989501312)","v":37.683150984682754},{"$f":"(SQRT(T90/(I90*35.3146667214885))*11250)","v":74.896402105024194},{"$f":"4*R90","v":299.58560842009678},{"$f":"0.25*(((0.028316846592*I90)/100)^(1/3))","v":5.3167527946350886E-2},{"$f":"(E90/100)*(G90/100)","v":14.2127},null,null,null,461]
[2.5499999999999998,{"$f":"A91*100","v":254.99999999999997},{"$f":"INDEX($Y$2:$Y$276,MATCH(MIN(ABS($Y$2:$Y$276-B91)),ABS($Y$2:$Y$276-B91),0))","v":257},331.5,{"$f":"INDEX($Y$2:$Y$276,MATCH(MIN(ABS($Y$2:$Y$276-D91)),ABS($Y$2:$Y$276-D91),0))","v":331},484.49999999999994,{"$f":"INDEX($Y$2:$Y$276,MATCH(MIN(ABS($Y$2:$Y$276-F91)),ABS($Y$2:$Y$276-F91),0))","v":487},{"$f":"(B91/100)*(D91/100)*(F91/100)","v":40.955996249999991},41.427629000000003,"E",0,35.544272445820475,70.368769031164049,{"$f":"4*M91","v":281.4750761246562},5.6588407141760319E-2,16.061174999999999,35.361806981519543,70.100711511453994,{"$f":"4*R91","v":280.40284604581598},5.6804795074717078E-2,16.119700000000002,null,null,null,463]
[2.7,270,{"$f":"INDEX($Y$2:$Y$276,MATCH(MIN(ABS($Y$2:$Y$276-B92)),ABS($Y$2:$Y$276-B92),0))","v":269},351,{"$f":"INDEX($Y$2:$Y$276,MATCH(MIN(ABS($Y$2:$Y$276-D92)),ABS($Y$2:$Y$276-D92),0))","v":349},513,{"$f":"INDEX($Y$2:$Y$276,MATCH(MIN(ABS($Y$2:$Y$276-F92)),ABS($Y$2:$Y$276-F92),0))","v":509},48.617010000000001,47.785428999999993,"E",1,33.569590643274893,66.459392973877158,265.83757189550863,5.9917136973628583E-2,18.0063,33.833398821218111,66.842695614276963,267.37078245710785,5.9573548244955532E-2,17.764099999999999,null,null,null,467]
[2.85,285,{"$f":"INDEX($Y$2:$Y$276,MATCH(MIN(ABS($Y$2:$Y$276-B93)),ABS($Y$2:$Y$276-B93),0))","v":283},370.5,{"$f":"INDEX($Y$2:$Y$276,MATCH(MIN(ABS($Y$2:$Y$276-D93)),ABS($Y$2:$Y$276-D93),0))","v":373},541.5,{"$f":"INDEX($Y$2:$Y$276,MATCH(MIN(ABS($Y$2:$Y$276-F93)),ABS($Y$2:$Y$276-F93),0))","v":541},57.178338750000002,57.107419,"E",1,31.802770083102526,62.961530185778351,251.8461207431134,6.3245866805496834E-2,20.062574999999999,31.832162661737556,62.987582660997255,251.95033064398902,6.3219707500630079E-2,20.179300000000001,null,null,null,479]
[3,300,{"$f":"INDEX($Y$2:$Y$276,MATCH(MIN(ABS($Y$2:$Y$276-B94)),ABS($Y$2:$Y$276-B94),0))","v":293},390,{"$f":"INDEX($Y$2:$Y$276,MATCH(MIN(ABS($Y$2:$Y$276-D94)),ABS($Y$2:$Y$276-D94),0))","v":389},570,{"$f":"INDEX($Y$2:$Y$276,MATCH(MIN(ABS($Y$2:$Y$276-F94)),ABS($Y$2:$Y$276-F94),0))","v":569},66.69,64.852913000000001,"E",1,30.212631578947402,59.813453676489431,239.25381470595772,6.6574596637365077E-2,22.23,30.265729349736414,60.372981345112471,241.49192538044989,6.5957593335290471E-2,22.134100000000004,null,null,null,487]
[3.2,320,{"$f":"INDEX($Y$2:$Y$276,MATCH(MIN(ABS($Y$2:$Y$276-B95)),ABS($Y$2:$Y$276-B95),0))","v":317},416,{"$f":"INDEX($Y$2:$Y$276,MATCH(MIN(ABS($Y$2:$Y$276-D95)),ABS($Y$2:$Y$276-D95),0))","v":419},608,{"$f":"INDEX($Y$2:$Y$276,MATCH(MIN(ABS($Y$2:$Y$276-F95)),ABS($Y$2:$Y$276-F95),0))","v":607},80.936960000000013,80.623561000000009,"E",1,28.324342105263188,56.075112821708849,224.3004512868354,7.1012903079856096E-2,25.2928,28.3710049423394,56.147677061871136,224.59070824748454,7.0921127291019279E-2,25.433300000000003,null,null,null,491]
[3.3,330,{"$f":"INDEX($Y$2:$Y$276,MATCH(MIN(ABS($Y$2:$Y$276-B96)),ABS($Y$2:$Y$276-B96),0))","v":331},429,{"$f":"INDEX($Y$2:$Y$276,MATCH(MIN(ABS($Y$2:$Y$276-D96)),ABS($Y$2:$Y$276-D96),0))","v":431},627,{"$f":"INDEX($Y$2:$Y$276,MATCH(MIN(ABS($Y$2:$Y$276-F96)),ABS($Y$2:$Y$276-F96),0))","v":631},88.764389999999992,90.019090999999989,"E",1,27.466028708134001,54.375866978626753,217.50346791450701,7.3232056301101578E-2,26.898299999999999,27.291917591125227,54.122050776271621,216.48820310508648,7.3575492703721282E-2,27.196099999999994,null,null,null,499]
[3.4,340,{"$f":"INDEX($Y$2:$Y$276,MATCH(MIN(ABS($Y$2:$Y$276-B97)),ABS($Y$2:$Y$276-B97),0))","v":337},442,{"$f":"INDEX($Y$2:$Y$276,MATCH(MIN(ABS($Y$2:$Y$276-D97)),ABS($Y$2:$Y$276-D97),0))","v":443},646,{"$f":"INDEX($Y$2:$Y$276,MATCH(MIN(ABS($Y$2:$Y$276-F97)),ABS($Y$2:$Y$276-F97),0))","v":647},97.080879999999993,96.591276999999991,"E",1,26.658204334365355,52.77657677337303,211.10630709349212,7.5451209522347087E-2,28.5532,26.617001545595084,52.865598042542935,211.46239217017174,7.5324155962361292E-2,28.662099999999999,null,null,null,503]
[3.6,360,{"$f":"INDEX($Y$2:$Y$276,MATCH(MIN(ABS($Y$2:$Y$276-B98)),ABS($Y$2:$Y$276-B98),0))","v":359},468,{"$f":"INDEX($Y$2:$Y$276,MATCH(MIN(ABS($Y$2:$Y$276-D98)),ABS($Y$2:$Y$276-D98),0))","v":467},684,{"$f":"INDEX($Y$2:$Y$276,MATCH(MIN(ABS($Y$2:$Y$276-F98)),ABS($Y$2:$Y$276-F98),0))","v":683},115.24032,114.50699899999999,"E",1,25.17719298245617,49.844544730407861,199.37817892163145,7.9889515964838106E-2,32.011199999999995,25.214055636896074,49.95072251796563,199.80289007186252,7.9719698760469207E-2,31.896100000000001,null,null,null,509]
[3.75,375,{"$f":"INDEX($Y$2:$Y$276,MATCH(MIN(ABS($Y$2:$Y$276-B99)),ABS($Y$2:$Y$276-B99),0))","v":373},487.5,{"$f":"INDEX($Y$2:$Y$276,MATCH(MIN(ABS($Y$2:$Y$276-D99)),ABS($Y$2:$Y$276-D99),0))","v":487},712.5,{"$f":"INDEX($Y$2:$Y$276,MATCH(MIN(ABS($Y$2:$Y$276-F99)),ABS($Y$2:$Y$276-F99),0))","v":709},130.25390625,128.790559,"E",1,24.170105263157922,47.850762941191547,191.40305176476619,8.321824579670635E-2,34.734375,24.289421720733451,48.031311218990439,192.12524487596176,8.2905430872884323E-2,34.528300000000002,null,null,null,521]
[3.9,390,{"$f":"INDEX($Y$2:$Y$276,MATCH(MIN(ABS($Y$2:$Y$276-B100)),ABS($Y$2:$Y$276-B100),0))","v":389},507,{"$f":"INDEX($Y$2:$Y$276,MATCH(MIN(ABS($Y$2:$Y$276-D100)),ABS($Y$2:$Y$276-D100),0))","v":509},741,{"$f":"INDEX($Y$2:$Y$276,MATCH(MIN(ABS($Y$2:$Y$276-F100)),ABS($Y$2:$Y$276-F100),0))","v":739},146.51793000000001,146.32273899999998,"E",1,23.240485829959539,46.010348981914952,184.04139592765981,8.6546975628574607E-2,37.5687,23.303382949932367,46.030798789542395,184.12319515816958,8.6508525959029789E-2,37.615099999999998,null,null,null,523]
[4.05,405,{"$f":"INDEX($Y$2:$Y$276,MATCH(MIN(ABS($Y$2:$Y$276-B101)),ABS($Y$2:$Y$276-B101),0))","v":401},526.5,{"$f":"INDEX($Y$2:$Y$276,MATCH(MIN(ABS($Y$2:$Y$276-D101)),ABS($Y$2:$Y$276-D101),0))","v":523},769.5,{"$f":"INDEX($Y$2:$Y$276,MATCH(MIN(ABS($Y$2:$Y$276-F101)),ABS($Y$2:$Y$276-F101),0))","v":769},{"$f":"(B101/100)*(D101/100)*(F101/100)","v":164.08240874999998},161.27698700000002,"E",1,22.379727095516593,44.306261982584772,177.22504793033909,8.9875705460442865E-2,40.514175000000002,22.394278283485068,44.561689857690958,178.24675943076383,8.9360537374521001E-2,40.218700000000005,null,null,null,541]
[4.2,420,{"$f":"INDEX($Y$2:$Y$276,MATCH(MIN(ABS($Y$2:$Y$276-B102)),ABS($Y$2:$Y$276-B102),0))","v":419},546,{"$f":"INDEX($Y$2:$Y$276,MATCH(MIN(ABS($Y$2:$Y$276-D102)),ABS($Y$2:$Y$276-D102),0))","v":547},798,{"$f":"INDEX($Y$2:$Y$276,MATCH(MIN(ABS($Y$2:$Y$276-F102)),ABS($Y$2:$Y$276-F102),0))","v":797},{"$f":"(B102/100)*(D102/100)*(F102/100)","v":182.99736000000001},182.666821,"E",1,21.580451127819572,42.723895483206739,170.89558193282696,9.3204435292311122E-2,43.570800000000006,21.607528230865768,42.749649848831986,170.99859939532794,9.3148284631126732E-2,43.595899999999993,null,null,null,547]
[4.3499999999999996,434.99999999999994,{"$f":"INDEX($Y$2:$Y$276,MATCH(MIN(ABS($Y$2:$Y$276-B103)),ABS($Y$2:$Y$276-B103),0))","v":433},565.5,{"$f":"INDEX($Y$2:$Y$276,MATCH(MIN(ABS($Y$2:$Y$276-D103)),ABS($Y$2:$Y$276-D103),0))","v":563},826.49999999999989,{"$f":"INDEX($Y$2:$Y$276,MATCH(MIN(ABS($Y$2:$Y$276-F103)),ABS($Y$2:$Y$276-F103),0))","v":827},{"$f":"(B103/100)*(D103/100)*(F103/100)","v":203.31280124999995},201.605233,"E",1,20.836297640653385,41.25065770792375,165.002630831695,9.6533165124179351E-2,46.738574999999997,20.823700120919007,41.366792881757533,165.46717152703013,9.6262153157057176E-2,46.560099999999998,null,null,null,557]
[4.5,450,{"$f":"INDEX($Y$2:$Y$276,MATCH(MIN(ABS($Y$2:$Y$276-B104)),ABS($Y$2:$Y$276-B104),0))","v":449},585,{"$f":"INDEX($Y$2:$Y$276,MATCH(MIN(ABS($Y$2:$Y$276-D104)),ABS($Y$2:$Y$276-D104),0))","v":587},855,{"$f":"INDEX($Y$2:$Y$276,MATCH(MIN(ABS($Y$2:$Y$276-F104)),ABS($Y$2:$Y$276-F104),0))","v":853},{"$f":"(B104/100)*(D104/100)*(F104/100)","v":225.07875000000001},224.81923899999998,"E",1,20.141754385964934,39.875635784326285,159.50254313730514,9.9861894956047609E-2,50.017499999999998,20.188980070339998,39.890972827325868,159.56389130930347,9.9823500651060604E-2,50.071099999999994,null,null,null,563]
["HEIGHT m","HEIGHT cm","PRIME height","WIDTH cm","PRIME width","DEPTH cm","PRIME depth","VOLUME","PRIME volume","TABLE","1=Yes 0=NO","F¹","F²","F³","minimum RT60","Floor area","F¹","F²","F³","minimum RT60","Floor area",null,null,null,569]
[{"$f":"A90","v":2.4},240,{"$f":"INDEX($Y$2:$Y$276,MATCH(MIN(ABS($Y$2:$Y$276-B106)),ABS($Y$2:$Y$276-B106),0))","v":239},{"$f":"B106*$D$9","v":360},{"$f":"INDEX($Y$2:$Y$276,MATCH(MIN(ABS($Y$2:$Y$276-D106)),ABS($Y$2:$Y$276-D106),0))","v":359},{"$f":"B106*$E$9","v":504},{"$f":"INDEX($Y$2:$Y$276,MATCH(MIN(ABS($Y$2:$Y$276-F106)),ABS($Y$2:$Y$276-F106),0))","v":503},{"$f":"(B106/100)*(D106/100)*(F106/100)","v":43.5456},{"$f":"(C106/100)*(E106/100)*(G106/100)","v":43.157903000000005},"F",{"$f":"IF(H106>$K$22,$N$21,$O$21)","v":1},{"$f":"565/(F106*0.0328083989501312)","v":34.16904761904766},{"$f":"(SQRT(O106/(H106*35.3146667214885))*11250)","v":68.945251337745589},275.78100535098235,{"$f":"0.25*(((0.028316846592*H106)/100)^(1/3))","v":5.775679216096994E-2},{"$f":"(D106/100)*(F106/100)","v":18.144000000000002},{"$f":"565/(G106*0.0328083989501312)","v":34.236978131212759},{"$f":"(SQRT(T106/(I106*35.3146667214885))*11250)","v":69.151086362372283},{"$f":"4*R106","v":276.60434544948913},{"$f":"0.25*(((0.028316846592*I106)/100)^(1/3))","v":5.7584873376143986E-2},{"$f":"(E106/100)*(G106/100)","v":18.057700000000001},null,null,null,571]
[2.5499999999999998,254.99999999999997,{"$f":"INDEX($Y$2:$Y$276,MATCH(MIN(ABS($Y$2:$Y$276-B107)),ABS($Y$2:$Y$276-B107),0))","v":257},382.49999999999994,{"$f":"INDEX($Y$2:$Y$276,MATCH(MIN(ABS($Y$2:$Y$276-D107)),ABS($Y$2:$Y$276-D107),0))","v":383},535.5,{"$f":"INDEX($Y$2:$Y$276,MATCH(MIN(ABS($Y$2:$Y$276-F107)),ABS($Y$2:$Y$276-F107),0))","v":541},{"$f":"(B107/100)*(D107/100)*(F107/100)","v":52.231331249999997},53.251170999999999,"F",1,32.159103641456618,64.889648317878198,259.55859327151279,6.1366591671030556E-2,20.482874999999996,31.832162661737556,64.472730669211373,{"$f":"4*R107","v":257.89092267684549},6.1763423243706622E-2,20.720300000000002,null,null,null,577]
[2.7,270,{"$f":"INDEX($Y$2:$Y$276,MATCH(MIN(ABS($Y$2:$Y$276-B108)),ABS($Y$2:$Y$276-B108),0))","v":269},405,{"$f":"INDEX($Y$2:$Y$276,MATCH(MIN(ABS($Y$2:$Y$276-D108)),ABS($Y$2:$Y$276-D108),0))","v":401},567,{"$f":"INDEX($Y$2:$Y$276,MATCH(MIN(ABS($Y$2:$Y$276-F108)),ABS($Y$2:$Y$276-F108),0))","v":569},62.001450000000006,61.377460999999997,"F",1,30.372486772486806,61.28466785577384,245.13867142309536,6.4976391181091178E-2,22.9635,30.265729349736414,61.491649885726744,245.96659954290698,6.4757679447535993E-2,22.8169,null,null,null,587]
[2.85,285,{"$f":"INDEX($Y$2:$Y$276,MATCH(MIN(ABS($Y$2:$Y$276-B109)),ABS($Y$2:$Y$276-B109),0))","v":283},427.5,{"$f":"INDEX($Y$2:$Y$276,MATCH(MIN(ABS($Y$2:$Y$276-D109)),ABS($Y$2:$Y$276-D109),0))","v":431},598.5,{"$f":"INDEX($Y$2:$Y$276,MATCH(MIN(ABS($Y$2:$Y$276-F109)),ABS($Y$2:$Y$276-F109),0))","v":599},72.919743750000009,73.061826999999994,"F",1,28.77393483709276,58.059159021259433,232.23663608503773,6.8586190691151794E-2,25.585875000000005,28.749916527545938,58.021498738386668,232.08599495354667,6.8630708247553435E-2,25.816899999999997,null,null,null,593]
[3,300,{"$f":"INDEX($Y$2:$Y$276,MATCH(MIN(ABS($Y$2:$Y$276-B110)),ABS($Y$2:$Y$276-B110),0))","v":293},450,{"$f":"INDEX($Y$2:$Y$276,MATCH(MIN(ABS($Y$2:$Y$276-D110)),ABS($Y$2:$Y$276-D110),0))","v":449},630,{"$f":"INDEX($Y$2:$Y$276,MATCH(MIN(ABS($Y$2:$Y$276-F110)),ABS($Y$2:$Y$276-F110),0))","v":631},85.05,83.012467000000001,"F",1,27.335238095238122,55.15620107019646,220.62480428078584,7.2195990201212423E-2,28.349999999999998,27.291917591125227,55.603826377247145,222.41530550898858,7.1614793647176878E-2,28.331900000000001,null,null,null,599]
[3.2,320,{"$f":"INDEX($Y$2:$Y$276,MATCH(MIN(ABS($Y$2:$Y$276-B111)),ABS($Y$2:$Y$276-B111),0))","v":317},480,{"$f":"INDEX($Y$2:$Y$276,MATCH(MIN(ABS($Y$2:$Y$276-D111)),ABS($Y$2:$Y$276-D111),0))","v":479},672,{"$f":"INDEX($Y$2:$Y$276,MATCH(MIN(ABS($Y$2:$Y$276-F111)),ABS($Y$2:$Y$276-F111),0))","v":673},103.21919999999999,102.19033900000001,"F",1,25.626785714285742,51.708938503309184,206.83575401323674,7.7009056214626573E-2,32.256,25.588707280832125,51.881896004680279,207.52758401872111,7.675233286849778E-2,32.236699999999999,null,null,null,601]
[3.3,330,{"$f":"INDEX($Y$2:$Y$276,MATCH(MIN(ABS($Y$2:$Y$276-B112)),ABS($Y$2:$Y$276-B112),0))","v":331},495,{"$f":"INDEX($Y$2:$Y$276,MATCH(MIN(ABS($Y$2:$Y$276-D112)),ABS($Y$2:$Y$276-D112),0))","v":491},693,{"$f":"INDEX($Y$2:$Y$276,MATCH(MIN(ABS($Y$2:$Y$276-F112)),ABS($Y$2:$Y$276-F112),0))","v":691},113.20155,112.30201100000002,"F",1,24.850216450216479,50.142000972905876,200.5680038916235,7.9415589221333655E-2,34.3035,24.92214182344431,50.275524224428416,201.10209689771366,7.9204674907500258E-2,33.928100000000001,null,null,null,607]
[3.4,340,{"$f":"INDEX($Y$2:$Y$276,MATCH(MIN(ABS($Y$2:$Y$276-B113)),ABS($Y$2:$Y$276-B113),0))","v":337},510,{"$f":"INDEX($Y$2:$Y$276,MATCH(MIN(ABS($Y$2:$Y$276-D113)),ABS($Y$2:$Y$276-D113),0))","v":509},714,{"$f":"INDEX($Y$2:$Y$276,MATCH(MIN(ABS($Y$2:$Y$276-F113)),ABS($Y$2:$Y$276-F113),0))","v":709},123.80759999999999,121.61689700000001,"F",1,24.119327731092465,48.667236238408641,194.66894495363456,8.1822122228040736E-2,36.413999999999994,24.289421720733451,48.957715695937807,195.83086278375123,8.1336649298169972E-2,36.088099999999997,null,null,null,613]
[3.6,360,{"$f":"INDEX($Y$2:$Y$276,MATCH(MIN(ABS($Y$2:$Y$276-B114)),ABS($Y$2:$Y$276-B114),0))","v":359},540,{"$f":"INDEX($Y$2:$Y$276,MATCH(MIN(ABS($Y$2:$Y$276-D114)),ABS($Y$2:$Y$276-D114),0))","v":541},756,{"$f":"INDEX($Y$2:$Y$276,MATCH(MIN(ABS($Y$2:$Y$276-F114)),ABS($Y$2:$Y$276-F114),0))","v":757},146.96639999999999,147.02378300000001,"F",1,22.779365079365103,45.963500891830385,183.85400356732154,8.6635188241454913E-2,40.823999999999998,22.749273447820368,45.95752030208768,183.83008120835072,8.6646462337941127E-2,40.953700000000005,null,null,null,617]
[3.75,375,{"$f":"INDEX($Y$2:$Y$276,MATCH(MIN(ABS($Y$2:$Y$276-B115)),ABS($Y$2:$Y$276-B115),0))","v":373},562.5,{"$f":"INDEX($Y$2:$Y$276,MATCH(MIN(ABS($Y$2:$Y$276-D115)),ABS($Y$2:$Y$276-D115),0))","v":563},787.5,{"$f":"INDEX($Y$2:$Y$276,MATCH(MIN(ABS($Y$2:$Y$276-F115)),ABS($Y$2:$Y$276-F115),0))","v":787},166.11328125,165.26921300000001,"F",1,21.868190476190499,44.124960856157173,176.49984342462869,9.0244987751515515E-2,44.296875,21.882083862770035,44.199952142009657,176.79980856803863,9.0091874742445205E-2,44.308100000000003,null,null,null,619]
[3.9,390,{"$f":"INDEX($Y$2:$Y$276,MATCH(MIN(ABS($Y$2:$Y$276-B116)),ABS($Y$2:$Y$276-B116),0))","v":389},585,{"$f":"INDEX($Y$2:$Y$276,MATCH(MIN(ABS($Y$2:$Y$276-D116)),ABS($Y$2:$Y$276-D116),0))","v":587},819,{"$f":"INDEX($Y$2:$Y$276,MATCH(MIN(ABS($Y$2:$Y$276-F116)),ABS($Y$2:$Y$276-F116),0))","v":821},186.85484999999997,187.46960300000003,"F",1,21.027106227106248,42.427846977074196,169.71138790829679,9.3854787261576131E-2,47.911499999999997,20.97588306942755,42.381419524225876,169.5256780969035,9.3957602097867451E-2,48.192700000000009,null,null,null,631]
[4.05,405,{"$f":"INDEX($Y$2:$Y$276,MATCH(MIN(ABS($Y$2:$Y$276-B117)),ABS($Y$2:$Y$276-B117),0))","v":401},607.5,{"$f":"INDEX($Y$2:$Y$276,MATCH(MIN(ABS($Y$2:$Y$276-D117)),ABS($Y$2:$Y$276-D117),0))","v":607},850.5,{"$f":"INDEX($Y$2:$Y$276,MATCH(MIN(ABS($Y$2:$Y$276-F117)),ABS($Y$2:$Y$276-F117),0))","v":853},{"$f":"(B117/100)*(D117/100)*(F117/100)","v":209.25489375000001},207.62617099999997,"F",1,20.248324514991204,40.856445237182562,163.42578094873025,9.746458677163676E-2,51.667875000000009,20.188980070339998,40.962999844374067,163.85199937749627,9.7211057957878266E-2,51.777099999999997,null,null,null,641]
[4.2,420,{"$f":"INDEX($Y$2:$Y$276,MATCH(MIN(ABS($Y$2:$Y$276-B118)),ABS($Y$2:$Y$276-B118),0))","v":419},630,{"$f":"INDEX($Y$2:$Y$276,MATCH(MIN(ABS($Y$2:$Y$276-D118)),ABS($Y$2:$Y$276-D118),0))","v":631},882,{"$f":"INDEX($Y$2:$Y$276,MATCH(MIN(ABS($Y$2:$Y$276-F118)),ABS($Y$2:$Y$276-F118),0))","v":881},{"$f":"(B118/100)*(D118/100)*(F118/100)","v":233.37720000000002},232.92670900000002,"F",1,19.525170068027233,39.397286478711756,157.58914591484702,0.10107438628169738,55.566000000000003,19.547332576617503,39.42266884532426,157.69067538129704,0.10100930932970816,55.591099999999997,null,null,null,643]
[4.3499999999999996,434.99999999999994,{"$f":"INDEX($Y$2:$Y$276,MATCH(MIN(ABS($Y$2:$Y$276-B119)),ABS($Y$2:$Y$276-B119),0))","v":433},652.49999999999989,{"$f":"INDEX($Y$2:$Y$276,MATCH(MIN(ABS($Y$2:$Y$276-D119)),ABS($Y$2:$Y$276-D119),0))","v":653},913.49999999999989,{"$f":"INDEX($Y$2:$Y$276,MATCH(MIN(ABS($Y$2:$Y$276-F119)),ABS($Y$2:$Y$276-F119),0))","v":911},{"$f":"(B119/100)*(D119/100)*(F119/100)","v":259.28555624999984},257.584339,"F",1,18.851888341543535,38.038759358756188,152.15503743502475,0.10468418579175798,59.605874999999976,18.903622392974771,38.122318074911341,152.48927229964536,0.10445473289885367,59.488299999999995,null,null,null,647]
[4.5,450,{"$f":"INDEX($Y$2:$Y$276,MATCH(MIN(ABS($Y$2:$Y$276-B120)),ABS($Y$2:$Y$276-B120),0))","v":449},675,{"$f":"INDEX($Y$2:$Y$276,MATCH(MIN(ABS($Y$2:$Y$276-D120)),ABS($Y$2:$Y$276-D120),0))","v":673},945,{"$f":"INDEX($Y$2:$Y$276,MATCH(MIN(ABS($Y$2:$Y$276-F120)),ABS($Y$2:$Y$276-F120),0))","v":947},{"$f":"(B120/100)*(D120/100)*(F120/100)","v":287.04374999999999},286.16161900000009,"F",1,18.223492063492081,36.770800713464311,147.08320285385724,0.10829398530181863,63.787499999999994,18.185005279831064,36.808545572681254,147.23418229072502,0.10818293659925067,63.733100000000007,null,null,null,653]
["HEIGHT m","HEIGHT cm","PRIME height","WIDTH cm","PRIME width","DEPTH cm","PRIME depth","VOLUME","PRIME volume","TABLE","1=Yes 0=NO","F¹","F²","F³","minimum RT60","Floor area","F¹","F²","F³","minimum RT60","Floor area",null,null,null,659]
[{"$f":"A106","v":2.4},240,{"$f":"INDEX($Y$2:$Y$276,MATCH(MIN(ABS($Y$2:$Y$276-B122)),ABS($Y$2:$Y$276-B122),0))","v":239},{"$f":"B122*$D$10","v":360},{"$f":"INDEX($Y$2:$Y$276,MATCH(MIN(ABS($Y$2:$Y$276-D122)),ABS($Y$2:$Y$276-D122),0))","v":359},{"$f":"B122*$E$10","v":600},{"$f":"INDEX($Y$2:$Y$276,MATCH(MIN(ABS($Y$2:$Y$276-F122)),ABS($Y$2:$Y$276-F122),0))","v":599},{"$f":"(B122/100)*(D122/100)*(F122/100)","v":51.84},{"$f":"(C122/100)*(E122/100)*(G122/100)","v":51.394798999999999},"G",{"$f":"IF(H122>$K$22,$N$21,$O$21)","v":1},{"$f":"565/(F122*0.0328083989501312)","v":28.70200000000003},{"$f":"(SQRT(O122/(H122*35.3146667214885))*11250)","v":65.052519441498532},260.21007776599413,{"$f":"0.25*(((0.028316846592*H122)/100)^(1/3))","v":6.1212948955513574E-2},{"$f":"(D122/100)*(F122/100)","v":21.6},{"$f":"565/(G122*0.0328083989501312)","v":28.749916527545938},{"$f":"(SQRT(T122/(I122*35.3146667214885))*11250)","v":65.239816096887722},{"$f":"4*R122","v":260.95926438755089},{"$f":"0.25*(((0.028316846592*I122)/100)^(1/3))","v":6.1037213012468471E-2},{"$f":"(E122/100)*(G122/100)","v":21.504100000000001},null,null,null,661]
[2.5499999999999998,254.99999999999997,{"$f":"INDEX($Y$2:$Y$276,MATCH(MIN(ABS($Y$2:$Y$276-B123)),ABS($Y$2:$Y$276-B123),0))","v":257},382.49999999999994,{"$f":"INDEX($Y$2:$Y$276,MATCH(MIN(ABS($Y$2:$Y$276-D123)),ABS($Y$2:$Y$276-D123),0))","v":383},637.49999999999989,{"$f":"INDEX($Y$2:$Y$276,MATCH(MIN(ABS($Y$2:$Y$276-F123)),ABS($Y$2:$Y$276-F123),0))","v":641},{"$f":"(B123/100)*(D123/100)*(F123/100)","v":62.180156249999982},63.094270999999999,"G",1,27.013647058823565,61.225900650822169,244.90360260328868,6.5038758265233185E-2,24.384374999999991,26.866146645865861,60.928779206411242,{"$f":"4*R123","v":243.71511682564497},6.5355922174475348E-2,24.5503,null,null,null,673]
[2.7,270,{"$f":"INDEX($Y$2:$Y$276,MATCH(MIN(ABS($Y$2:$Y$276-B124)),ABS($Y$2:$Y$276-B124),0))","v":269},405,{"$f":"INDEX($Y$2:$Y$276,MATCH(MIN(ABS($Y$2:$Y$276-D124)),ABS($Y$2:$Y$276-D124),0))","v":401},675,{"$f":"INDEX($Y$2:$Y$276,MATCH(MIN(ABS($Y$2:$Y$276-F124)),ABS($Y$2:$Y$276-F124),0))","v":673},73.811250000000001,72.595837000000003,"G",1,25.512888888888916,57.82446172577648,231.29784690310592,6.8864567574952781E-2,27.337499999999999,25.588707280832125,58.145380005603464,232.58152002241386,6.8484487531361146E-2,26.987300000000001,null,null,null,677]
[2.85,285,{"$f":"INDEX($Y$2:$Y$276,MATCH(MIN(ABS($Y$2:$Y$276-B125)),ABS($Y$2:$Y$276-B125),0))","v":283},427.5,{"$f":"INDEX($Y$2:$Y$276,MATCH(MIN(ABS($Y$2:$Y$276-D125)),ABS($Y$2:$Y$276-D125),0))","v":431},712.5,{"$f":"INDEX($Y$2:$Y$276,MATCH(MIN(ABS($Y$2:$Y$276-F125)),ABS($Y$2:$Y$276-F125),0))","v":709},86.809218750000014,86.478856999999991,"G",1,24.170105263157922,54.781069003367193,219.12427601346877,7.2690376884672378E-2,30.459375000000001,24.289421720733451,54.850737567924767,219.40295027169907,7.2598049334683973E-2,30.557899999999997,null,null,null,683]
[3,300,{"$f":"INDEX($Y$2:$Y$276,MATCH(MIN(ABS($Y$2:$Y$276-B126)),ABS($Y$2:$Y$276-B126),0))","v":293},450,{"$f":"INDEX($Y$2:$Y$276,MATCH(MIN(ABS($Y$2:$Y$276-D126)),ABS($Y$2:$Y$276-D126),0))","v":449},750,{"$f":"INDEX($Y$2:$Y$276,MATCH(MIN(ABS($Y$2:$Y$276-F126)),ABS($Y$2:$Y$276-F126),0))","v":751},101.25,98.799307000000013,"G",1,22.961600000000026,52.042015553198837,208.16806221279535,7.6516186194391989E-2,33.75,22.931025299600559,52.468802535469678,209.87521014187871,7.5893795161573879E-2,33.719900000000003,null,null,null,691]
[3.2,320,{"$f":"INDEX($Y$2:$Y$276,MATCH(MIN(ABS($Y$2:$Y$276-B127)),ABS($Y$2:$Y$276-B127),0))","v":317},480,{"$f":"INDEX($Y$2:$Y$276,MATCH(MIN(ABS($Y$2:$Y$276-D127)),ABS($Y$2:$Y$276-D127),0))","v":479},800,{"$f":"INDEX($Y$2:$Y$276,MATCH(MIN(ABS($Y$2:$Y$276-F127)),ABS($Y$2:$Y$276-F127),0))","v":797},122.88,121.018871,"G",1,21.526500000000024,48.789389581123906,195.15755832449562,8.1617265274018108E-2,38.4,21.607528230865768,49.038226258677383,196.15290503470953,8.1203111446050205E-2,38.176299999999998,null,null,null,701]
[3.3,330,{"$f":"INDEX($Y$2:$Y$276,MATCH(MIN(ABS($Y$2:$Y$276-B128)),ABS($Y$2:$Y$276-B128),0))","v":331},495,{"$f":"INDEX($Y$2:$Y$276,MATCH(MIN(ABS($Y$2:$Y$276-D128)),ABS($Y$2:$Y$276-D128),0))","v":491},825,{"$f":"INDEX($Y$2:$Y$276,MATCH(MIN(ABS($Y$2:$Y$276-F128)),ABS($Y$2:$Y$276-F128),0))","v":823},134.76375000000002,133.75478300000003,"G",1,20.874181818181842,47.310923230180762,189.24369292072305,8.4167804813831196E-2,40.837499999999999,20.92490886998787,47.429587228831565,189.71834891532626,8.3957225534937549E-2,40.409300000000002,null,null,null,709]
[3.4,340,{"$f":"INDEX($Y$2:$Y$276,MATCH(MIN(ABS($Y$2:$Y$276-B129)),ABS($Y$2:$Y$276-B129),0))","v":337},510,{"$f":"INDEX($Y$2:$Y$276,MATCH(MIN(ABS($Y$2:$Y$276-D129)),ABS($Y$2:$Y$276-D129),0))","v":509},850,{"$f":"INDEX($Y$2:$Y$276,MATCH(MIN(ABS($Y$2:$Y$276-F129)),ABS($Y$2:$Y$276-F129),0))","v":853},147.38999999999999,146.31764899999999,"G",1,20.26023529411767,45.919425488116623,183.67770195246649,8.6718344353644242E-2,43.349999999999994,20.188980070339998,46.031332546179961,184.12533018471984,8.6507522848813745E-2,43.417699999999996,null,null,null,719]
[3.6,360,{"$f":"INDEX($Y$2:$Y$276,MATCH(MIN(ABS($Y$2:$Y$276-B130)),ABS($Y$2:$Y$276-B130),0))","v":359},540,{"$f":"INDEX($Y$2:$Y$276,MATCH(MIN(ABS($Y$2:$Y$276-D130)),ABS($Y$2:$Y$276-D130),0))","v":541},900,{"$f":"INDEX($Y$2:$Y$276,MATCH(MIN(ABS($Y$2:$Y$276-F130)),ABS($Y$2:$Y$276-F130),0))","v":907},174.96,176.156633,"G",1,19.134666666666686,43.368346294332369,173.47338517732948,9.1819423433270389E-2,48.6,18.986990077177531,43.269922619029266,173.07969047611707,9.2028279945404273E-2,49.0687,null,null,null,727]
[3.75,375,{"$f":"INDEX($Y$2:$Y$276,MATCH(MIN(ABS($Y$2:$Y$276-B131)),ABS($Y$2:$Y$276-B131),0))","v":373},562.5,{"$f":"INDEX($Y$2:$Y$276,MATCH(MIN(ABS($Y$2:$Y$276-D131)),ABS($Y$2:$Y$276-D131),0))","v":563},937.5,{"$f":"INDEX($Y$2:$Y$276,MATCH(MIN(ABS($Y$2:$Y$276-F131)),ABS($Y$2:$Y$276-F131),0))","v":937},197.75390625,196.76906299999999,"G",1,18.369280000000021,41.63361244255907,166.53444977023628,9.5645232742989972E-2,52.734375,18.379082177161173,41.702956617213154,166.81182646885262,9.548619270693115E-2,52.753099999999996,null,null,null,733]
[3.9,390,{"$f":"INDEX($Y$2:$Y$276,MATCH(MIN(ABS($Y$2:$Y$276-B132)),ABS($Y$2:$Y$276-B132),0))","v":389},585,{"$f":"INDEX($Y$2:$Y$276,MATCH(MIN(ABS($Y$2:$Y$276-D132)),ABS($Y$2:$Y$276-D132),0))","v":587},975,{"$f":"INDEX($Y$2:$Y$276,MATCH(MIN(ABS($Y$2:$Y$276-F132)),ABS($Y$2:$Y$276-F132),0))","v":977},222.44624999999996,223.09111100000001,"G",1,17.66276923076925,40.032319656306797,160.12927862522719,9.9471042052709568E-2,57.037499999999994,17.626612077789169,39.993710325739677,159.97484130295871,9.9567069910919986E-2,57.349899999999998,null,null,null,739]
[4.05,405,{"$f":"INDEX($Y$2:$Y$276,MATCH(MIN(ABS($Y$2:$Y$276-B133)),ABS($Y$2:$Y$276-B133),0))","v":401},607.5,{"$f":"INDEX($Y$2:$Y$276,MATCH(MIN(ABS($Y$2:$Y$276-D133)),ABS($Y$2:$Y$276-D133),0))","v":607},1012.5,{"$f":"INDEX($Y$2:$Y$276,MATCH(MIN(ABS($Y$2:$Y$276-F133)),ABS($Y$2:$Y$276-F133),0))","v":1013},{"$f":"(B133/100)*(D133/100)*(F133/100)","v":249.11296874999999},246.571291,"G",1,17.00859259259261,38.549641150517651,154.1985646020706,0.10329685136242917,61.509374999999999,17.000197433366257,38.681646266149606,154.72658506459842,0.10294434018142375,61.489100000000008,null,null,null,743]
[4.2,420,{"$f":"INDEX($Y$2:$Y$276,MATCH(MIN(ABS($Y$2:$Y$276-B134)),ABS($Y$2:$Y$276-B134),0))","v":419},630,{"$f":"INDEX($Y$2:$Y$276,MATCH(MIN(ABS($Y$2:$Y$276-D134)),ABS($Y$2:$Y$276-D134),0))","v":631},1050,{"$f":"INDEX($Y$2:$Y$276,MATCH(MIN(ABS($Y$2:$Y$276-F134)),ABS($Y$2:$Y$276-F134),0))","v":1049},{"$f":"(B134/100)*(D134/100)*(F134/100)","v":277.83},277.34406100000001,"G",1,16.401142857142876,37.172868252284886,148.69147300913954,0.10712266067214878,66.149999999999991,16.416777883698778,37.194565978796795,148.77826391518718,0.10706016987185772,66.191900000000004,null,null,null,751]
[4.3499999999999996,434.99999999999994,{"$f":"INDEX($Y$2:$Y$276,MATCH(MIN(ABS($Y$2:$Y$276-B135)),ABS($Y$2:$Y$276-B135),0))","v":433},652.49999999999989,{"$f":"INDEX($Y$2:$Y$276,MATCH(MIN(ABS($Y$2:$Y$276-D135)),ABS($Y$2:$Y$276-D135),0))","v":653},1087.4999999999998,{"$f":"INDEX($Y$2:$Y$276,MATCH(MIN(ABS($Y$2:$Y$276-F135)),ABS($Y$2:$Y$276-F135),0))","v":1087},{"$f":"(B135/100)*(D135/100)*(F135/100)","v":308.67328124999989},307.348163,"G",1,15.835586206896574,35.89104520910265,143.5641808364106,0.11094846998186836,70.959374999999966,15.842870285188608,35.94255215052376,143.77020860209504,0.1107894769220493,70.981099999999998,null,null,null,757]
[4.5,450,{"$f":"INDEX($Y$2:$Y$276,MATCH(MIN(ABS($Y$2:$Y$276-B136)),ABS($Y$2:$Y$276-B136),0))","v":449},675,{"$f":"INDEX($Y$2:$Y$276,MATCH(MIN(ABS($Y$2:$Y$276-D136)),ABS($Y$2:$Y$276-D136),0))","v":673},1125,{"$f":"INDEX($Y$2:$Y$276,MATCH(MIN(ABS($Y$2:$Y$276-F136)),ABS($Y$2:$Y$276-F136),0))","v":1123},{"$f":"(B136/100)*(D136/100)*(F136/100)","v":341.71875},339.34477100000004,"G",1,15.307733333333349,34.694677035465887,138.77870814186355,0.11477427929158797,75.9375,15.334995547640267,34.775394462205881,139.10157784882352,0.11450787585825173,75.577900000000014,null,null,null,761]
["HEIGHT m","HEIGHT cm","PRIME height","WIDTH cm","PRIME width","DEPTH cm","PRIME depth","VOLUME","PRIME volume","TABLE","1=Yes 0=NO","F¹","F²","F³","minimum RT60","Floor area","F¹","F²","F³","minimum RT60","Floor area",null,null,null,769]
[2.4,{"$f":"A138*100","v":240},{"$f":"INDEX($Y$2:$Y$276,MATCH(MIN(ABS($Y$2:$Y$276-B138)),ABS($Y$2:$Y$276-B138),0))","v":239},{"$f":"B138*$D$11","v":302.39999999999998},{"$f":"INDEX($Y$2:$Y$276,MATCH(MIN(ABS($Y$2:$Y$276-D138)),ABS($Y$2:$Y$276-D138),0))","v":307},{"$f":"B138*$E$11","v":381.6},{"$f":"INDEX($Y$2:$Y$276,MATCH(MIN(ABS($Y$2:$Y$276-F138)),ABS($Y$2:$Y$276-F138),0))","v":383},{"$f":"(B138/100)*(D138/100)*(F138/100)","v":27.695001599999994},{"$f":"(C138/100)*(E138/100)*(G138/100)","v":28.101859000000001},"H",{"$f":"IF(H138>$K$22,$N$21,$O$21)","v":0},{"$f":"565/(F138*0.0328083989501312)","v":45.128930817610112},{"$f":"(SQRT(O138/(H138*35.3146667214885))*11250)","v":80.171249800826516},{"$f":"4*M138","v":320.68499920330606},{"$f":"0.25*(((0.028316846592*H138)/100)^(1/3))","v":4.9669383499606527E-2},{"$f":"(D138/100)*(F138/100)","v":11.539584},{"$f":"565/(G138*0.0328083989501312)","v":44.963968668407361},{"$f":"(SQRT(T138/(I138*35.3146667214885))*11250)","v":79.782462235987708},{"$f":"4*R138","v":319.12984894395083},{"$f":"0.25*(((0.028316846592*I138)/100)^(1/3))","v":4.9911427153269877E-2},{"$f":"(E138/100)*(G138/100)","v":11.758099999999999},null,null,null,773]
[2.5499999999999998,254.99999999999997,{"$f":"INDEX($Y$2:$Y$276,MATCH(MIN(ABS($Y$2:$Y$276-B139)),ABS($Y$2:$Y$276-B139),0))","v":257},321.29999999999995,{"$f":"INDEX($Y$2:$Y$276,MATCH(MIN(ABS($Y$2:$Y$276-D139)),ABS($Y$2:$Y$276-D139),0))","v":317},405.45,{"$f":"INDEX($Y$2:$Y$276,MATCH(MIN(ABS($Y$2:$Y$276-F139)),ABS($Y$2:$Y$276-F139),0))","v":409},{"$f":"(B139/100)*(D139/100)*(F139/100)","v":33.219126674999998},33.320820999999995,"H",0,42.47428782833893,75.455293930189654,301.82117572075862,5.2773719968331932E-2,13.027108499999999,42.105623471882687,75.378453138819893,{"$f":"4*R139","v":301.51381255527957},5.2827517495835266E-2,12.965299999999999,null,null,null,787]
[2.7,270,{"$f":"INDEX($Y$2:$Y$276,MATCH(MIN(ABS($Y$2:$Y$276-B140)),ABS($Y$2:$Y$276-B140),0))","v":269},340.2,{"$f":"INDEX($Y$2:$Y$276,MATCH(MIN(ABS($Y$2:$Y$276-D140)),ABS($Y$2:$Y$276-D140),0))","v":337},429.3,{"$f":"INDEX($Y$2:$Y$276,MATCH(MIN(ABS($Y$2:$Y$276-F140)),ABS($Y$2:$Y$276-F140),0))","v":431},39.4329222,39.071443000000002,"H",0,40.114605171208986,71.26333315629023,285.05333262516092,5.5878056437057351E-2,14.604785999999999,39.95638051044088,71.48242903266221,285.92971613064884,5.5706788449795111E-2,14.524699999999999,null,null,null,797]
[2.85,285,{"$f":"INDEX($Y$2:$Y$276,MATCH(MIN(ABS($Y$2:$Y$276-B141)),ABS($Y$2:$Y$276-B141),0))","v":283},359.1,{"$f":"INDEX($Y$2:$Y$276,MATCH(MIN(ABS($Y$2:$Y$276-D141)),ABS($Y$2:$Y$276-D141),0))","v":359},453.15000000000003,{"$f":"INDEX($Y$2:$Y$276,MATCH(MIN(ABS($Y$2:$Y$276-F141)),ABS($Y$2:$Y$276-F141),0))","v":457},46.37695702500001,46.429828999999998,"H",1,38.003310162197984,67.512631411222316,270.05052564488926,5.898239290578277E-2,16.272616500000002,37.683150984682754,67.486995004428636,269.94798001771454,5.9004798654002821E-2,16.406300000000002,null,null,null,809]
[3,300,{"$f":"INDEX($Y$2:$Y$276,MATCH(MIN(ABS($Y$2:$Y$276-B142)),ABS($Y$2:$Y$276-B142),0))","v":293},378,{"$f":"INDEX($Y$2:$Y$276,MATCH(MIN(ABS($Y$2:$Y$276-D142)),ABS($Y$2:$Y$276-D142),0))","v":379},477,{"$f":"INDEX($Y$2:$Y$276,MATCH(MIN(ABS($Y$2:$Y$276-F142)),ABS($Y$2:$Y$276-F142),0))","v":479},54.091799999999992,53.191513000000008,"H",1,36.103144654088091,64.136999840661204,256.54799936264482,6.2086729374508168E-2,18.030599999999996,35.952400835073107,64.496825221610607,257.98730088644243,6.1740349828347224E-2,18.1541,null,null,null,811]
[3.2,320,{"$f":"INDEX($Y$2:$Y$276,MATCH(MIN(ABS($Y$2:$Y$276-B143)),ABS($Y$2:$Y$276-B143),0))","v":317},403.2,{"$f":"INDEX($Y$2:$Y$276,MATCH(MIN(ABS($Y$2:$Y$276-D143)),ABS($Y$2:$Y$276-D143),0))","v":401},508.8,{"$f":"INDEX($Y$2:$Y$276,MATCH(MIN(ABS($Y$2:$Y$276-F143)),ABS($Y$2:$Y$276-F143),0))","v":509},65.647411200000008,64.702552999999995,"H",1,33.846698113207587,60.128437350619876,240.5137494024795,6.6225844666142036E-2,20.514816,33.833398821218111,60.419711385633171,241.67884554253268,6.5906580165274925E-2,20.410899999999998,null,null,null,821]
[3.3,330,{"$f":"INDEX($Y$2:$Y$276,MATCH(MIN(ABS($Y$2:$Y$276-B144)),ABS($Y$2:$Y$276-B144),0))","v":331},415.8,{"$f":"INDEX($Y$2:$Y$276,MATCH(MIN(ABS($Y$2:$Y$276-D144)),ABS($Y$2:$Y$276-D144),0))","v":419},524.70000000000005,{"$f":"INDEX($Y$2:$Y$276,MATCH(MIN(ABS($Y$2:$Y$276-F144)),ABS($Y$2:$Y$276-F144),0))","v":523},71.996185800000021,72.534347000000011,"H",1,32.821040594625529,58.306363491510169,233.22545396604067,6.8295402311958978E-2,21.817026000000006,32.927724665392006,58.161806014886253,232.64722405954501,6.846514619887864E-2,21.913700000000002,null,null,null,823]
[3.4,340,{"$f":"INDEX($Y$2:$Y$276,MATCH(MIN(ABS($Y$2:$Y$276-B145)),ABS($Y$2:$Y$276-B145),0))","v":337},428.4,{"$f":"INDEX($Y$2:$Y$276,MATCH(MIN(ABS($Y$2:$Y$276-D145)),ABS($Y$2:$Y$276-D145),0))","v":431},540.6,{"$f":"INDEX($Y$2:$Y$276,MATCH(MIN(ABS($Y$2:$Y$276-F145)),ABS($Y$2:$Y$276-F145),0))","v":541},78.7416336,78.578626999999997,"H",1,31.855715871254194,56.591470447642244,226.36588179056898,7.0364959957775933E-2,23.159304000000002,31.832162661737556,56.630575278597426,226.52230111438971,7.0316371190122032E-2,23.3171,null,null,null,827]
[3.6,360,{"$f":"INDEX($Y$2:$Y$276,MATCH(MIN(ABS($Y$2:$Y$276-B146)),ABS($Y$2:$Y$276-B146),0))","v":359},453.6,{"$f":"INDEX($Y$2:$Y$276,MATCH(MIN(ABS($Y$2:$Y$276-D146)),ABS($Y$2:$Y$276-D146),0))","v":457},572.4,{"$f":"INDEX($Y$2:$Y$276,MATCH(MIN(ABS($Y$2:$Y$276-F146)),ABS($Y$2:$Y$276-F146),0))","v":571},93.470630400000019,93.679973000000004,"H",1,30.085953878406741,53.447499867217665,213.78999946887066,7.4504075249409801E-2,25.964064000000004,30.159719789842416,53.40765789959562,213.63063159838248,7.4559655087031163E-2,26.094700000000003,null,null,null,829]
[3.75,375,{"$f":"INDEX($Y$2:$Y$276,MATCH(MIN(ABS($Y$2:$Y$276-B147)),ABS($Y$2:$Y$276-B147),0))","v":373},472.5,{"$f":"INDEX($Y$2:$Y$276,MATCH(MIN(ABS($Y$2:$Y$276-D147)),ABS($Y$2:$Y$276-D147),0))","v":467},596.25,{"$f":"INDEX($Y$2:$Y$276,MATCH(MIN(ABS($Y$2:$Y$276-F147)),ABS($Y$2:$Y$276-F147),0))","v":599},105.64804687500001,104.34040900000001,"H",1,28.882515723270473,51.309599872528956,205.23839949011582,7.7608411718135206E-2,28.172812499999999,28.749916527545938,51.523055129616118,206.09222051846447,7.728688723877844E-2,27.973300000000002,null,null,null,839]
[3.9,390,{"$f":"INDEX($Y$2:$Y$276,MATCH(MIN(ABS($Y$2:$Y$276-B148)),ABS($Y$2:$Y$276-B148),0))","v":389},491.4,{"$f":"INDEX($Y$2:$Y$276,MATCH(MIN(ABS($Y$2:$Y$276-D148)),ABS($Y$2:$Y$276-D148),0))","v":491},620.1,{"$f":"INDEX($Y$2:$Y$276,MATCH(MIN(ABS($Y$2:$Y$276-F148)),ABS($Y$2:$Y$276-F148),0))","v":619},118.83968460000001,118.22838100000001,"H",1,27.771649733913915,49.336153723585532,197.34461489434213,8.0712748186860611E-2,30.471714000000002,27.821001615508912,49.421038974026644,197.68415589610657,8.0574116503151341E-2,30.392900000000004,null,null,null,853]
[4.05,405,{"$f":"INDEX($Y$2:$Y$276,MATCH(MIN(ABS($Y$2:$Y$276-B149)),ABS($Y$2:$Y$276-B149),0))","v":401},510.3,{"$f":"INDEX($Y$2:$Y$276,MATCH(MIN(ABS($Y$2:$Y$276-D149)),ABS($Y$2:$Y$276-D149),0))","v":509},643.95000000000005,{"$f":"INDEX($Y$2:$Y$276,MATCH(MIN(ABS($Y$2:$Y$276-F149)),ABS($Y$2:$Y$276-F149),0))","v":643},{"$f":"(B149/100)*(D149/100)*(F149/100)","v":133.08611242500001},131.24208699999997,"H",1,26.743070114139325,47.508888770860146,190.03555508344058,8.381708465558603E-2,32.860768499999999,26.782581648522577,47.730363608876488,190.92145443550595,8.3428162932734418E-2,32.728699999999996,null,null,null,857]
[4.2,420,{"$f":"INDEX($Y$2:$Y$276,MATCH(MIN(ABS($Y$2:$Y$276-B150)),ABS($Y$2:$Y$276-B150),0))","v":419},529.20000000000005,{"$f":"INDEX($Y$2:$Y$276,MATCH(MIN(ABS($Y$2:$Y$276-D150)),ABS($Y$2:$Y$276-D150),0))","v":523},667.80000000000007,{"$f":"INDEX($Y$2:$Y$276,MATCH(MIN(ABS($Y$2:$Y$276-F150)),ABS($Y$2:$Y$276-F150),0))","v":673},{"$f":"(B150/100)*(D150/100)*(F150/100)","v":148.42789920000004},147.47920100000002,"H",1,25.787960467205775,45.812142743329431,183.24857097331773,8.6921421124311435E-2,35.339976000000007,25.588707280832125,45.91016568574026,183.64066274296104,8.6735834918514262E-2,35.197900000000004,null,null,null,859]
[4.3499999999999996,434.99999999999994,{"$f":"INDEX($Y$2:$Y$276,MATCH(MIN(ABS($Y$2:$Y$276-B151)),ABS($Y$2:$Y$276-B151),0))","v":433},548.09999999999991,{"$f":"INDEX($Y$2:$Y$276,MATCH(MIN(ABS($Y$2:$Y$276-D151)),ABS($Y$2:$Y$276-D151),0))","v":547},691.65,{"$f":"INDEX($Y$2:$Y$276,MATCH(MIN(ABS($Y$2:$Y$276-F151)),ABS($Y$2:$Y$276-F151),0))","v":691},{"$f":"(B151/100)*(D151/100)*(F151/100)","v":164.90561377499995},163.664041,"H",1,24.898720451095237,44.232413683214624,176.92965473285849,9.0025757593036826E-2,37.909336499999995,24.92214182344431,44.343982626402138,177.37593050560855,8.9799253836733942E-2,37.797699999999999,null,null,null,863]
[4.5,450,{"$f":"INDEX($Y$2:$Y$276,MATCH(MIN(ABS($Y$2:$Y$276-B152)),ABS($Y$2:$Y$276-B152),0))","v":449},567,{"$f":"INDEX($Y$2:$Y$276,MATCH(MIN(ABS($Y$2:$Y$276-D152)),ABS($Y$2:$Y$276-D152),0))","v":569},715.5,{"$f":"INDEX($Y$2:$Y$276,MATCH(MIN(ABS($Y$2:$Y$276-F152)),ABS($Y$2:$Y$276-F152),0))","v":719},{"$f":"(B152/100)*(D152/100)*(F152/100)","v":182.55982500000002},183.69083900000001,"H",1,24.068763102725395,42.757999893774134,171.03199957509653,9.3130094061762245E-2,40.568849999999998,23.951599443671789,42.670063208267941,170.68025283307176,9.3322021403249855E-2,40.911100000000005,null,null,null,877]
["HEIGHT m","HEIGHT cm","PRIME height","WIDTH cm","PRIME width","DEPTH cm","PRIME depth","VOLUME","PRIME volume","TABLE","1=Yes 0=NO","F¹","F²","F³","minimum RT60","Floor area","F¹","F²","F³","minimum RT60","Floor area",null,null,null,881]
[2.4,{"$f":"A154*100","v":240},{"$f":"INDEX($Y$2:$Y$276,MATCH(MIN(ABS($Y$2:$Y$276-B154)),ABS($Y$2:$Y$276-B154),0))","v":239},{"$f":"B154*$D$12","v":470.4},{"$f":"INDEX($Y$2:$Y$276,MATCH(MIN(ABS($Y$2:$Y$276-D154)),ABS($Y$2:$Y$276-D154),0))","v":467},{"$f":"B154*$E$12","v":621.59999999999991},{"$f":"INDEX($Y$2:$Y$276,MATCH(MIN(ABS($Y$2:$Y$276-F154)),ABS($Y$2:$Y$276-F154),0))","v":619},{"$f":"(B154/100)*(D154/100)*(F154/100)","v":70.176153599999978},{"$f":"(C154/100)*(E154/100)*(G154/100)","v":69.088447000000002},"I",{"$f":"IF(H154>$K$22,$N$21,$O$21)","v":1},{"$f":"565/(F154*0.0328083989501312)","v":27.70463320463324},{"$f":"(SQRT(O154/(H154*35.3146667214885))*11250)","v":58.80612985643625},{"$f":"4*M154","v":235.224519425745},{"$f":"0.25*(((0.028316846592*H154)/100)^(1/3))","v":6.7714990966442165E-2},{"$f":"(D154/100)*(F154/100)","v":29.240063999999997},{"$f":"565/(G154*0.0328083989501312)","v":27.821001615508912},{"$f":"(SQRT(T154/(I154*35.3146667214885))*11250)","v":59.113132683985299},{"$f":"4*R154","v":236.4525307359412},{"$f":"0.25*(((0.028316846592*I154)/100)^(1/3))","v":6.7363314566456889E-2},{"$f":"(E154/100)*(G154/100)","v":28.907300000000003},null,null,null,883]
[2.5499999999999998,254.99999999999997,{"$f":"INDEX($Y$2:$Y$276,MATCH(MIN(ABS($Y$2:$Y$276-B155)),ABS($Y$2:$Y$276-B155),0))","v":257},499.79999999999995,{"$f":"INDEX($Y$2:$Y$276,MATCH(MIN(ABS($Y$2:$Y$276-D155)),ABS($Y$2:$Y$276-D155),0))","v":499},660.44999999999993,{"$f":"INDEX($Y$2:$Y$276,MATCH(MIN(ABS($Y$2:$Y$276-F155)),ABS($Y$2:$Y$276-F155),0))","v":661},{"$f":"(B155/100)*(D155/100)*(F155/100)","v":84.173692049999971},84.768623000000005,"I",1,26.07494889847834,55.346945747234116,221.38778298893646,7.1947177901844808E-2,33.00929099999999,26.053252647503811,55.21716130785137,{"$f":"4*R155","v":220.86864523140548},7.2116285185305135E-2,32.983900000000006,null,null,null,887]
[2.7,270,{"$f":"INDEX($Y$2:$Y$276,MATCH(MIN(ABS($Y$2:$Y$276-B156)),ABS($Y$2:$Y$276-B156),0))","v":269},529.20000000000005,{"$f":"INDEX($Y$2:$Y$276,MATCH(MIN(ABS($Y$2:$Y$276-D156)),ABS($Y$2:$Y$276-D156),0))","v":523},699.3,{"$f":"INDEX($Y$2:$Y$276,MATCH(MIN(ABS($Y$2:$Y$276-F156)),ABS($Y$2:$Y$276-F156),0))","v":701},99.918781200000012,98.621587000000005,"I",1,24.626340626340653,52.272115427943326,209.08846171177331,7.6179364837247465E-2,37.006956000000002,24.566619115549241,52.500300575192767,210.00120230077107,7.5848261978934101E-2,36.662300000000002,null,null,null,907]
[2.85,285,{"$f":"INDEX($Y$2:$Y$276,MATCH(MIN(ABS($Y$2:$Y$276-B157)),ABS($Y$2:$Y$276-B157),0))","v":283},558.6,{"$f":"INDEX($Y$2:$Y$276,MATCH(MIN(ABS($Y$2:$Y$276-D157)),ABS($Y$2:$Y$276-D157),0))","v":557},738.15,{"$f":"INDEX($Y$2:$Y$276,MATCH(MIN(ABS($Y$2:$Y$276-F157)),ABS($Y$2:$Y$276-F157),0))","v":739},117.51421815,116.48930900000001,"I",1,23.33021743548062,49.520951458051577,198.08380583220631,8.0411551772650094E-2,41.233059000000004,23.303382949932367,49.665761165820868,198.66304466328347,8.0177097028775415E-2,41.162300000000002,null,null,null,911]
[3,300,{"$f":"INDEX($Y$2:$Y$276,MATCH(MIN(ABS($Y$2:$Y$276-B158)),ABS($Y$2:$Y$276-B158),0))","v":293},588,{"$f":"INDEX($Y$2:$Y$276,MATCH(MIN(ABS($Y$2:$Y$276-D158)),ABS($Y$2:$Y$276-D158),0))","v":587},777,{"$f":"INDEX($Y$2:$Y$276,MATCH(MIN(ABS($Y$2:$Y$276-F158)),ABS($Y$2:$Y$276-F158),0))","v":773},137.06280000000001,132.94904300000002,"I",1,22.163706563706587,47.044903885148983,188.17961554059593,8.464373870805271E-2,45.687599999999996,22.278395860284629,47.525210260794367,190.10084104317747,8.3788299518265968E-2,45.375100000000003,null,null,null,919]
[3.2,320,{"$f":"INDEX($Y$2:$Y$276,MATCH(MIN(ABS($Y$2:$Y$276-B159)),ABS($Y$2:$Y$276-B159),0))","v":317},627.20000000000005,{"$f":"INDEX($Y$2:$Y$276,MATCH(MIN(ABS($Y$2:$Y$276-D159)),ABS($Y$2:$Y$276-D159),0))","v":631},828.8,{"$f":"INDEX($Y$2:$Y$276,MATCH(MIN(ABS($Y$2:$Y$276-F159)),ABS($Y$2:$Y$276-F159),0))","v":829},166.34347520000003,165.82238299999997,"I",1,20.778474903474926,44.104597392327186,176.41838956930874,9.028665462192291E-2,51.982336000000004,20.773462002412568,44.150748237972707,176.60299295189083,9.0192277841741317E-2,52.309899999999992,null,null,null,929]
[3.3,330,{"$f":"INDEX($Y$2:$Y$276,MATCH(MIN(ABS($Y$2:$Y$276-B160)),ABS($Y$2:$Y$276-B160),0))","v":331},646.79999999999995,{"$f":"INDEX($Y$2:$Y$276,MATCH(MIN(ABS($Y$2:$Y$276-D160)),ABS($Y$2:$Y$276-D160),0))","v":647},854.69999999999993,{"$f":"INDEX($Y$2:$Y$276,MATCH(MIN(ABS($Y$2:$Y$276-F160)),ABS($Y$2:$Y$276-F160),0))","v":853},182.43058679999999,182.67592099999999,"I",1,20.148824148824172,42.768094441044546,171.07237776417819,9.3108112578857996E-2,55.281995999999992,20.188980070339998,42.748939979187099,170.9957599167484,9.3149831409591058E-2,55.189099999999996,null,null,null,937]
[3.4,340,{"$f":"INDEX($Y$2:$Y$276,MATCH(MIN(ABS($Y$2:$Y$276-B161)),ABS($Y$2:$Y$276-B161),0))","v":337},666.4,{"$f":"INDEX($Y$2:$Y$276,MATCH(MIN(ABS($Y$2:$Y$276-D161)),ABS($Y$2:$Y$276-D161),0))","v":661},880.59999999999991,{"$f":"INDEX($Y$2:$Y$276,MATCH(MIN(ABS($Y$2:$Y$276-F161)),ABS($Y$2:$Y$276-F161),0))","v":881},199.52282559999998,196.24891700000001,"I",1,19.556211673858758,41.510209310425587,166.04083724170235,9.5929570535793068E-2,58.68318399999999,19.547332576617503,41.739767843918038,166.95907137567215,9.5401981316487749E-2,58.234100000000005,null,null,null,941]
[3.6,360,{"$f":"INDEX($Y$2:$Y$276,MATCH(MIN(ABS($Y$2:$Y$276-B162)),ABS($Y$2:$Y$276-B162),0))","v":359},705.6,{"$f":"INDEX($Y$2:$Y$276,MATCH(MIN(ABS($Y$2:$Y$276-D162)),ABS($Y$2:$Y$276-D162),0))","v":709},932.4,{"$f":"INDEX($Y$2:$Y$276,MATCH(MIN(ABS($Y$2:$Y$276-F162)),ABS($Y$2:$Y$276-F162),0))","v":929},236.84451840000003,236.45929899999996,"I",1,18.469755469755491,39.204086570957493,156.81634628382997,0.10157248644966325,65.790143999999998,18.537351991388611,39.22536434282592,156.90145737130368,0.10151738852435413,65.866099999999989,null,null,null,947]
[3.75,375,{"$f":"INDEX($Y$2:$Y$276,MATCH(MIN(ABS($Y$2:$Y$276-B163)),ABS($Y$2:$Y$276-B163),0))","v":373},735,{"$f":"INDEX($Y$2:$Y$276,MATCH(MIN(ABS($Y$2:$Y$276-D163)),ABS($Y$2:$Y$276-D163),0))","v":733},971.25,{"$f":"INDEX($Y$2:$Y$276,MATCH(MIN(ABS($Y$2:$Y$276-F163)),ABS($Y$2:$Y$276-F163),0))","v":971},267.70078125000003,265.48013900000001,"I",1,17.730965250965269,37.635923108119194,150.54369243247677,0.1058046733850659,71.386875000000003,17.735530381050484,37.740568689817017,150.96227475926807,0.10551130229986243,71.174300000000002,null,null,null,953]
[3.9,390,{"$f":"INDEX($Y$2:$Y$276,MATCH(MIN(ABS($Y$2:$Y$276-B164)),ABS($Y$2:$Y$276-B164),0))","v":389},764.4,{"$f":"INDEX($Y$2:$Y$276,MATCH(MIN(ABS($Y$2:$Y$276-D164)),ABS($Y$2:$Y$276-D164),0))","v":761},1010.0999999999999,{"$f":"INDEX($Y$2:$Y$276,MATCH(MIN(ABS($Y$2:$Y$276-F164)),ABS($Y$2:$Y$276-F164),0))","v":1009},301.12697159999993,298.69326100000001,"I",1,17.049005049005068,36.188387603960763,144.75355041584305,0.11003686032046853,77.212043999999992,17.067591674925687,36.286407826603543,145.14563130641417,0.1097396185102826,76.784900000000007,null,null,null,967]
[4.05,405,{"$f":"INDEX($Y$2:$Y$276,MATCH(MIN(ABS($Y$2:$Y$276-B165)),ABS($Y$2:$Y$276-B165),0))","v":401},793.8,{"$f":"INDEX($Y$2:$Y$276,MATCH(MIN(ABS($Y$2:$Y$276-D165)),ABS($Y$2:$Y$276-D165),0))","v":797},1048.95,{"$f":"INDEX($Y$2:$Y$276,MATCH(MIN(ABS($Y$2:$Y$276-F165)),ABS($Y$2:$Y$276-F165),0))","v":1049},{"$f":"(B165/100)*(D165/100)*(F165/100)","v":337.22588654999998},335.25725299999999,"I",1,16.417560417560434,34.84807695196222,139.39230780784888,0.11426904725587117,83.265650999999991,16.416777883698778,34.916153282249503,139.66461312899801,0.11404625589223723,83.6053,null,null,null,971]
[4.2,420,{"$f":"INDEX($Y$2:$Y$276,MATCH(MIN(ABS($Y$2:$Y$276-B166)),ABS($Y$2:$Y$276-B166),0))","v":419},823.19999999999993,{"$f":"INDEX($Y$2:$Y$276,MATCH(MIN(ABS($Y$2:$Y$276-D166)),ABS($Y$2:$Y$276-D166),0))","v":823},1087.8,{"$f":"INDEX($Y$2:$Y$276,MATCH(MIN(ABS($Y$2:$Y$276-F166)),ABS($Y$2:$Y$276-F166),0))","v":1087},{"$f":"(B166/100)*(D166/100)*(F166/100)","v":376.10032319999999},374.83781900000002,"I",1,15.831218974076137,33.603502775106428,134.41401110042571,0.1185012341912738,89.547695999999988,15.842870285188608,33.64118753690709,134.56475014762836,0.11836848944857759,89.460099999999997,null,null,null,977]
[4.3499999999999996,434.99999999999994,{"$f":"INDEX($Y$2:$Y$276,MATCH(MIN(ABS($Y$2:$Y$276-B167)),ABS($Y$2:$Y$276-B167),0))","v":433},852.59999999999991,{"$f":"INDEX($Y$2:$Y$276,MATCH(MIN(ABS($Y$2:$Y$276-D167)),ABS($Y$2:$Y$276-D167),0))","v":853},1126.6499999999999,{"$f":"INDEX($Y$2:$Y$276,MATCH(MIN(ABS($Y$2:$Y$276-F167)),ABS($Y$2:$Y$276-F167),0))","v":1129},{"$f":"(B167/100)*(D167/100)*(F167/100)","v":417.85307864999993},416.99502099999995,"I",1,15.285314871521786,32.444761300102755,129.77904520041102,0.12273342112667643,96.058178999999981,15.253498671390627,32.467000096556951,129.86800038622781,0.12264935288623395,96.303699999999992,null,null,null,983]
[4.5,450,{"$f":"INDEX($Y$2:$Y$276,MATCH(MIN(ABS($Y$2:$Y$276-B168)),ABS($Y$2:$Y$276-B168),0))","v":449},882,{"$f":"INDEX($Y$2:$Y$276,MATCH(MIN(ABS($Y$2:$Y$276-D168)),ABS($Y$2:$Y$276-D168),0))","v":881},1165.5,{"$f":"INDEX($Y$2:$Y$276,MATCH(MIN(ABS($Y$2:$Y$276-F168)),ABS($Y$2:$Y$276-F168),0))","v":1163},{"$f":"(B168/100)*(D168/100)*(F168/100)","v":462.58694999999994},460.0467470000001,"I",1,14.775804375804391,31.363269256765999,125.453077027064,0.12696560806207907,102.7971,14.807566638005175,31.420888680039987,125.68355472015995,0.12673277934782262,102.46030000000002,null,null,null,991]
["HEIGHT m","HEIGHT cm","PRIME height","WIDTH cm","PRIME width","DEPTH cm","PRIME depth","VOLUME","PRIME volume","TABLE","1=Yes 0=NO","F¹","F²","F³","minimum RT60","Floor area","F¹","F²","F³","minimum RT60","Floor area",null,null,null,997]
[2.4,{"$f":"A170*100","v":240},{"$f":"INDEX($Y$2:$Y$276,MATCH(MIN(ABS($Y$2:$Y$276-B170)),ABS($Y$2:$Y$276-B170),0))","v":239},{"$f":"B170*$D$13","v":388.8},{"$f":"INDEX($Y$2:$Y$276,MATCH(MIN(ABS($Y$2:$Y$276-D170)),ABS($Y$2:$Y$276-D170),0))","v":389},{"$f":"B170*$E$13","v":628.80000000000007},{"$f":"INDEX($Y$2:$Y$276,MATCH(MIN(ABS($Y$2:$Y$276-F170)),ABS($Y$2:$Y$276-F170),0))","v":631},{"$f":"(B170/100)*(D170/100)*(F170/100)","v":58.674585599999993},{"$f":"(C170/100)*(E170/100)*(G170/100)","v":58.664701000000001},"J",{"$f":"IF(H170>$K$22,$N$21,$O$21)","v":1},{"$f":"565/(F170*0.0328083989501312)","v":27.387404580152698},{"$f":"(SQRT(O170/(H170*35.3146667214885))*11250)","v":62.421726303048615},{"$f":"4*M170","v":249.68690521219446},{"$f":"0.25*(((0.028316846592*H170)/100)^(1/3))","v":6.3792797601714607E-2},{"$f":"(D170/100)*(F170/100)","v":24.447744},{"$f":"565/(G170*0.0328083989501312)","v":27.291917591125227},{"$f":"(SQRT(T170/(I170*35.3146667214885))*11250)","v":62.425231983831907},{"$f":"4*R170","v":249.70092793532763},{"$f":"0.25*(((0.028316846592*I170)/100)^(1/3))","v":6.3789215121080461E-2},{"$f":"(E170/100)*(G170/100)","v":24.5459},null,null,null,1009]
[2.5499999999999998,254.99999999999997,{"$f":"INDEX($Y$2:$Y$276,MATCH(MIN(ABS($Y$2:$Y$276-B171)),ABS($Y$2:$Y$276-B171),0))","v":257},413.09999999999997,{"$f":"INDEX($Y$2:$Y$276,MATCH(MIN(ABS($Y$2:$Y$276-D171)),ABS($Y$2:$Y$276-D171),0))","v":409},668.09999999999991,{"$f":"INDEX($Y$2:$Y$276,MATCH(MIN(ABS($Y$2:$Y$276-F171)),ABS($Y$2:$Y$276-F171),0))","v":673},{"$f":"(B171/100)*(D171/100)*(F171/100)","v":70.377988049999971},70.74104899999999,"J",1,25.776380781320196,58.74986004992811,234.99944019971244,6.7779847451821751E-2,27.599210999999993,25.588707280832125,58.649181237815348,{"$f":"4*R171","v":234.59672495126139},6.7896200218946726E-2,27.525700000000001,null,null,null,1013]
[2.7,270,{"$f":"INDEX($Y$2:$Y$276,MATCH(MIN(ABS($Y$2:$Y$276-B172)),ABS($Y$2:$Y$276-B172),0))","v":269},437.40000000000003,{"$f":"INDEX($Y$2:$Y$276,MATCH(MIN(ABS($Y$2:$Y$276-D172)),ABS($Y$2:$Y$276-D172),0))","v":439},707.4,{"$f":"INDEX($Y$2:$Y$276,MATCH(MIN(ABS($Y$2:$Y$276-F172)),ABS($Y$2:$Y$276-F172),0))","v":709},83.542525200000014,83.726518999999996,"J",1,24.344359626802401,55.48597893604321,221.94391574417284,7.176689730192895E-2,30.941676000000005,24.289421720733451,55.445304592482223,221.78121836992889,7.1819545068202748E-2,31.125099999999996,null,null,null,1019]
[2.85,285,{"$f":"INDEX($Y$2:$Y$276,MATCH(MIN(ABS($Y$2:$Y$276-B173)),ABS($Y$2:$Y$276-B173),0))","v":283},461.70000000000005,{"$f":"INDEX($Y$2:$Y$276,MATCH(MIN(ABS($Y$2:$Y$276-D173)),ABS($Y$2:$Y$276-D173),0))","v":461},746.7,{"$f":"INDEX($Y$2:$Y$276,MATCH(MIN(ABS($Y$2:$Y$276-F173)),ABS($Y$2:$Y$276-F173),0))","v":743},98.254146150000039,96.934009000000003,"J",1,23.063077541181219,52.565664255198826,210.2626570207953,7.5753947152036108E-2,34.475139000000006,23.177927321668935,52.803218393179968,211.21287357271987,7.5413140963285011E-2,34.252299999999998,null,null,null,1021]
[3,300,{"$f":"INDEX($Y$2:$Y$276,MATCH(MIN(ABS($Y$2:$Y$276-B174)),ABS($Y$2:$Y$276-B174),0))","v":293},486.00000000000006,{"$f":"INDEX($Y$2:$Y$276,MATCH(MIN(ABS($Y$2:$Y$276-D174)),ABS($Y$2:$Y$276-D174),0))","v":487},786,{"$f":"INDEX($Y$2:$Y$276,MATCH(MIN(ABS($Y$2:$Y$276-F174)),ABS($Y$2:$Y$276-F174),0))","v":787},114.59880000000003,112.29781700000001,"J",1,21.909923664122161,49.937381042438886,199.74952416975555,7.9740997002143266E-2,38.199600000000004,21.882083862770035,50.276150098641985,201.10460039456794,7.9203688909894598E-2,38.326900000000002,null,null,null,1031]
[3.2,320,{"$f":"INDEX($Y$2:$Y$276,MATCH(MIN(ABS($Y$2:$Y$276-B175)),ABS($Y$2:$Y$276-B175),0))","v":317},518.40000000000009,{"$f":"INDEX($Y$2:$Y$276,MATCH(MIN(ABS($Y$2:$Y$276-D175)),ABS($Y$2:$Y$276-D175),0))","v":521},838.40000000000009,{"$f":"INDEX($Y$2:$Y$276,MATCH(MIN(ABS($Y$2:$Y$276-F175)),ABS($Y$2:$Y$276-F175),0))","v":839},139.08049920000002,138.566723,"J",1,20.540553435114525,46.816294727286461,187.26517890914585,8.5057063468952823E-2,43.46265600000001,20.525864123957113,46.874085012065301,187.4963400482612,8.4952198021039371E-2,43.7119,null,null,null,1033]
[3.3,330,{"$f":"INDEX($Y$2:$Y$276,MATCH(MIN(ABS($Y$2:$Y$276-B176)),ABS($Y$2:$Y$276-B176),0))","v":331},534.6,{"$f":"INDEX($Y$2:$Y$276,MATCH(MIN(ABS($Y$2:$Y$276-D176)),ABS($Y$2:$Y$276-D176),0))","v":541},864.6,{"$f":"INDEX($Y$2:$Y$276,MATCH(MIN(ABS($Y$2:$Y$276-F176)),ABS($Y$2:$Y$276-F176),0))","v":863},152.53100280000001,154.538273,"J",1,19.918112421929237,45.397619129489897,181.59047651795959,8.7715096702357595E-2,46.221516000000008,19.955040556199325,45.200208061332475,180.8008322453299,8.8098190756040876E-2,46.688300000000005,null,null,null,1039]
[3.4,340,{"$f":"INDEX($Y$2:$Y$276,MATCH(MIN(ABS($Y$2:$Y$276-B177)),ABS($Y$2:$Y$276-B177),0))","v":337},550.80000000000007,{"$f":"INDEX($Y$2:$Y$276,MATCH(MIN(ABS($Y$2:$Y$276-D177)),ABS($Y$2:$Y$276-D177),0))","v":547},890.80000000000007,{"$f":"INDEX($Y$2:$Y$276,MATCH(MIN(ABS($Y$2:$Y$276-F177)),ABS($Y$2:$Y$276-F177),0))","v":887},166.82189760000006,163.50869299999999,"J",1,19.332285585990142,44.062395037446073,176.24958014978429,9.0373129935762367E-2,49.065264000000013,19.41510710259303,44.358021775011068,177.43208710004427,8.9770832707496501E-2,48.518899999999995,null,null,null,1049]
[3.6,360,{"$f":"INDEX($Y$2:$Y$276,MATCH(MIN(ABS($Y$2:$Y$276-B178)),ABS($Y$2:$Y$276-B178),0))","v":359},583.20000000000005,{"$f":"INDEX($Y$2:$Y$276,MATCH(MIN(ABS($Y$2:$Y$276-D178)),ABS($Y$2:$Y$276-D178),0))","v":587},943.2,{"$f":"INDEX($Y$2:$Y$276,MATCH(MIN(ABS($Y$2:$Y$276-F178)),ABS($Y$2:$Y$276-F178),0))","v":941},198.02672640000006,198.29975300000001,"J",1,18.258269720101797,41.614484202032401,166.4579368081296,9.5689196402571924E-2,55.007424000000007,18.300956429330519,41.595376631409678,166.38150652563871,9.5733152924333847E-2,55.236699999999999,null,null,null,1051]
[3.75,375,{"$f":"INDEX($Y$2:$Y$276,MATCH(MIN(ABS($Y$2:$Y$276-B179)),ABS($Y$2:$Y$276-B179),0))","v":373},607.5,{"$f":"INDEX($Y$2:$Y$276,MATCH(MIN(ABS($Y$2:$Y$276-D179)),ABS($Y$2:$Y$276-D179),0))","v":607},982.5,{"$f":"INDEX($Y$2:$Y$276,MATCH(MIN(ABS($Y$2:$Y$276-F179)),ABS($Y$2:$Y$276-F179),0))","v":983},223.82578124999998,222.56201300000001,"J",1,17.527938931297726,39.949904833951109,159.79961933580444,9.9676246252679068E-2,59.686875000000001,17.519023397761973,40.025377673297825,160.1015106931913,9.9488294264280214E-2,59.668100000000003,null,null,null,1061]
[3.9,390,{"$f":"INDEX($Y$2:$Y$276,MATCH(MIN(ABS($Y$2:$Y$276-B180)),ABS($Y$2:$Y$276-B180),0))","v":389},631.80000000000007,{"$f":"INDEX($Y$2:$Y$276,MATCH(MIN(ABS($Y$2:$Y$276-D180)),ABS($Y$2:$Y$276-D180),0))","v":631},1021.8000000000001,{"$f":"INDEX($Y$2:$Y$276,MATCH(MIN(ABS($Y$2:$Y$276-F180)),ABS($Y$2:$Y$276-F180),0))","v":1021},251.77356359999999,250.61363900000001,"J",1,16.853787433940123,38.413370032645297,153.65348013058119,0.10366329610278624,64.557324000000008,16.866993143976512,38.472542188688166,153.89016875475266,0.10350385821841594,64.4251,null,null,null,1063]
[4.05,405,{"$f":"INDEX($Y$2:$Y$276,MATCH(MIN(ABS($Y$2:$Y$276-B181)),ABS($Y$2:$Y$276-B181),0))","v":401},656.1,{"$f":"INDEX($Y$2:$Y$276,MATCH(MIN(ABS($Y$2:$Y$276-D181)),ABS($Y$2:$Y$276-D181),0))","v":659},1061.1000000000001,{"$f":"INDEX($Y$2:$Y$276,MATCH(MIN(ABS($Y$2:$Y$276-F181)),ABS($Y$2:$Y$276-F181),0))","v":1061},{"$f":"(B181/100)*(D181/100)*(F181/100)","v":281.95602255},280.37879899999996,"J",1,16.229573084534934,36.990652624028812,147.96261049611525,0.10765034595289341,69.61877100000001,16.231102733270514,37.059884523388156,148.23953809355262,0.10744924338571442,69.919899999999998,null,null,null,1069]
[4.2,420,{"$f":"INDEX($Y$2:$Y$276,MATCH(MIN(ABS($Y$2:$Y$276-B182)),ABS($Y$2:$Y$276-B182),0))","v":419},680.40000000000009,{"$f":"INDEX($Y$2:$Y$276,MATCH(MIN(ABS($Y$2:$Y$276-D182)),ABS($Y$2:$Y$276-D182),0))","v":683},1100.4000000000001,{"$f":"INDEX($Y$2:$Y$276,MATCH(MIN(ABS($Y$2:$Y$276-F182)),ABS($Y$2:$Y$276-F182),0))","v":1103},{"$f":"(B182/100)*(D182/100)*(F182/100)","v":314.45910720000012},315.65323100000001,"J",1,15.649945474372972,35.669557887456342,142.67823154982537,0.1116373958030006,74.871216000000018,15.61305530371715,35.624521448520206,142.49808579408082,0.11177852754469532,75.33489999999999,null,null,null,1087]
[4.3499999999999996,434.99999999999994,{"$f":"INDEX($Y$2:$Y$276,MATCH(MIN(ABS($Y$2:$Y$276-B183)),ABS($Y$2:$Y$276-B183),0))","v":433},704.69999999999993,{"$f":"INDEX($Y$2:$Y$276,MATCH(MIN(ABS($Y$2:$Y$276-D183)),ABS($Y$2:$Y$276-D183),0))","v":701},1139.6999999999998,{"$f":"INDEX($Y$2:$Y$276,MATCH(MIN(ABS($Y$2:$Y$276-F183)),ABS($Y$2:$Y$276-F183),0))","v":1129},{"$f":"(B183/100)*(D183/100)*(F183/100)","v":349.36876664999994},342.68875700000001,"J",1,15.110292182153216,34.439573132716475,137.7582925308659,0.11562444565310773,80.314658999999992,15.253498671390627,34.661910778993708,138.64764311597483,0.11488277658406726,79.142899999999997,null,null,null,1091]
[4.5,450,{"$f":"INDEX($Y$2:$Y$276,MATCH(MIN(ABS($Y$2:$Y$276-B184)),ABS($Y$2:$Y$276-B184),0))","v":449},729,{"$f":"INDEX($Y$2:$Y$276,MATCH(MIN(ABS($Y$2:$Y$276-D184)),ABS($Y$2:$Y$276-D184),0))","v":727},1179,{"$f":"INDEX($Y$2:$Y$276,MATCH(MIN(ABS($Y$2:$Y$276-F184)),ABS($Y$2:$Y$276-F184),0))","v":1181},{"$f":"(B184/100)*(D184/100)*(F184/100)","v":386.77094999999997},385.505563,"J",1,14.606615776081441,33.291587361625929,133.16634944650372,0.1196114955032149,85.949099999999987,14.581879762912802,33.327973116993199,133.3118924679728,0.11948090986576201,85.858699999999999,null,null,null,1093]
["HEIGHT m","HEIGHT cm","PRIME height","WIDTH cm","PRIME width","DEPTH cm","PRIME depth","VOLUME","PRIME volume","TABLE","1=Yes 0=NO","F¹","F²","F³","minimum RT60","Floor area","F¹","F²","F³","minimum RT60","Floor area",null,null,null,1097]
[{"$f":"A170","v":2.4},{"$f":"A186*100","v":240},{"$f":"INDEX($Y$2:$Y$276,MATCH(MIN(ABS($Y$2:$Y$276-B186)),ABS($Y$2:$Y$276-B186),0))","v":239},{"$f":"B186*$D$14","v":357.6},{"$f":"INDEX($Y$2:$Y$276,MATCH(MIN(ABS($Y$2:$Y$276-D186)),ABS($Y$2:$Y$276-D186),0))","v":359},{"$f":"B186*$E$14","v":554.4},{"$f":"INDEX($Y$2:$Y$276,MATCH(MIN(ABS($Y$2:$Y$276-F186)),ABS($Y$2:$Y$276-F186),0))","v":557},{"$f":"(B186/100)*(D186/100)*(F186/100)","v":47.580825599999997},{"$f":"(C186/100)*(E186/100)*(G186/100)","v":47.791156999999998},"K",{"$f":"IF(H186>$K$22,$N$21,$O$21)","v":1},{"$f":"565/(F186*0.0328083989501312)","v":31.062770562770599},{"$f":"(SQRT(O186/(H186*35.3146667214885))*11250)","v":66.938369212046666},{"$f":"4*M186","v":267.75347684818666},{"$f":"0.25*(((0.028316846592*H186)/100)^(1/3))","v":5.9488401030292341E-2},{"$f":"(D186/100)*(F186/100)","v":19.825343999999998},{"$f":"565/(G186*0.0328083989501312)","v":30.917773788150843},{"$f":"(SQRT(T186/(I186*35.3146667214885))*11250)","v":66.840025034738815},{"$f":"4*R186","v":267.36010013895526},{"$f":"0.25*(((0.028316846592*I186)/100)^(1/3))","v":5.9575928493898811E-2},{"$f":"(E186/100)*(G186/100)","v":19.996300000000002},null,null,null,1103]
[2.5499999999999998,254.99999999999997,{"$f":"INDEX($Y$2:$Y$276,MATCH(MIN(ABS($Y$2:$Y$276-B187)),ABS($Y$2:$Y$276-B187),0))","v":257},379.94999999999993,{"$f":"INDEX($Y$2:$Y$276,MATCH(MIN(ABS($Y$2:$Y$276-D187)),ABS($Y$2:$Y$276-D187),0))","v":379},589.04999999999995,{"$f":"INDEX($Y$2:$Y$276,MATCH(MIN(ABS($Y$2:$Y$276-F187)),ABS($Y$2:$Y$276-F187),0))","v":587},{"$f":"(B187/100)*(D187/100)*(F187/100)","v":57.071434612499985},57.175560999999995,"K",1,29.235548764960562,63.000818081926276,252.0032723277051,6.3206426094685603E-2,22.380954749999994,29.337649063032398,62.962549785500407,{"$f":"4*R187","v":251.85019914200163},6.3244842617810104E-2,22.247299999999999,null,null,null,1109]
[2.7,270,{"$f":"INDEX($Y$2:$Y$276,MATCH(MIN(ABS($Y$2:$Y$276-B188)),ABS($Y$2:$Y$276-B188),0))","v":269},402.3,{"$f":"INDEX($Y$2:$Y$276,MATCH(MIN(ABS($Y$2:$Y$276-D188)),ABS($Y$2:$Y$276-D188),0))","v":401},623.70000000000005,{"$f":"INDEX($Y$2:$Y$276,MATCH(MIN(ABS($Y$2:$Y$276-F188)),ABS($Y$2:$Y$276-F188),0))","v":619},67.746917699999997,66.770910999999998,"K",1,27.611351611351637,59.500772632930371,238.00309053172148,6.6924451159078885E-2,25.091450999999999,27.821001615508912,59.789283857581495,239.15713543032598,6.6601509419067353E-2,24.821899999999999,null,null,null,1117]
[2.85,285,{"$f":"INDEX($Y$2:$Y$276,MATCH(MIN(ABS($Y$2:$Y$276-B189)),ABS($Y$2:$Y$276-B189),0))","v":283},424.65,{"$f":"INDEX($Y$2:$Y$276,MATCH(MIN(ABS($Y$2:$Y$276-D189)),ABS($Y$2:$Y$276-D189),0))","v":421},658.35,{"$f":"INDEX($Y$2:$Y$276,MATCH(MIN(ABS($Y$2:$Y$276-F189)),ABS($Y$2:$Y$276-F189),0))","v":659},79.676973337500002,78.515236999999999,"K",1,26.158122579175238,56.369153020670865,225.47661208268346,7.0642476223472153E-2,27.95683275,26.132321699544793,56.645811584516366,226.58324633806546,7.0297457845735337E-2,27.7439,null,null,null,1123]
[3,300,{"$f":"INDEX($Y$2:$Y$276,MATCH(MIN(ABS($Y$2:$Y$276-B190)),ABS($Y$2:$Y$276-B190),0))","v":293},447,{"$f":"INDEX($Y$2:$Y$276,MATCH(MIN(ABS($Y$2:$Y$276-D190)),ABS($Y$2:$Y$276-D190),0))","v":449},693,{"$f":"INDEX($Y$2:$Y$276,MATCH(MIN(ABS($Y$2:$Y$276-F190)),ABS($Y$2:$Y$276-F190),0))","v":691},92.931299999999993,90.905887000000007,"K",1,24.850216450216479,53.550695369637332,214.20278147854933,7.4360501287865421E-2,30.977099999999997,24.92214182344431,53.945486723355515,215.78194689342206,7.3816305939009855E-2,31.025900000000004,null,null,null,1129]
[3.2,320,{"$f":"INDEX($Y$2:$Y$276,MATCH(MIN(ABS($Y$2:$Y$276-B191)),ABS($Y$2:$Y$276-B191),0))","v":317},476.8,{"$f":"INDEX($Y$2:$Y$276,MATCH(MIN(ABS($Y$2:$Y$276-D191)),ABS($Y$2:$Y$276-D191),0))","v":479},739.2,{"$f":"INDEX($Y$2:$Y$276,MATCH(MIN(ABS($Y$2:$Y$276-F191)),ABS($Y$2:$Y$276-F191),0))","v":739},112.78417920000001,112.211977,"K",1,23.297077922077946,50.203776909035,200.81510763614,7.9317868040389802E-2,35.245055999999998,23.303382949932367,50.288966926311332,201.15586770524533,7.9183502771789538E-2,35.398099999999999,null,null,null,1151]
[3.3,330,{"$f":"INDEX($Y$2:$Y$276,MATCH(MIN(ABS($Y$2:$Y$276-B192)),ABS($Y$2:$Y$276-B192),0))","v":331},491.7,{"$f":"INDEX($Y$2:$Y$276,MATCH(MIN(ABS($Y$2:$Y$276-D192)),ABS($Y$2:$Y$276-D192),0))","v":491},762.30000000000007,{"$f":"INDEX($Y$2:$Y$276,MATCH(MIN(ABS($Y$2:$Y$276-F192)),ABS($Y$2:$Y$276-F192),0))","v":761},123.69156030000001,123.67848100000002,"K",1,22.591105863833157,48.682450336033931,194.72980134413572,8.1796551416651972E-2,37.482291000000004,22.629697766097266,48.684166371363382,194.73666548545353,8.1793668225205549E-2,37.365100000000005,null,null,null,1153]
[3.4,340,{"$f":"INDEX($Y$2:$Y$276,MATCH(MIN(ABS($Y$2:$Y$276-B193)),ABS($Y$2:$Y$276-B193),0))","v":337},506.6,{"$f":"INDEX($Y$2:$Y$276,MATCH(MIN(ABS($Y$2:$Y$276-D193)),ABS($Y$2:$Y$276-D193),0))","v":509},785.4,{"$f":"INDEX($Y$2:$Y$276,MATCH(MIN(ABS($Y$2:$Y$276-F193)),ABS($Y$2:$Y$276-F193),0))","v":787},135.2804376,134.99647100000001,"K",1,21.926661573720423,47.250613561444702,189.00245424577881,8.4275234792914142E-2,39.788364000000001,21.882083862770035,47.283721091192291,189.13488436476916,8.4216226221285231E-2,40.058300000000003,null,null,null,1163]
[3.6,360,{"$f":"INDEX($Y$2:$Y$276,MATCH(MIN(ABS($Y$2:$Y$276-B194)),ABS($Y$2:$Y$276-B194),0))","v":359},536.4,{"$f":"INDEX($Y$2:$Y$276,MATCH(MIN(ABS($Y$2:$Y$276-D194)),ABS($Y$2:$Y$276-D194),0))","v":541},831.6,{"$f":"INDEX($Y$2:$Y$276,MATCH(MIN(ABS($Y$2:$Y$276-F194)),ABS($Y$2:$Y$276-F194),0))","v":829},160.58528640000003,161.00755099999998,"K",1,20.708513708513731,44.625579474697773,178.50231789879109,8.9232601545438509E-2,44.607024000000003,20.773462002412568,44.586533065823048,178.34613226329219,8.9310746500996172E-2,44.848899999999993,null,null,null,1171]
[3.75,375,{"$f":"INDEX($Y$2:$Y$276,MATCH(MIN(ABS($Y$2:$Y$276-B195)),ABS($Y$2:$Y$276-B195),0))","v":373},558.75,{"$f":"INDEX($Y$2:$Y$276,MATCH(MIN(ABS($Y$2:$Y$276-D195)),ABS($Y$2:$Y$276-D195),0))","v":557},866.25,{"$f":"INDEX($Y$2:$Y$276,MATCH(MIN(ABS($Y$2:$Y$276-F195)),ABS($Y$2:$Y$276-F195),0))","v":863},181.50644531250001,179.29774300000003,"K",1,19.880173160173182,42.84055629570986,171.36222518283944,9.2950626609831777E-2,48.401718750000001,19.955040556199325,43.015751167406052,172.06300466962421,9.2572056605564848E-2,48.069100000000006,null,null,null,1181]
[3.9,390,{"$f":"INDEX($Y$2:$Y$276,MATCH(MIN(ABS($Y$2:$Y$276-B196)),ABS($Y$2:$Y$276-B196),0))","v":389},581.1,{"$f":"INDEX($Y$2:$Y$276,MATCH(MIN(ABS($Y$2:$Y$276-D196)),ABS($Y$2:$Y$276-D196),0))","v":577},900.9,{"$f":"INDEX($Y$2:$Y$276,MATCH(MIN(ABS($Y$2:$Y$276-F196)),ABS($Y$2:$Y$276-F196),0))","v":907},204.17006610000001,203.57887099999999,"K",1,19.115551115551135,41.192842592028718,164.77137036811487,9.6668651674225045E-2,52.351299000000004,18.986990077177531,41.232678865708863,164.93071546283545,9.6575256848317012E-2,52.3339,null,null,null,1187]
[4.05,405,{"$f":"INDEX($Y$2:$Y$276,MATCH(MIN(ABS($Y$2:$Y$276-B197)),ABS($Y$2:$Y$276-B197),0))","v":401},603.45000000000005,{"$f":"INDEX($Y$2:$Y$276,MATCH(MIN(ABS($Y$2:$Y$276-D197)),ABS($Y$2:$Y$276-D197),0))","v":601},935.55000000000007,{"$f":"INDEX($Y$2:$Y$276,MATCH(MIN(ABS($Y$2:$Y$276-F197)),ABS($Y$2:$Y$276-F197),0))","v":937},{"$f":"(B197/100)*(D197/100)*(F197/100)","v":228.64584723750002},225.81793699999997,"K",1,18.407567740901094,39.667181755286911,158.66872702114765,0.10038667673861831,56.455764750000007,18.379082177161173,39.832078908204572,159.32831563281829,9.9971095186291811E-2,56.31369999999999,null,null,null,1193]
[4.2,420,{"$f":"INDEX($Y$2:$Y$276,MATCH(MIN(ABS($Y$2:$Y$276-B198)),ABS($Y$2:$Y$276-B198),0))","v":419},625.79999999999995,{"$f":"INDEX($Y$2:$Y$276,MATCH(MIN(ABS($Y$2:$Y$276-D198)),ABS($Y$2:$Y$276-D198),0))","v":631},970.2,{"$f":"INDEX($Y$2:$Y$276,MATCH(MIN(ABS($Y$2:$Y$276-F198)),ABS($Y$2:$Y$276-F198),0))","v":971},{"$f":"(B198/100)*(D198/100)*(F198/100)","v":255.00348719999997},256.72171900000001,"K",1,17.750154607297482,38.250496692598091,153.00198677039236,0.1041047018030116,60.715115999999988,17.735530381050484,38.164969069369477,152.65987627747791,0.1043380002421103,61.270099999999999,null,null,null,1201]
[4.3499999999999996,434.99999999999994,{"$f":"INDEX($Y$2:$Y$276,MATCH(MIN(ABS($Y$2:$Y$276-B199)),ABS($Y$2:$Y$276-B199),0))","v":433},648.14999999999986,{"$f":"INDEX($Y$2:$Y$276,MATCH(MIN(ABS($Y$2:$Y$276-D199)),ABS($Y$2:$Y$276-D199),0))","v":647},1004.8499999999999,{"$f":"INDEX($Y$2:$Y$276,MATCH(MIN(ABS($Y$2:$Y$276-F199)),ABS($Y$2:$Y$276-F199),0))","v":1009},{"$f":"(B199/100)*(D199/100)*(F199/100)","v":283.31268446249987},282.67235899999997,"K",1,17.138080310494122,36.931514048025747,147.72605619210299,0.10782272686740485,65.129352749999981,17.067591674925687,36.95937947136008,147.83751788544032,0.1077414342166029,65.282299999999992,null,null,null,1213]
[4.5,450,{"$f":"INDEX($Y$2:$Y$276,MATCH(MIN(ABS($Y$2:$Y$276-B200)),ABS($Y$2:$Y$276-B200),0))","v":449},670.5,{"$f":"INDEX($Y$2:$Y$276,MATCH(MIN(ABS($Y$2:$Y$276-D200)),ABS($Y$2:$Y$276-D200),0))","v":673},1039.5,{"$f":"INDEX($Y$2:$Y$276,MATCH(MIN(ABS($Y$2:$Y$276-F200)),ABS($Y$2:$Y$276-F200),0))","v":1039},{"$f":"(B200/100)*(D200/100)*(F200/100)","v":313.64313749999997},313.96190300000006,"K",1,16.566810966810984,35.700463579758221,142.80185431903288,0.11154075193179812,69.698475000000002,16.574783445620806,35.688377262294026,142.7535090491761,0.11157852660919897,69.924700000000001,null,null,null,1217]
["HEIGHT m","HEIGHT cm","PRIME height","WIDTH cm","PRIME width","DEPTH cm","PRIME depth","VOLUME","PRIME volume","TABLE","1=Yes 0=NO","F¹","F²","F³","minimum RT60","Floor area","F¹","F²","F³","minimum RT60","Floor area",null,null,null,1223]
[{"$f":"A186","v":2.4},{"$f":"A202*100","v":240},{"$f":"INDEX($Y$2:$Y$276,MATCH(MIN(ABS($Y$2:$Y$276-B202)),ABS($Y$2:$Y$276-B202),0))","v":239},{"$f":"B202*$D$15","v":256.8},{"$f":"INDEX($Y$2:$Y$276,MATCH(MIN(ABS($Y$2:$Y$276-D202)),ABS($Y$2:$Y$276-D202),0))","v":257},{"$f":"B202*$E$15","v":448.8},{"$f":"INDEX($Y$2:$Y$276,MATCH(MIN(ABS($Y$2:$Y$276-F202)),ABS($Y$2:$Y$276-F202),0))","v":449},{"$f":"(B202/100)*(D202/100)*(F202/100)","v":27.660441600000002},{"$f":"(C202/100)*(E202/100)*(G202/100)","v":27.578927},"L",{"$f":"IF(H202>$K$22,$N$21,$O$21)","v":0},{"$f":"565/(F202*0.0328083989501312)","v":38.371657754010734},{"$f":"(SQRT(O202/(H202*35.3146667214885))*11250)","v":80.204625566438764},{"$f":"4*M202","v":320.81850226575506},{"$f":"0.25*(((0.028316846592*H202)/100)^(1/3))","v":4.9648714446044087E-2},{"$f":"(D202/100)*(F202/100)","v":11.525184000000001},{"$f":"565/(G202*0.0328083989501312)","v":38.354565701559061},{"$f":"(SQRT(T202/(I202*35.3146667214885))*11250)","v":80.283567690810983},{"$f":"4*R202","v":321.13427076324393},{"$f":"0.25*(((0.028316846592*I202)/100)^(1/3))","v":4.9599895302806528E-2},{"$f":"(E202/100)*(G202/100)","v":11.539299999999999},null,null,null,1229]
[2.5499999999999998,254.99999999999997,{"$f":"INDEX($Y$2:$Y$276,MATCH(MIN(ABS($Y$2:$Y$276-B203)),ABS($Y$2:$Y$276-B203),0))","v":257},272.84999999999997,{"$f":"INDEX($Y$2:$Y$276,MATCH(MIN(ABS($Y$2:$Y$276-D203)),ABS($Y$2:$Y$276-D203),0))","v":271},476.84999999999997,{"$f":"INDEX($Y$2:$Y$276,MATCH(MIN(ABS($Y$2:$Y$276-F203)),ABS($Y$2:$Y$276-F203),0))","v":479},{"$f":"(B203/100)*(D203/100)*(F203/100)","v":33.177673237499988},33.360912999999996,"L",0,36.114501415539522,75.486706415471787,301.94682566188715,5.2751759098921824E-2,13.010852249999996,35.952400835073107,75.34824528889294,{"$f":"4*R203","v":301.39298115557176},5.2848696565293458E-2,12.9809,null,null,null,1231]
[2.7,270,{"$f":"INDEX($Y$2:$Y$276,MATCH(MIN(ABS($Y$2:$Y$276-B204)),ABS($Y$2:$Y$276-B204),0))","v":269},288.90000000000003,{"$f":"INDEX($Y$2:$Y$276,MATCH(MIN(ABS($Y$2:$Y$276-D204)),ABS($Y$2:$Y$276-D204),0))","v":293},504.90000000000003,{"$f":"INDEX($Y$2:$Y$276,MATCH(MIN(ABS($Y$2:$Y$276-F204)),ABS($Y$2:$Y$276-F204),0))","v":503},39.383714700000006,39.644951000000006,"L",0,34.108140225787324,71.293000503501133,285.17200201400453,5.5854803751799603E-2,14.586561000000001,34.236978131212759,71.136062673362204,284.54425069344882,5.5978028616575894E-2,14.737900000000002,null,null,null,1237]
[2.85,285,{"$f":"INDEX($Y$2:$Y$276,MATCH(MIN(ABS($Y$2:$Y$276-B205)),ABS($Y$2:$Y$276-B205),0))","v":283},304.95000000000005,{"$f":"INDEX($Y$2:$Y$276,MATCH(MIN(ABS($Y$2:$Y$276-D205)),ABS($Y$2:$Y$276-D205),0))","v":307},532.95000000000005,{"$f":"INDEX($Y$2:$Y$276,MATCH(MIN(ABS($Y$2:$Y$276-F205)),ABS($Y$2:$Y$276-F205),0))","v":541},46.319084212500009,47.002621000000005,"L",1,32.312974950745883,67.540737319106327,270.16294927642531,5.8957848404677361E-2,16.252310250000004,31.832162661737556,67.211732990693818,268.84693196277527,5.924644961247115E-2,16.608699999999999,null,null,null,1249]
[3,300,{"$f":"INDEX($Y$2:$Y$276,MATCH(MIN(ABS($Y$2:$Y$276-B206)),ABS($Y$2:$Y$276-B206),0))","v":293},321,{"$f":"INDEX($Y$2:$Y$276,MATCH(MIN(ABS($Y$2:$Y$276-D206)),ABS($Y$2:$Y$276-D206),0))","v":317},561,{"$f":"INDEX($Y$2:$Y$276,MATCH(MIN(ABS($Y$2:$Y$276-F206)),ABS($Y$2:$Y$276-F206),0))","v":563},54.024299999999997,52.292003000000001,"L",1,30.69732620320859,64.163700453151023,256.65480181260409,6.2060893057555105E-2,18.008100000000002,30.588277087033777,64.864542553465512,259.45817021386205,6.1390343556616309E-2,17.847099999999998,null,null,null,1259]
[3.2,320,{"$f":"INDEX($Y$2:$Y$276,MATCH(MIN(ABS($Y$2:$Y$276-B207)),ABS($Y$2:$Y$276-B207),0))","v":317},342.40000000000003,{"$f":"INDEX($Y$2:$Y$276,MATCH(MIN(ABS($Y$2:$Y$276-D207)),ABS($Y$2:$Y$276-D207),0))","v":347},598.40000000000009,{"$f":"INDEX($Y$2:$Y$276,MATCH(MIN(ABS($Y$2:$Y$276-F207)),ABS($Y$2:$Y$276-F207),0))","v":599},65.565491200000011,65.889401000000007,"L",1,28.778743315508049,60.153469174829084,240.61387669931634,6.6198285928058792E-2,20.489216000000006,28.749916527545938,60.054736483467416,240.21894593386966,6.6307118891383923E-2,20.785300000000003,null,null,null,1277]
[3.3,330,{"$f":"INDEX($Y$2:$Y$276,MATCH(MIN(ABS($Y$2:$Y$276-B208)),ABS($Y$2:$Y$276-B208),0))","v":331},353.1,{"$f":"INDEX($Y$2:$Y$276,MATCH(MIN(ABS($Y$2:$Y$276-D208)),ABS($Y$2:$Y$276-D208),0))","v":353},617.1,{"$f":"INDEX($Y$2:$Y$276,MATCH(MIN(ABS($Y$2:$Y$276-F208)),ABS($Y$2:$Y$276-F208),0))","v":617},71.906343300000003,72.092130999999995,"L",1,27.906660184735077,58.330636775591834,233.32254710236734,6.8266982363310622E-2,21.789801000000001,27.911183144246387,58.280485959577128,233.12194383830851,6.8325726637933792E-2,21.780099999999997,null,null,null,1279]
[3.4,340,{"$f":"INDEX($Y$2:$Y$276,MATCH(MIN(ABS($Y$2:$Y$276-B209)),ABS($Y$2:$Y$276-B209),0))","v":337},363.8,{"$f":"INDEX($Y$2:$Y$276,MATCH(MIN(ABS($Y$2:$Y$276-D209)),ABS($Y$2:$Y$276-D209),0))","v":367},635.80000000000007,{"$f":"INDEX($Y$2:$Y$276,MATCH(MIN(ABS($Y$2:$Y$276-F209)),ABS($Y$2:$Y$276-F209),0))","v":631},78.643373600000004,78.041449,"L",1,27.085876061654638,56.61502981160384,226.46011924641536,7.0335678798562465E-2,23.130404000000002,27.291917591125227,56.760212232593489,227.04084893037395,7.015577277410856E-2,23.157699999999998,null,null,null,1283]
[3.6,360,{"$f":"INDEX($Y$2:$Y$276,MATCH(MIN(ABS($Y$2:$Y$276-B210)),ABS($Y$2:$Y$276-B210),0))","v":359},385.20000000000005,{"$f":"INDEX($Y$2:$Y$276,MATCH(MIN(ABS($Y$2:$Y$276-D210)),ABS($Y$2:$Y$276-D210),0))","v":383},673.2,{"$f":"INDEX($Y$2:$Y$276,MATCH(MIN(ABS($Y$2:$Y$276-F210)),ABS($Y$2:$Y$276-F210),0))","v":673},93.353990400000015,92.535481000000004,"L",1,25.581105169340489,53.46975037762585,213.8790015105034,7.4473071669066152E-2,25.931664000000001,25.588707280832125,53.626940833123577,214.50776333249431,7.4254777358853608E-2,25.775900000000004,null,null,null,1289]
[3.75,375,{"$f":"INDEX($Y$2:$Y$276,MATCH(MIN(ABS($Y$2:$Y$276-B211)),ABS($Y$2:$Y$276-B211),0))","v":373},401.25,{"$f":"INDEX($Y$2:$Y$276,MATCH(MIN(ABS($Y$2:$Y$276-D211)),ABS($Y$2:$Y$276-D211),0))","v":401},701.25,{"$f":"INDEX($Y$2:$Y$276,MATCH(MIN(ABS($Y$2:$Y$276-F211)),ABS($Y$2:$Y$276-F211),0))","v":701},105.51621093750001,104.85067299999999,"L",1,24.55786096256687,51.330960362520813,205.32384145008325,7.7576116321943875E-2,28.137656250000003,24.566619115549241,51.439338852738686,205.75735541095474,7.7412669774001117E-2,28.110099999999999,null,null,null,1291]
[3.9,390,{"$f":"INDEX($Y$2:$Y$276,MATCH(MIN(ABS($Y$2:$Y$276-B212)),ABS($Y$2:$Y$276-B212),0))","v":389},417.3,{"$f":"INDEX($Y$2:$Y$276,MATCH(MIN(ABS($Y$2:$Y$276-D212)),ABS($Y$2:$Y$276-D212),0))","v":419},729.30000000000007,{"$f":"INDEX($Y$2:$Y$276,MATCH(MIN(ABS($Y$2:$Y$276-F212)),ABS($Y$2:$Y$276-F212),0))","v":727},118.69138710000001,118.49445700000001,"L",1,23.613327848621989,49.356692656270006,197.42677062508002,8.067916097482164E-2,30.433689000000005,23.68803301237967,49.384020063428302,197.53608025371321,8.063451592003841E-2,30.461300000000001,null,null,null,1297]
[4.05,405,{"$f":"INDEX($Y$2:$Y$276,MATCH(MIN(ABS($Y$2:$Y$276-B213)),ABS($Y$2:$Y$276-B213),0))","v":401},433.35,{"$f":"INDEX($Y$2:$Y$276,MATCH(MIN(ABS($Y$2:$Y$276-D213)),ABS($Y$2:$Y$276-D213),0))","v":433},757.35,{"$f":"INDEX($Y$2:$Y$276,MATCH(MIN(ABS($Y$2:$Y$276-F213)),ABS($Y$2:$Y$276-F213),0))","v":757},{"$f":"(B213/100)*(D213/100)*(F213/100)","v":132.92003711249998},131.440181,"L",1,22.738760150524879,47.528667002334089,190.11466800933636,8.3782205627699391E-2,32.819762249999997,22.749273447820368,47.706373348322842,190.82549339329137,8.3470116726867008E-2,32.778100000000002,null,null,null,1301]
[4.2,420,{"$f":"INDEX($Y$2:$Y$276,MATCH(MIN(ABS($Y$2:$Y$276-B214)),ABS($Y$2:$Y$276-B214),0))","v":419},449.40000000000003,{"$f":"INDEX($Y$2:$Y$276,MATCH(MIN(ABS($Y$2:$Y$276-D214)),ABS($Y$2:$Y$276-D214),0))","v":449},785.40000000000009,{"$f":"INDEX($Y$2:$Y$276,MATCH(MIN(ABS($Y$2:$Y$276-F214)),ABS($Y$2:$Y$276-F214),0))","v":787},{"$f":"(B214/100)*(D214/100)*(F214/100)","v":148.24267920000005},148.05909700000001,"L",1,21.92666157372042,45.83121460939357,183.32485843757428,8.6885250280577142E-2,35.295876000000007,21.882083862770035,45.850149211135786,183.40059684454314,8.6849369533411894E-2,35.336300000000001,null,null,null,1303]
[4.3499999999999996,434.99999999999994,{"$f":"INDEX($Y$2:$Y$276,MATCH(MIN(ABS($Y$2:$Y$276-B215)),ABS($Y$2:$Y$276-B215),0))","v":433},465.45,{"$f":"INDEX($Y$2:$Y$276,MATCH(MIN(ABS($Y$2:$Y$276-D215)),ABS($Y$2:$Y$276-D215),0))","v":467},813.44999999999993,{"$f":"INDEX($Y$2:$Y$276,MATCH(MIN(ABS($Y$2:$Y$276-F215)),ABS($Y$2:$Y$276-F215),0))","v":811},{"$f":"(B215/100)*(D215/100)*(F215/100)","v":164.69983158749994},163.99312099999997,"L",1,21.170569795316272,44.250827898724843,177.00331159489937,8.9988294933454907E-2,37.862030249999997,21.234525277435289,44.314301524474168,177.25720609789667,8.9859400126182112E-2,37.873699999999999,null,null,null,1307]
[4.5,450,{"$f":"INDEX($Y$2:$Y$276,MATCH(MIN(ABS($Y$2:$Y$276-B216)),ABS($Y$2:$Y$276-B216),0))","v":449},481.5,{"$f":"INDEX($Y$2:$Y$276,MATCH(MIN(ABS($Y$2:$Y$276-D216)),ABS($Y$2:$Y$276-D216),0))","v":479},841.5,{"$f":"INDEX($Y$2:$Y$276,MATCH(MIN(ABS($Y$2:$Y$276-F216)),ABS($Y$2:$Y$276-F216),0))","v":839},{"$f":"(B216/100)*(D216/100)*(F216/100)","v":182.33201249999999},180.44456900000003,"L",1,20.464884135472392,42.775800302100684,171.10320120840274,9.3091339586332658E-2,40.518225000000001,20.525864123957113,42.924427716257185,171.69771086502874,9.2769007389511257E-2,40.188100000000006,null,null,null,1319]
["HEIGHT m","HEIGHT cm","PRIME height","WIDTH cm","PRIME width","DEPTH cm","PRIME depth","VOLUME","PRIME volume","TABLE","1=Yes 0=NO","F¹","F²","F³","minimum RT60","Floor area","F¹","F²","F³","minimum RT60","Floor area",null,null,null,1321]
["USER INPUT",null,null,null,null,null,null,null,null,null,null,null,null,null,null,null,null,null,null,null,null,null,null,null,1327]
[null,null,null,null,null,null,null,null,null,null,null,null,null,null,null,null,null,null,null,null,null,null,null,null,1361]
[{"$f":"B220/100","v":3.5},350,{"$f":"INDEX($Y$2:$Y$276,MATCH(MIN(ABS($Y$2:$Y$276-B220)),ABS($Y$2:$Y$276-B220),0))","v":349},150,{"$f":"INDEX($Y$2:$Y$276,MATCH(MIN(ABS($Y$2:$Y$276-D220)),ABS($Y$2:$Y$276-D220),0))","v":149},200,{"$f":"INDEX($Y$2:$Y$276,MATCH(MIN(ABS($Y$2:$Y$276-F220)),ABS($Y$2:$Y$276-F220),0))","v":199},{"$f":"(B220/100)*(D220/100)*(F220/100)","v":10.5},{"$f":"(C220/100)*(E220/100)*(G220/100)","v":10.348198999999999},"USER",{"$f":"IF(H220>$K$22,$N$21,$O$21)","v":0},{"$f":"565/(F220*0.0328083989501312)","v":86.106000000000094},{"$f":"(SQRT(O220/(H220*35.3146667214885))*11250)","v":110.77013519324079},{"$f":"4*M220","v":443.08054077296316},{"$f":"0.25*(((0.028316846592*H220)/100)^(1/3))","v":3.5948828130011982E-2},{"$f":"(D220/100)*(F220/100)","v":3},{"$f":"565/(G220*0.0328083989501312)","v":86.53869346733677},{"$f":"(SQRT(T220/(I220*35.3146667214885))*11250)","v":111.30914877050927},{"$f":"4*R220","v":445.23659508203707},{"$f":"0.25*(((0.028316846592*I220)/100)^(1/3))","v":3.5774746244892949E-2},{"$f":"(E220/100)*(G220/100)","v":2.9651000000000001},null,null,null,1367]
[null,null,null,null,null,null,null,null,null,null,null,null,null,null,null,null,null,null,null,null,null,null,null,null,1373]
[null,null,"ONLY WRITE IN THE YELLOW CELLS",null,null,null,null,null,null,null,null,null,null,null,null,null,null,null,null,null,null,null,null,null,1381]
[null,null,null,null,null,null,null,null,null,null,null,null,null,null,null,null,null,null,null,null,null,null,null,null,1399]
[null,null,null,null,null,null,null,null,null,null,null,null,null,null,null,null,null,null,null,null,null,null,null,null,1409]
[null,null,null,null,null,null,null,null,null,null,null,null,null,null,null,null,null,null,null,null,null,null,null,null,1423]
[null,null,"Dolby Certification Ratios",null,null,null,null,null,null,null,null,null,null,null,null,null,null,null,null,null,null,null,null,null,1427]
[null,"Table","Height","Width","Length",null,null,null,null,null,null,null,null,null,null,null,null,null,null,null,null,null,null,null,1429]
[null,"M",1,{"$f":"1/F228","v":1.1764705882352942},{"$f":"G228*D228","v":1.411764705882353},0.85,1.2,null,null,null,null,null,null,null,null,null,null,null,null,null,null,null,null,null,1433]
[null,"N",1,{"$f":"1/F229","v":1.2048192771084338},{"$f":"G229*D229","v":1.4819277108433735},{"$f":"F228-0.02","v":0.83},{"$f":"G228+0.03","v":1.23},null,null,null,null,null,null,null,null,null,null,null,null,null,null,null,null,null,1439]
[null,"O",1,1.2345679012345681,1.5555555555555558,{"$f":"F229-0.02","v":0.80999999999999994},{"$f":"G229+0.03","v":1.26},null,null,null,null,null,null,null,null,null,null,null,null,null,null,null,null,null,1447]
[null,"P",1,1.2658227848101267,1.6329113924050636,0.78999999999999992,1.29,null,null,null,null,null,null,null,null,null,null,null,null,null,null,null,null,null,1451]
[null,"Q",1,1.2987012987012989,1.7142857142857146,0.76999999999999991,1.32,null,null,null,null,null,null,null,null,null,null,null,null,null,null,null,null,null,1453]
[null,"R",1,1.3333333333333335,1.8000000000000003,0.74999999999999989,1.35,null,null,null,null,null,null,null,null,null,null,null,null,null,null,null,null,null,1459]
[null,"S",1,1.3698630136986303,1.89041095890411,0.72999999999999987,1.3800000000000001,null,null,null,null,null,null,null,null,null,null,null,null,null,null,null,null,null,1471]
[null,"T",1,1.4084507042253525,1.9859154929577472,0.70999999999999985,1.4100000000000001,null,null,null,null,null,null,null,null,null,null,null,null,null,null,null,null,null,1481]
[null,"U",1,1.449275362318841,2.0869565217391313,0.68999999999999984,1.4400000000000002,null,null,null,null,null,null,null,null,null,null,null,null,null,null,null,null,null,1483]
[null,"V",1,1.4925373134328361,2.1940298507462694,0.66999999999999982,1.4700000000000002,null,null,null,null,null,null,null,null,null,null,null,null,null,null,null,null,null,1487]
[null,"W",1,1.538461538461539,2.3076923076923088,0.6499999999999998,1.5000000000000002,null,null,null,null,null,null,null,null,null,null,null,null,null,null,null,null,null,1489]
[null,"X",1,1.5873015873015879,2.4285714285714297,0.62999999999999978,1.5300000000000002,null,null,null,null,null,null,null,null,null,null,null,null,null,null,null,null,null,1493]
[null,null,null,null,null,"DOLBY CERTIFICATION RATIOS",null,null,null,null,null,null,null,null,null,null,null,null,null,null,null,null,null,null,1499]
[null,null,null,null,null,null,null,null,null,null,null,null,null,null,null,null,null,null,null,null,null,null,null,null,1511]
["HEIGHT m","HEIGHT cm","PRIME height","WIDTH cm","PRIME width","DEPTH cm","PRIME depth","VOLUME","PRIME volume","TABLE","1=Yes 0=NO","F¹","F²","F³","minimum RT60","Floor area","F¹","F²","F³","minimum RT60","Floor area",null,null,null,1097]
[{"$f":"A202","v":2.4},{"$f":"A243*100","v":240},{"$f":"INDEX($Y$2:$Y$276,MATCH(MIN(ABS($Y$2:$Y$276-B243)),ABS($Y$2:$Y$276-B243),0))","v":239},{"$f":"B243*$D$228","v":282.35294117647061},{"$f":"INDEX($Y$2:$Y$276,MATCH(MIN(ABS($Y$2:$Y$276-D243)),ABS($Y$2:$Y$276-D243),0))","v":283},{"$f":"B243*$E$228","v":338.82352941176475},{"$f":"INDEX($Y$2:$Y$276,MATCH(MIN(ABS($Y$2:$Y$276-F243)),ABS($Y$2:$Y$276-F243),0))","v":337},{"$f":"(B243/100)*(D243/100)*(F243/100)","v":22.960276816608999},{"$f":"(C243/100)*(E243/100)*(G243/100)","v":22.793669000000005},"M",{"$f":"IF(H243>$K$22,$N$21,$O$21)","v":0},{"$f":"565/(F243*0.0328083989501312)","v":50.826458333333377},{"$f":"(SQRT(O243/(H243*35.3146667214885))*11250)","v":85.341462059542593},{"$f":"4*M243","v":341.36584823817037},{"$f":"0.25*(((0.028316846592*H243)/100)^(1/3))","v":4.666028042994777E-2},{"$f":"(D243/100)*(F243/100)","v":9.5667820069204161},{"$f":"565/(G243*0.0328083989501312)","v":51.101483679525273},{"$f":"(SQRT(T243/(I243*35.3146667214885))*11250)","v":85.548888833299046},{"$f":"4*R243","v":342.19555533319618},{"$f":"0.25*(((0.028316846592*I243)/100)^(1/3))","v":4.6547145220780822E-2},{"$f":"(E243/100)*(G243/100)","v":9.5371000000000006},null,null,null,1103]
[{"$f":"A203","v":2.5499999999999998},254.99999999999997,{"$f":"INDEX($Y$2:$Y$276,MATCH(MIN(ABS($Y$2:$Y$276-B244)),ABS($Y$2:$Y$276-B244),0))","v":257},{"$f":"B244*$D$228","v":300},{"$f":"INDEX($Y$2:$Y$276,MATCH(MIN(ABS($Y$2:$Y$276-D244)),ABS($Y$2:$Y$276-D244),0))","v":293},{"$f":"B244*$E$228","v":360},{"$f":"INDEX($Y$2:$Y$276,MATCH(MIN(ABS($Y$2:$Y$276-F244)),ABS($Y$2:$Y$276-F244),0))","v":359},{"$f":"(B244/100)*(D244/100)*(F244/100)","v":27.54},{"$f":"(C244/100)*(E244/100)*(G244/100)","v":27.033058999999998},"M",0,47.836666666666716,80.321376056040108,321.28550422416043,4.9576547956819511E-2,10.8,47.969916434540437,80.820348976628438,{"$f":"4*R244","v":323.28139590651375},4.9270469657976039E-2,10.518700000000001,null,null,null,1109]
[2.7,270,{"$f":"INDEX($Y$2:$Y$276,MATCH(MIN(ABS($Y$2:$Y$276-B245)),ABS($Y$2:$Y$276-B245),0))","v":269},317.64705882352945,{"$f":"INDEX($Y$2:$Y$276,MATCH(MIN(ABS($Y$2:$Y$276-D245)),ABS($Y$2:$Y$276-D245),0))","v":317},381.1764705882353,{"$f":"INDEX($Y$2:$Y$276,MATCH(MIN(ABS($Y$2:$Y$276-F245)),ABS($Y$2:$Y$276-F245),0))","v":383},32.691487889273361,32.659559000000002,"M",0,45.179074074074116,75.859077386260083,303.43630954504033,5.2492815483691245E-2,12.107958477508653,44.963968668407361,75.883789979673892,303.53515991869557,5.247572048083831E-2,12.1411,null,null,null,1117]
[2.85,285,{"$f":"INDEX($Y$2:$Y$276,MATCH(MIN(ABS($Y$2:$Y$276-B246)),ABS($Y$2:$Y$276-B246),0))","v":283},335.29411764705884,{"$f":"INDEX($Y$2:$Y$276,MATCH(MIN(ABS($Y$2:$Y$276-D246)),ABS($Y$2:$Y$276-D246),0))","v":337},402.35294117647061,{"$f":"INDEX($Y$2:$Y$276,MATCH(MIN(ABS($Y$2:$Y$276-F246)),ABS($Y$2:$Y$276-F246),0))","v":401},38.448373702422145,38.243771000000002,"M",0,42.801228070175483,71.866494365930606,287.46597746372242,5.5409083010562979E-2,13.490657439446366,42.945635910224482,71.994427483333794,287.97770993333518,5.5310621824471384E-2,13.5137,null,null,null,1123]
[3,300,{"$f":"INDEX($Y$2:$Y$276,MATCH(MIN(ABS($Y$2:$Y$276-B247)),ABS($Y$2:$Y$276-B247),0))","v":293},352.94117647058823,{"$f":"INDEX($Y$2:$Y$276,MATCH(MIN(ABS($Y$2:$Y$276-D247)),ABS($Y$2:$Y$276-D247),0))","v":353},423.52941176470591,{"$f":"INDEX($Y$2:$Y$276,MATCH(MIN(ABS($Y$2:$Y$276-F247)),ABS($Y$2:$Y$276-F247),0))","v":421},44.844290657439444,43.543609000000004,"M",1,40.661166666666709,68.273169647634077,273.09267859053631,5.8325350537434706E-2,14.948096885813149,40.905463182897904,68.946302145632416,275.78520858252966,5.7755911891965918E-2,14.861299999999998,null,null,null,1129]
[3.2,320,{"$f":"INDEX($Y$2:$Y$276,MATCH(MIN(ABS($Y$2:$Y$276-B248)),ABS($Y$2:$Y$276-B248),0))","v":317},376.47058823529414,{"$f":"INDEX($Y$2:$Y$276,MATCH(MIN(ABS($Y$2:$Y$276-D248)),ABS($Y$2:$Y$276-D248),0))","v":379},451.76470588235298,{"$f":"INDEX($Y$2:$Y$276,MATCH(MIN(ABS($Y$2:$Y$276-F248)),ABS($Y$2:$Y$276-F248),0))","v":449},54.424359861591711,53.944207000000006,"M",1,38.119843750000037,64.006096544656955,256.02438617862782,6.2213707239930374E-2,17.00761245674741,38.354565701559061,64.195440172482307,256.78176068992923,6.2030208707984445E-2,17.017099999999999,null,null,null,1151]
[3.3,330,{"$f":"INDEX($Y$2:$Y$276,MATCH(MIN(ABS($Y$2:$Y$276-B249)),ABS($Y$2:$Y$276-B249),0))","v":331},388.23529411764707,{"$f":"INDEX($Y$2:$Y$276,MATCH(MIN(ABS($Y$2:$Y$276-D249)),ABS($Y$2:$Y$276-D249),0))","v":389},465.88235294117652,{"$f":"INDEX($Y$2:$Y$276,MATCH(MIN(ABS($Y$2:$Y$276-F249)),ABS($Y$2:$Y$276-F249),0))","v":467},59.687750865051903,60.130453000000003,"M",1,36.964696969697002,62.066517861485522,248.26607144594209,6.4157885591178174E-2,18.087197231833912,36.876231263383339,61.913823801693596,247.65529520677438,6.4316114035442282E-2,18.1663,null,null,null,1153]
[3.4,340,{"$f":"INDEX($Y$2:$Y$276,MATCH(MIN(ABS($Y$2:$Y$276-B250)),ABS($Y$2:$Y$276-B250),0))","v":337},400,{"$f":"INDEX($Y$2:$Y$276,MATCH(MIN(ABS($Y$2:$Y$276-D250)),ABS($Y$2:$Y$276-D250),0))","v":401},480.00000000000006,{"$f":"INDEX($Y$2:$Y$276,MATCH(MIN(ABS($Y$2:$Y$276-F250)),ABS($Y$2:$Y$276-F250),0))","v":479},65.28,64.730622999999994,"M",1,35.877500000000033,60.241032042030064,240.96412816812025,6.6102063942426001E-2,19.200000000000003,35.952400835073107,60.410976588874128,241.64390635549651,6.5916109568958367E-2,19.207899999999999,null,null,null,1163]
[3.6,360,{"$f":"INDEX($Y$2:$Y$276,MATCH(MIN(ABS($Y$2:$Y$276-B251)),ABS($Y$2:$Y$276-B251),0))","v":359},423.52941176470591,{"$f":"INDEX($Y$2:$Y$276,MATCH(MIN(ABS($Y$2:$Y$276-D251)),ABS($Y$2:$Y$276-D251),0))","v":421},508.23529411764707,{"$f":"INDEX($Y$2:$Y$276,MATCH(MIN(ABS($Y$2:$Y$276-F251)),ABS($Y$2:$Y$276-F251),0))","v":509},77.490934256055368,76.929750999999996,"M",1,33.884305555555592,56.894308039695069,227.57723215878028,6.9990420644921655E-2,21.525259515570934,33.833398821218111,57.032316243374858,228.12926497349943,6.9821056101023765E-2,21.428899999999999,null,null,null,1171]
[3.75,375,{"$f":"INDEX($Y$2:$Y$276,MATCH(MIN(ABS($Y$2:$Y$276-B252)),ABS($Y$2:$Y$276-B252),0))","v":373},441.1764705882353,{"$f":"INDEX($Y$2:$Y$276,MATCH(MIN(ABS($Y$2:$Y$276-D252)),ABS($Y$2:$Y$276-D252),0))","v":443},529.41176470588243,{"$f":"INDEX($Y$2:$Y$276,MATCH(MIN(ABS($Y$2:$Y$276-F252)),ABS($Y$2:$Y$276-F252),0))","v":523},87.586505190311442,86.419996999999995,"M",1,32.528933333333363,54.61853571810726,218.47414287242904,7.2906688171793396E-2,23.35640138408305,32.927724665392006,54.863187547984722,219.45275019193889,7.2581574822228434E-2,23.168900000000001,null,null,null,1181]
[3.9,390,{"$f":"INDEX($Y$2:$Y$276,MATCH(MIN(ABS($Y$2:$Y$276-B253)),ABS($Y$2:$Y$276-B253),0))","v":389},458.8235294117647,{"$f":"INDEX($Y$2:$Y$276,MATCH(MIN(ABS($Y$2:$Y$276-D253)),ABS($Y$2:$Y$276-D253),0))","v":457},550.58823529411768,{"$f":"INDEX($Y$2:$Y$276,MATCH(MIN(ABS($Y$2:$Y$276-F253)),ABS($Y$2:$Y$276-F253),0))","v":547},98.52290657439444,97.241830999999991,"M",1,31.277820512820544,52.51782280587237,210.07129122348948,7.5822955698665123E-2,25.262283737024219,31.482998171846468,52.74744276250825,210.989771050033,7.5492883511508652E-2,24.997900000000001,null,null,null,1187]
[4.05,405,{"$f":"INDEX($Y$2:$Y$276,MATCH(MIN(ABS($Y$2:$Y$276-B254)),ABS($Y$2:$Y$276-B254),0))","v":401},476.47058823529414,{"$f":"INDEX($Y$2:$Y$276,MATCH(MIN(ABS($Y$2:$Y$276-D254)),ABS($Y$2:$Y$276-D254),0))","v":479},571.76470588235293,{"$f":"INDEX($Y$2:$Y$276,MATCH(MIN(ABS($Y$2:$Y$276-F254)),ABS($Y$2:$Y$276-F254),0))","v":571},{"$f":"(B254/100)*(D254/100)*(F254/100)","v":110.33377162629758},109.67710899999999,"M",1,30.119382716049419,50.572718257506729,202.29087303002692,7.8739223225536864E-2,27.242906574394464,30.159719789842416,50.673447743501178,202.69379097400471,7.858270414431591E-2,27.350899999999999,null,null,null,1193]
[4.2,420,{"$f":"INDEX($Y$2:$Y$276,MATCH(MIN(ABS($Y$2:$Y$276-B255)),ABS($Y$2:$Y$276-B255),0))","v":419},494.11764705882354,{"$f":"INDEX($Y$2:$Y$276,MATCH(MIN(ABS($Y$2:$Y$276-D255)),ABS($Y$2:$Y$276-D255),0))","v":491},592.94117647058829,{"$f":"INDEX($Y$2:$Y$276,MATCH(MIN(ABS($Y$2:$Y$276-F255)),ABS($Y$2:$Y$276-F255),0))","v":593},{"$f":"(B255/100)*(D255/100)*(F255/100)","v":123.05273356401385},121.99729700000002,"M",1,29.043690476190502,48.766549748310055,195.06619899324022,8.1655490752408591E-2,29.298269896193773,29.040809443507619,48.906777667575533,195.62711067030213,8.1421364111666894E-2,29.116299999999999,null,null,null,1201]
[4.3499999999999996,434.99999999999994,{"$f":"INDEX($Y$2:$Y$276,MATCH(MIN(ABS($Y$2:$Y$276-B256)),ABS($Y$2:$Y$276-B256),0))","v":433},511.76470588235287,{"$f":"INDEX($Y$2:$Y$276,MATCH(MIN(ABS($Y$2:$Y$276-D256)),ABS($Y$2:$Y$276-D256),0))","v":509},614.11764705882354,{"$f":"INDEX($Y$2:$Y$276,MATCH(MIN(ABS($Y$2:$Y$276-F256)),ABS($Y$2:$Y$276-F256),0))","v":613},{"$f":"(B256/100)*(D256/100)*(F256/100)","v":136.71342560553632},135.10336100000001,"M",1,28.04218390804601,47.084944584575233,188.33977833830093,8.4571758279280332E-2,31.428373702422146,28.093311582381759,47.271247948657262,189.08499179462905,8.4238447783841847E-2,31.201699999999999,null,null,null,1213]
[4.5,450,{"$f":"INDEX($Y$2:$Y$276,MATCH(MIN(ABS($Y$2:$Y$276-B257)),ABS($Y$2:$Y$276-B257),0))","v":449},529.41176470588232,{"$f":"INDEX($Y$2:$Y$276,MATCH(MIN(ABS($Y$2:$Y$276-D257)),ABS($Y$2:$Y$276-D257),0))","v":523},635.2941176470589,{"$f":"INDEX($Y$2:$Y$276,MATCH(MIN(ABS($Y$2:$Y$276-F257)),ABS($Y$2:$Y$276-F257),0))","v":631},{"$f":"(B257/100)*(D257/100)*(F257/100)","v":151.34948096885816},148.17583700000003,"M",1,27.107444444444468,45.515446431756061,182.06178572702424,8.7488025806152087E-2,33.633217993079583,27.291917591125227,45.838105068611682,183.35242027444673,8.6872189547093137E-2,33.001300000000001,null,null,null,1217]
["HEIGHT m","HEIGHT cm","PRIME height","WIDTH cm","PRIME width","DEPTH cm","PRIME depth","VOLUME","PRIME volume","TABLE","1=Yes 0=NO","F¹","F²","F³","minimum RT60","Floor area","F¹","F²","F³","minimum RT60","Floor area",null,null,null,1097]
[{"$f":"A243","v":2.4},{"$f":"A259*100","v":240},{"$f":"INDEX($Y$2:$Y$276,MATCH(MIN(ABS($Y$2:$Y$276-B259)),ABS($Y$2:$Y$276-B259),0))","v":239},{"$f":"B259*$D$229","v":289.15662650602411},{"$f":"INDEX($Y$2:$Y$276,MATCH(MIN(ABS($Y$2:$Y$276-D259)),ABS($Y$2:$Y$276-D259),0))","v":293},{"$f":"B259*$E$229","v":355.66265060240966},{"$f":"INDEX($Y$2:$Y$276,MATCH(MIN(ABS($Y$2:$Y$276-F259)),ABS($Y$2:$Y$276-F259),0))","v":353},{"$f":"(B259/100)*(D259/100)*(F259/100)","v":24.682130933372044},{"$f":"(C259/100)*(E259/100)*(G259/100)","v":24.719531},"N",{"$f":"IF(H259>$K$22,$N$21,$O$21)","v":0},{"$f":"565/(F259*0.0328083989501312)","v":48.420040650406555},{"$f":"(SQRT(O259/(H259*35.3146667214885))*11250)","v":83.308932234138339},{"$f":"4*M259","v":333.23572893655336},{"$f":"0.25*(((0.028316846592*H259)/100)^(1/3))","v":4.7798674706434868E-2},{"$f":"(D259/100)*(F259/100)","v":10.284221222238351},{"$f":"565/(G259*0.0328083989501312)","v":48.785269121813087},{"$f":"(SQRT(T259/(I259*35.3146667214885))*11250)","v":83.266896211484948},{"$f":"4*R259","v":333.06758484593979},{"$f":"0.25*(((0.028316846592*I259)/100)^(1/3))","v":4.7822805138385396E-2},{"$f":"(E259/100)*(G259/100)","v":10.3429},null,null,null,1103]
[{"$f":"A244","v":2.5499999999999998},254.99999999999997,{"$f":"INDEX($Y$2:$Y$276,MATCH(MIN(ABS($Y$2:$Y$276-B260)),ABS($Y$2:$Y$276-B260),0))","v":257},{"$f":"B260*$D$229","v":307.22891566265059},{"$f":"INDEX($Y$2:$Y$276,MATCH(MIN(ABS($Y$2:$Y$276-D260)),ABS($Y$2:$Y$276-D260),0))","v":307},{"$f":"B260*$E$229","v":377.89156626506019},{"$f":"INDEX($Y$2:$Y$276,MATCH(MIN(ABS($Y$2:$Y$276-F260)),ABS($Y$2:$Y$276-F260),0))","v":379},{"$f":"(B260/100)*(D260/100)*(F260/100)","v":29.605300116127154},{"$f":"(C260/100)*(E260/100)*(G260/100)","v":29.902720999999996},"N",0,45.57180296508853,78.408406808600802,313.63362723440321,5.0786091875587046E-2,11.609921614167511,45.438522427440681,78.147582779809781,{"$f":"4*R260","v":312.59033111923912},5.0955594662728462E-2,11.635299999999999,null,null,null,1109]
[2.7,270,{"$f":"INDEX($Y$2:$Y$276,MATCH(MIN(ABS($Y$2:$Y$276-B261)),ABS($Y$2:$Y$276-B261),0))","v":269},325.30120481927713,{"$f":"INDEX($Y$2:$Y$276,MATCH(MIN(ABS($Y$2:$Y$276-D261)),ABS($Y$2:$Y$276-D261),0))","v":331},400.12048192771084,{"$f":"INDEX($Y$2:$Y$276,MATCH(MIN(ABS($Y$2:$Y$276-F261)),ABS($Y$2:$Y$276-F261),0))","v":401},35.143112207867624,35.704639,"N",0,43.04003613369472,74.052384208122973,296.20953683249189,5.377350904473923E-2,13.015967484395414,42.945635910224482,73.662123889876455,294.64849555950582,5.4058399917345679E-2,13.273099999999999,null,null,null,1117]
[2.85,285,{"$f":"INDEX($Y$2:$Y$276,MATCH(MIN(ABS($Y$2:$Y$276-B262)),ABS($Y$2:$Y$276-B262),0))","v":283},343.37349397590367,{"$f":"INDEX($Y$2:$Y$276,MATCH(MIN(ABS($Y$2:$Y$276-D262)),ABS($Y$2:$Y$276-D262),0))","v":347},422.34939759036143,{"$f":"INDEX($Y$2:$Y$276,MATCH(MIN(ABS($Y$2:$Y$276-F262)),ABS($Y$2:$Y$276-F262),0))","v":421},41.331722673827848,41.342621000000001,"N",0,40.774771074026575,70.154890302432293,280.61956120972917,5.6760926213891415E-2,14.502358832922051,40.905463182897904,70.148725251682706,280.59490100673082,5.6765914672191213E-2,14.608700000000001,null,null,null,1123]
[3,300,{"$f":"INDEX($Y$2:$Y$276,MATCH(MIN(ABS($Y$2:$Y$276-B263)),ABS($Y$2:$Y$276-B263),0))","v":293},361.44578313253015,{"$f":"INDEX($Y$2:$Y$276,MATCH(MIN(ABS($Y$2:$Y$276-D263)),ABS($Y$2:$Y$276-D263),0))","v":359},444.57831325301203,{"$f":"INDEX($Y$2:$Y$276,MATCH(MIN(ABS($Y$2:$Y$276-F263)),ABS($Y$2:$Y$276-F263),0))","v":443},48.207286979242276,46.597841000000003,"N",1,38.736032520325246,66.647145787310677,266.58858314924271,5.9748343383043592E-2,16.069095659747425,38.874040632054218,67.405787523967518,269.62315009587007,5.9075884998511477E-2,15.903699999999999,null,null,null,1129]
[3.2,320,{"$f":"INDEX($Y$2:$Y$276,MATCH(MIN(ABS($Y$2:$Y$276-B264)),ABS($Y$2:$Y$276-B264),0))","v":317},385.54216867469881,{"$f":"INDEX($Y$2:$Y$276,MATCH(MIN(ABS($Y$2:$Y$276-D264)),ABS($Y$2:$Y$276-D264),0))","v":383},474.2168674698795,{"$f":"INDEX($Y$2:$Y$276,MATCH(MIN(ABS($Y$2:$Y$276-F264)),ABS($Y$2:$Y$276-F264),0))","v":479},58.505791842067062,58.155869000000003,"N",1,36.315030487804918,62.481699175603772,249.92679670241509,6.3731566275246496E-2,18.283059950645956,35.952400835073107,62.606765764256366,250.42706305702546,6.3604252725564872E-2,18.345700000000001,null,null,null,1151]
[3.3,330,{"$f":"INDEX($Y$2:$Y$276,MATCH(MIN(ABS($Y$2:$Y$276-B265)),ABS($Y$2:$Y$276-B265),0))","v":331},397.59036144578317,{"$f":"INDEX($Y$2:$Y$276,MATCH(MIN(ABS($Y$2:$Y$276-D265)),ABS($Y$2:$Y$276-D265),0))","v":397},489.03614457831327,{"$f":"INDEX($Y$2:$Y$276,MATCH(MIN(ABS($Y$2:$Y$276-F265)),ABS($Y$2:$Y$276-F265),0))","v":491},64.163898969371473,64.520837,"N",1,35.21457501847749,60.58831435210061,242.35325740840244,6.5723177721347947E-2,19.443605748294384,35.073727087576415,60.476380091999353,241.90552036799741,6.5844823151490303E-2,19.492700000000003,null,null,null,1153]
[3.4,340,{"$f":"INDEX($Y$2:$Y$276,MATCH(MIN(ABS($Y$2:$Y$276-B266)),ABS($Y$2:$Y$276-B266),0))","v":337},409.63855421686753,{"$f":"INDEX($Y$2:$Y$276,MATCH(MIN(ABS($Y$2:$Y$276-D266)),ABS($Y$2:$Y$276-D266),0))","v":409},503.85542168674698,{"$f":"INDEX($Y$2:$Y$276,MATCH(MIN(ABS($Y$2:$Y$276-F266)),ABS($Y$2:$Y$276-F266),0))","v":503},70.175526201190308,69.329999000000001,"N",1,34.178852223816392,58.806305106450594,235.22522042580238,6.7714789167449399E-2,20.639860647408916,34.236978131212759,59.044400962297964,236.17760384919185,6.7441730072639677E-2,20.572700000000001,null,null,null,1163]
[3.6,360,{"$f":"INDEX($Y$2:$Y$276,MATCH(MIN(ABS($Y$2:$Y$276-B267)),ABS($Y$2:$Y$276-B267),0))","v":359},433.73493975903619,{"$f":"INDEX($Y$2:$Y$276,MATCH(MIN(ABS($Y$2:$Y$276-D267)),ABS($Y$2:$Y$276-D267),0))","v":433},533.49397590361446,{"$f":"INDEX($Y$2:$Y$276,MATCH(MIN(ABS($Y$2:$Y$276-F267)),ABS($Y$2:$Y$276-F267),0))","v":541},83.302191900130651,84.09682699999999,"N",1,32.280027100271035,55.539288156092226,222.1571526243689,7.1698012059652302E-2,23.139497750036291,31.832162661737556,55.363803102521381,221.45521241008552,7.1925271185328932E-2,23.4253,null,null,null,1171]
[3.75,375,{"$f":"INDEX($Y$2:$Y$276,MATCH(MIN(ABS($Y$2:$Y$276-B268)),ABS($Y$2:$Y$276-B268),0))","v":373},451.80722891566268,{"$f":"INDEX($Y$2:$Y$276,MATCH(MIN(ABS($Y$2:$Y$276-D268)),ABS($Y$2:$Y$276-D268),0))","v":449},555.72289156626505,{"$f":"INDEX($Y$2:$Y$276,MATCH(MIN(ABS($Y$2:$Y$276-F268)),ABS($Y$2:$Y$276-F268),0))","v":557},94.154857381332576,93.284689000000014,"N",1,30.988826016260195,53.31771662984854,213.27086651939416,7.4685429228804487E-2,25.107961968355351,30.917773788150843,53.482988031671653,213.93195212668661,7.4454638728148559E-2,25.009300000000003,null,null,null,1181]
[3.9,390,{"$f":"INDEX($Y$2:$Y$276,MATCH(MIN(ABS($Y$2:$Y$276-B269)),ABS($Y$2:$Y$276-B269),0))","v":389},469.87951807228922,{"$f":"INDEX($Y$2:$Y$276,MATCH(MIN(ABS($Y$2:$Y$276-D269)),ABS($Y$2:$Y$276-D269),0))","v":467},577.95180722891564,{"$f":"INDEX($Y$2:$Y$276,MATCH(MIN(ABS($Y$2:$Y$276-F269)),ABS($Y$2:$Y$276-F269),0))","v":577},105.91140949339528,104.81955099999999,"N",1,29.796948092557884,51.267035221008221,205.06814088403289,7.7672846397956671E-2,27.156771664973149,29.846100519930708,51.444429304770793,205.77771721908317,7.7405009751575229E-2,26.945899999999998,null,null,null,1187]
[4.05,405,{"$f":"INDEX($Y$2:$Y$276,MATCH(MIN(ABS($Y$2:$Y$276-B270)),ABS($Y$2:$Y$276-B270),0))","v":401},487.9518072289157,{"$f":"INDEX($Y$2:$Y$276,MATCH(MIN(ABS($Y$2:$Y$276-D270)),ABS($Y$2:$Y$276-D270),0))","v":487},600.18072289156623,{"$f":"INDEX($Y$2:$Y$276,MATCH(MIN(ABS($Y$2:$Y$276-F270)),ABS($Y$2:$Y$276-F270),0))","v":601},{"$f":"(B270/100)*(D270/100)*(F270/100)","v":118.60800370155322},117.367487,"N",1,28.693357422463148,49.368256138748656,197.47302455499462,8.0660263567108856E-2,29.285926839889683,28.654242928452611,49.541579658651727,198.16631863460691,8.0378069884669015E-2,29.268699999999999,null,null,null,1193]
[4.2,420,{"$f":"INDEX($Y$2:$Y$276,MATCH(MIN(ABS($Y$2:$Y$276-B271)),ABS($Y$2:$Y$276-B271),0))","v":419},506.02409638554224,{"$f":"INDEX($Y$2:$Y$276,MATCH(MIN(ABS($Y$2:$Y$276-D271)),ABS($Y$2:$Y$276-D271),0))","v":509},622.40963855421683,{"$f":"INDEX($Y$2:$Y$276,MATCH(MIN(ABS($Y$2:$Y$276-F271)),ABS($Y$2:$Y$276-F271),0))","v":619},{"$f":"(B271/100)*(D271/100)*(F271/100)","v":132.28079547104082},132.01474900000002,"N",1,27.668594657375177,47.60510413379334,190.42041653517336,8.364768073626104E-2,31.495427493104952,27.821001615508912,47.637061854727619,190.54824741891048,8.3591564990795411E-2,31.507100000000001,null,null,null,1201]
[4.3499999999999996,434.99999999999994,{"$f":"INDEX($Y$2:$Y$276,MATCH(MIN(ABS($Y$2:$Y$276-B272)),ABS($Y$2:$Y$276-B272),0))","v":433},524.0963855421686,{"$f":"INDEX($Y$2:$Y$276,MATCH(MIN(ABS($Y$2:$Y$276-D272)),ABS($Y$2:$Y$276-D272),0))","v":523},644.63855421686742,{"$f":"INDEX($Y$2:$Y$276,MATCH(MIN(ABS($Y$2:$Y$276-F272)),ABS($Y$2:$Y$276-F272),0))","v":643},{"$f":"(B272/100)*(D272/100)*(F272/100)","v":146.96594026709244},145.61313699999999,"N",1,26.714505186431207,45.963548818834958,183.85419527533983,8.6635097905413197E-2,33.785273624618952,26.782581648522577,46.105450092913593,184.42180037165437,8.6368456309941735E-2,33.628900000000002,null,null,null,1213]
[4.5,450,{"$f":"INDEX($Y$2:$Y$276,MATCH(MIN(ABS($Y$2:$Y$276-B273)),ABS($Y$2:$Y$276-B273),0))","v":449},542.16867469879526,{"$f":"INDEX($Y$2:$Y$276,MATCH(MIN(ABS($Y$2:$Y$276-D273)),ABS($Y$2:$Y$276-D273),0))","v":541},666.86746987951813,{"$f":"INDEX($Y$2:$Y$276,MATCH(MIN(ABS($Y$2:$Y$276-F273)),ABS($Y$2:$Y$276-F273),0))","v":661},{"$f":"(B273/100)*(D273/100)*(F273/100)","v":162.69959355494268},160.562849,"N",1,25.824021680216827,44.43143052487379,177.72572209949516,8.9622515074565395E-2,36.155465234431709,26.053252647503811,44.62765806956228,178.51063227824912,8.9228445413673071E-2,35.760100000000001,null,null,null,1217]
["HEIGHT m","HEIGHT cm","PRIME height","WIDTH cm","PRIME width","DEPTH cm","PRIME depth","VOLUME","PRIME volume","TABLE","1=Yes 0=NO","F¹","F²","F³","minimum RT60","Floor area","F¹","F²","F³","minimum RT60","Floor area",null,null,null,1097]
[{"$f":"A259","v":2.4},{"$f":"A275*100","v":240},{"$f":"INDEX($Y$2:$Y$276,MATCH(MIN(ABS($Y$2:$Y$276-B275)),ABS($Y$2:$Y$276-B275),0))","v":239},{"$f":"B275*$D$230","v":296.2962962962963},{"$f":"INDEX($Y$2:$Y$276,MATCH(MIN(ABS($Y$2:$Y$276-D275)),ABS($Y$2:$Y$276-D275),0))","v":293},{"$f":"B275*$E$230","v":373.33333333333337},{"$f":"INDEX($Y$2:$Y$276,MATCH(MIN(ABS($Y$2:$Y$276-F275)),ABS($Y$2:$Y$276-F275),0))","v":373},{"$f":"(B275/100)*(D275/100)*(F275/100)","v":26.548148148148154},{"$f":"(C275/100)*(E275/100)*(G275/100)","v":26.120071000000003},"O",{"$f":"IF(H275>$K$22,$N$21,$O$21)","v":0},{"$f":"565/(F275*0.0328083989501312)","v":46.128214285714328},{"$f":"(SQRT(O275/(H275*35.3146667214885))*11250)","v":81.30945335173476},{"$f":"4*M275","v":325.23781340693904},{"$f":"0.25*(((0.028316846592*H275)/100)^(1/3))","v":4.8974090808040681E-2},{"$f":"(D275/100)*(F275/100)","v":11.061728395061731},{"$f":"565/(G275*0.0328083989501312)","v":46.169436997319082},{"$f":"(SQRT(T275/(I275*35.3146667214885))*11250)","v":81.751237302309661},{"$f":"4*R275","v":327.00494920923865},{"$f":"0.25*(((0.028316846592*I275)/100)^(1/3))","v":4.8709434663045795E-2},{"$f":"(E275/100)*(G275/100)","v":10.928900000000001},null,null,null,1103]
[{"$f":"A260","v":2.5499999999999998},254.99999999999997,{"$f":"INDEX($Y$2:$Y$276,MATCH(MIN(ABS($Y$2:$Y$276-B276)),ABS($Y$2:$Y$276-B276),0))","v":257},{"$f":"B276*$D$230","v":314.81481481481484},{"$f":"INDEX($Y$2:$Y$276,MATCH(MIN(ABS($Y$2:$Y$276-D276)),ABS($Y$2:$Y$276-D276),0))","v":313},{"$f":"B276*$E$230","v":396.66666666666669},{"$f":"INDEX($Y$2:$Y$276,MATCH(MIN(ABS($Y$2:$Y$276-F276)),ABS($Y$2:$Y$276-F276),0))","v":397},{"$f":"(B276/100)*(D276/100)*(F276/100)","v":31.843518518518522},{"$f":"(C276/100)*(E276/100)*(G276/100)","v":31.935076999999996},"O",0,43.414789915966431,76.526544331044477,306.10617732417791,5.2034971483543219E-2,12.487654320987655,43.378337531486196,76.453339967613488,{"$f":"4*R276","v":305.81335987045395},5.2084795166396282E-2,12.4261,null,null,null,1109]
[2.7,270,{"$f":"INDEX($Y$2:$Y$276,MATCH(MIN(ABS($Y$2:$Y$276-B277)),ABS($Y$2:$Y$276-B277),0))","v":269},333.33333333333337,{"$f":"INDEX($Y$2:$Y$276,MATCH(MIN(ABS($Y$2:$Y$276-D277)),ABS($Y$2:$Y$276-D277),0))","v":331},420.00000000000006,{"$f":"INDEX($Y$2:$Y$276,MATCH(MIN(ABS($Y$2:$Y$276-F277)),ABS($Y$2:$Y$276-F277),0))","v":421},37.800000000000011,37.485419,"O",0,41.002857142857181,72.275069645986449,289.10027858394579,5.509585215904577E-2,14.000000000000004,40.905463182897904,72.476686321673668,289.90674528669467,5.4942585734761983E-2,13.9351,null,null,null,1117]
[2.85,285,{"$f":"INDEX($Y$2:$Y$276,MATCH(MIN(ABS($Y$2:$Y$276-B278)),ABS($Y$2:$Y$276-B278),0))","v":283},351.8518518518519,{"$f":"INDEX($Y$2:$Y$276,MATCH(MIN(ABS($Y$2:$Y$276-D278)),ABS($Y$2:$Y$276-D278),0))","v":353},443.33333333333343,{"$f":"INDEX($Y$2:$Y$276,MATCH(MIN(ABS($Y$2:$Y$276-F278)),ABS($Y$2:$Y$276-F278),0))","v":443},44.456481481481504,44.255257,"O",1,38.844812030075218,68.471118611987151,273.88447444794861,5.8156732834548315E-2,15.598765432098771,38.874040632054218,68.574738960102806,274.29895584041122,5.8068854688849612E-2,15.637899999999998,null,null,null,1123]
[3,300,{"$f":"INDEX($Y$2:$Y$276,MATCH(MIN(ABS($Y$2:$Y$276-B279)),ABS($Y$2:$Y$276-B279),0))","v":293},370.37037037037044,{"$f":"INDEX($Y$2:$Y$276,MATCH(MIN(ABS($Y$2:$Y$276-D279)),ABS($Y$2:$Y$276-D279),0))","v":373},466.66666666666674,{"$f":"INDEX($Y$2:$Y$276,MATCH(MIN(ABS($Y$2:$Y$276-F279)),ABS($Y$2:$Y$276-F279),0))","v":467},51.851851851851869,51.037963000000005,"O",1,36.902571428571463,65.047562681387788,260.19025072555115,6.1217613510050846E-2,17.283950617283956,36.876231263383339,65.391506256836266,261.56602502734506,6.0895623605301277E-2,17.4191,null,null,null,1129]
[3.2,320,{"$f":"INDEX($Y$2:$Y$276,MATCH(MIN(ABS($Y$2:$Y$276-B280)),ABS($Y$2:$Y$276-B280),0))","v":317},395.06172839506178,{"$f":"INDEX($Y$2:$Y$276,MATCH(MIN(ABS($Y$2:$Y$276-D280)),ABS($Y$2:$Y$276-D280),0))","v":397},497.77777777777783,{"$f":"INDEX($Y$2:$Y$276,MATCH(MIN(ABS($Y$2:$Y$276-F280)),ABS($Y$2:$Y$276-F280),0))","v":499},62.928943758573403,62.798651000000007,"O",1,34.596160714285752,60.982090013801063,243.92836005520425,6.5298787744054246E-2,19.665294924554189,34.51142284569142,61.024235483937971,244.09694193575189,6.5253690118708851E-2,19.810300000000002,null,null,null,1151]
[3.3,330,{"$f":"INDEX($Y$2:$Y$276,MATCH(MIN(ABS($Y$2:$Y$276-B281)),ABS($Y$2:$Y$276-B281),0))","v":331},407.40740740740745,{"$f":"INDEX($Y$2:$Y$276,MATCH(MIN(ABS($Y$2:$Y$276-D281)),ABS($Y$2:$Y$276-D281),0))","v":409},513.33333333333337,{"$f":"INDEX($Y$2:$Y$276,MATCH(MIN(ABS($Y$2:$Y$276-F281)),ABS($Y$2:$Y$276-F281),0))","v":509},69.014814814814827,68.907910999999999,"O",1,33.547792207792241,59.134147892170738,236.53659156868295,6.7339374861055942E-2,20.913580246913583,33.833398821218111,59.164712354082425,236.6588494163297,6.7304587372429586E-2,20.818099999999998,null,null,null,1153]
[3.4,340,{"$f":"INDEX($Y$2:$Y$276,MATCH(MIN(ABS($Y$2:$Y$276-B282)),ABS($Y$2:$Y$276-B282),0))","v":337},419.75308641975312,{"$f":"INDEX($Y$2:$Y$276,MATCH(MIN(ABS($Y$2:$Y$276-D282)),ABS($Y$2:$Y$276-D282),0))","v":419},528.88888888888903,{"$f":"INDEX($Y$2:$Y$276,MATCH(MIN(ABS($Y$2:$Y$276-F282)),ABS($Y$2:$Y$276-F282),0))","v":523},75.480932784636508,73.849169000000018,"O",1,32.561092436974818,57.39490824828335,229.5796329931334,6.9379961978057625E-2,22.200274348422504,32.927724665392006,57.814563076120656,231.25825230448262,6.8876358137604399E-2,21.913700000000002,null,null,null,1163]
[3.6,360,{"$f":"INDEX($Y$2:$Y$276,MATCH(MIN(ABS($Y$2:$Y$276-B283)),ABS($Y$2:$Y$276-B283),0))","v":359},444.44444444444451,{"$f":"INDEX($Y$2:$Y$276,MATCH(MIN(ABS($Y$2:$Y$276-D283)),ABS($Y$2:$Y$276-D283),0))","v":443},560.00000000000011,{"$f":"INDEX($Y$2:$Y$276,MATCH(MIN(ABS($Y$2:$Y$276-F283)),ABS($Y$2:$Y$276-F283),0))","v":563},89.600000000000037,89.537830999999997,"O",1,30.752142857142886,54.206302234489826,216.8252089379593,7.3461136212061018E-2,24.8888888888889,30.588277087033777,54.218845059168508,216.87538023667403,7.344414193357357E-2,24.940899999999999,null,null,null,1171]
[3.75,375,{"$f":"INDEX($Y$2:$Y$276,MATCH(MIN(ABS($Y$2:$Y$276-B284)),ABS($Y$2:$Y$276-B284),0))","v":373},462.96296296296305,{"$f":"INDEX($Y$2:$Y$276,MATCH(MIN(ABS($Y$2:$Y$276-D284)),ABS($Y$2:$Y$276-D284),0))","v":463},583.33333333333337,{"$f":"INDEX($Y$2:$Y$276,MATCH(MIN(ABS($Y$2:$Y$276-F284)),ABS($Y$2:$Y$276-F284),0))","v":587},101.27314814814818,101.374313,"O",1,29.522057142857175,52.038050145110248,208.15220058044099,7.6522016887563576E-2,27.006172839506181,29.337649063032398,52.0207342076679,208.0829368306716,7.6547488470723027E-2,27.178100000000001,null,null,null,1181]
[3.9,390,{"$f":"INDEX($Y$2:$Y$276,MATCH(MIN(ABS($Y$2:$Y$276-B285)),ABS($Y$2:$Y$276-B285),0))","v":389},481.48148148148152,{"$f":"INDEX($Y$2:$Y$276,MATCH(MIN(ABS($Y$2:$Y$276-D285)),ABS($Y$2:$Y$276-D285),0))","v":479},606.66666666666674,{"$f":"INDEX($Y$2:$Y$276,MATCH(MIN(ABS($Y$2:$Y$276-F285)),ABS($Y$2:$Y$276-F285),0))","v":607},113.91851851851854,113.10291700000002,"O",1,28.38659340659343,50.036586677990613,200.14634671196245,7.9582897563066093E-2,29.20987654320988,28.3710049423394,50.156572418588858,200.62628967435543,7.9392517470436005E-2,29.075300000000002,null,null,null,1187]
[4.05,405,{"$f":"INDEX($Y$2:$Y$276,MATCH(MIN(ABS($Y$2:$Y$276-B286)),ABS($Y$2:$Y$276-B286),0))","v":401},500.00000000000006,{"$f":"INDEX($Y$2:$Y$276,MATCH(MIN(ABS($Y$2:$Y$276-D286)),ABS($Y$2:$Y$276-D286),0))","v":499},630.00000000000011,{"$f":"INDEX($Y$2:$Y$276,MATCH(MIN(ABS($Y$2:$Y$276-F286)),ABS($Y$2:$Y$276-F286),0))","v":631},{"$f":"(B286/100)*(D286/100)*(F286/100)","v":127.57500000000003},126.26246899999998,"O",1,27.335238095238118,48.183379763990963,192.73351905596385,8.2643778238568638E-2,31.500000000000011,27.291917591125227,48.349764114995409,193.39905645998164,8.2359379097053209E-2,31.486899999999999,null,null,null,1193]
[4.2,420,{"$f":"INDEX($Y$2:$Y$276,MATCH(MIN(ABS($Y$2:$Y$276-B287)),ABS($Y$2:$Y$276-B287),0))","v":419},518.51851851851859,{"$f":"INDEX($Y$2:$Y$276,MATCH(MIN(ABS($Y$2:$Y$276-D287)),ABS($Y$2:$Y$276-D287),0))","v":521},653.33333333333348,{"$f":"INDEX($Y$2:$Y$276,MATCH(MIN(ABS($Y$2:$Y$276-F287)),ABS($Y$2:$Y$276-F287),0))","v":653},{"$f":"(B287/100)*(D287/100)*(F287/100)","v":142.28148148148153},142.54924700000001,"O",1,26.358979591836757,46.462544772419861,185.85017908967944,8.5704658914071211E-2,33.876543209876559,26.372434915773379,46.433434679848482,185.73373871939393,8.5758388959500498E-2,34.021300000000004,null,null,null,1201]
[4.3499999999999996,434.99999999999994,{"$f":"INDEX($Y$2:$Y$276,MATCH(MIN(ABS($Y$2:$Y$276-B288)),ABS($Y$2:$Y$276-B288),0))","v":433},537.03703703703707,{"$f":"INDEX($Y$2:$Y$276,MATCH(MIN(ABS($Y$2:$Y$276-D288)),ABS($Y$2:$Y$276-D288),0))","v":541},676.66666666666663,{"$f":"INDEX($Y$2:$Y$276,MATCH(MIN(ABS($Y$2:$Y$276-F288)),ABS($Y$2:$Y$276-F288),0))","v":677},{"$f":"(B288/100)*(D288/100)*(F288/100)","v":158.07685185185181},158.589281,"O",1,25.450049261083773,44.86038805612953,179.44155222451812,8.8765539589573728E-2,36.339506172839506,25.437518463810957,44.812018721255704,179.24807488502282,8.8861351611263073E-2,36.625700000000002,null,null,null,1213]
[4.5,450,{"$f":"INDEX($Y$2:$Y$276,MATCH(MIN(ABS($Y$2:$Y$276-B289)),ABS($Y$2:$Y$276-B289),0))","v":449},555.55555555555566,{"$f":"INDEX($Y$2:$Y$276,MATCH(MIN(ABS($Y$2:$Y$276-D289)),ABS($Y$2:$Y$276-D289),0))","v":557},700.00000000000011,{"$f":"INDEX($Y$2:$Y$276,MATCH(MIN(ABS($Y$2:$Y$276-F289)),ABS($Y$2:$Y$276-F289),0))","v":701},{"$f":"(B289/100)*(D289/100)*(F289/100)","v":175.00000000000006},175.31519300000002,"O",1,24.601714285714309,43.365041787591863,173.46016715036745,9.1826420265076272E-2,38.8888888888889,24.566619115549241,43.33903803807938,173.35615215231752,9.1881516809422789E-2,39.045700000000004,null,null,null,1217]
["HEIGHT m","HEIGHT cm","PRIME height","WIDTH cm","PRIME width","DEPTH cm","PRIME depth","VOLUME","PRIME volume","TABLE","1=Yes 0=NO","F¹","F²","F³","minimum RT60","Floor area","F¹","F²","F³","minimum RT60","Floor area",null,null,null,1097]
[{"$f":"A275","v":2.4},{"$f":"A291*100","v":240},{"$f":"INDEX($Y$2:$Y$276,MATCH(MIN(ABS($Y$2:$Y$276-B291)),ABS($Y$2:$Y$276-B291),0))","v":239},{"$f":"B291*$D$231","v":303.79746835443041},{"$f":"INDEX($Y$2:$Y$276,MATCH(MIN(ABS($Y$2:$Y$276-D291)),ABS($Y$2:$Y$276-D291),0))","v":307},{"$f":"B291*$E$231","v":391.89873417721526},{"$f":"INDEX($Y$2:$Y$276,MATCH(MIN(ABS($Y$2:$Y$276-F291)),ABS($Y$2:$Y$276-F291),0))","v":389},{"$f":"(B291/100)*(D291/100)*(F291/100)","v":28.573882390642531},{"$f":"(C291/100)*(E291/100)*(G291/100)","v":28.542097000000002},"P",{"$f":"IF(H291>$K$22,$N$21,$O$21)","v":0},{"$f":"565/(F291*0.0328083989501312)","v":43.942984496124069},{"$f":"(SQRT(O291/(H291*35.3146667214885))*11250)","v":79.340701222447976},{"$f":"4*M291","v":317.3628048897919},{"$f":"0.25*(((0.028316846592*H291)/100)^(1/3))","v":5.0189328940205509E-2},{"$f":"(D291/100)*(F291/100)","v":11.90578432943439},{"$f":"565/(G291*0.0328083989501312)","v":44.270437017994908},{"$f":"(SQRT(T291/(I291*35.3146667214885))*11250)","v":79.370142409081254},{"$f":"4*R291","v":317.48056963632501},{"$f":"0.25*(((0.028316846592*I291)/100)^(1/3))","v":5.0170711947020427E-2},{"$f":"(E291/100)*(G291/100)","v":11.942299999999999},null,null,null,1103]
[{"$f":"A276","v":2.5499999999999998},254.99999999999997,{"$f":"INDEX($Y$2:$Y$276,MATCH(MIN(ABS($Y$2:$Y$276-B292)),ABS($Y$2:$Y$276-B292),0))","v":257},{"$f":"B292*$D$231","v":322.78481012658227},{"$f":"INDEX($Y$2:$Y$276,MATCH(MIN(ABS($Y$2:$Y$276-D292)),ABS($Y$2:$Y$276-D292),0))","v":317},{"$f":"B292*$E$231","v":416.39240506329116},{"$f":"INDEX($Y$2:$Y$276,MATCH(MIN(ABS($Y$2:$Y$276-F292)),ABS($Y$2:$Y$276-F292),0))","v":419},{"$f":"(B292/100)*(D292/100)*(F292/100)","v":34.273311568658869},{"$f":"(C292/100)*(E292/100)*(G292/100)","v":34.135511000000001},"P",0,41.358103055175597,74.67360115053927,298.69440460215708,5.3326161998968336E-2,13.440514340650537,41.100715990453509,74.773948743858938,{"$f":"4*R292","v":299.09579497543575},5.3254597609131163E-2,13.282300000000001,null,null,null,1109]
[2.7,270,{"$f":"INDEX($Y$2:$Y$276,MATCH(MIN(ABS($Y$2:$Y$276-B293)),ABS($Y$2:$Y$276-B293),0))","v":269},341.77215189873419,{"$f":"INDEX($Y$2:$Y$276,MATCH(MIN(ABS($Y$2:$Y$276-D293)),ABS($Y$2:$Y$276-D293),0))","v":337},440.88607594936718,{"$f":"INDEX($Y$2:$Y$276,MATCH(MIN(ABS($Y$2:$Y$276-F293)),ABS($Y$2:$Y$276-F293),0))","v":439},40.684297388239081,39.796666999999999,"P",0,39.060430663221396,70.525067753287075,282.1002710131483,5.6462995057731176E-2,15.068258291940399,39.228246013667466,71.045550716231517,284.18220286492607,5.6049344566347907E-2,14.7943,null,null,null,1117]
[2.85,285,{"$f":"INDEX($Y$2:$Y$276,MATCH(MIN(ABS($Y$2:$Y$276-B294)),ABS($Y$2:$Y$276-B294),0))","v":283},360.75949367088612,{"$f":"INDEX($Y$2:$Y$276,MATCH(MIN(ABS($Y$2:$Y$276-D294)),ABS($Y$2:$Y$276-D294),0))","v":359},465.37974683544309,{"$f":"INDEX($Y$2:$Y$276,MATCH(MIN(ABS($Y$2:$Y$276-F294)),ABS($Y$2:$Y$276-F294),0))","v":467},47.8486961224163,47.445798999999994,"P",1,37.004618523051853,66.813222082061444,267.25288832824577,5.959982811649403E-2,16.789016183303961,36.876231263383339,67.001809319160628,268.00723727664251,5.9432074931463831E-2,16.7653,null,null,null,1123]
[3,300,{"$f":"INDEX($Y$2:$Y$276,MATCH(MIN(ABS($Y$2:$Y$276-B295)),ABS($Y$2:$Y$276-B295),0))","v":293},379.74683544303798,{"$f":"INDEX($Y$2:$Y$276,MATCH(MIN(ABS($Y$2:$Y$276-D295)),ABS($Y$2:$Y$276-D295),0))","v":379},489.87341772151905,{"$f":"INDEX($Y$2:$Y$276,MATCH(MIN(ABS($Y$2:$Y$276-F295)),ABS($Y$2:$Y$276-F295),0))","v":491},55.808364044223687,54.524077000000005,"P",1,35.154387596899255,63.472560977958388,253.89024391183355,6.2736661175256878E-2,18.602788014741229,35.073727087576415,63.967053244831888,255.86821297932755,6.2251680357367861E-2,18.608900000000002,null,null,null,1129]
[3.2,320,{"$f":"INDEX($Y$2:$Y$276,MATCH(MIN(ABS($Y$2:$Y$276-B296)),ABS($Y$2:$Y$276-B296),0))","v":317},405.0632911392405,{"$f":"INDEX($Y$2:$Y$276,MATCH(MIN(ABS($Y$2:$Y$276-D296)),ABS($Y$2:$Y$276-D296),0))","v":409},522.53164556962031,{"$f":"INDEX($Y$2:$Y$276,MATCH(MIN(ABS($Y$2:$Y$276-F296)),ABS($Y$2:$Y$276-F296),0))","v":523},67.730684185226735,67.808519000000004,"P",1,32.957238372093052,59.505525916835992,238.02210366734397,6.6919105253607336E-2,21.165838807883354,32.927724665392006,59.482749157940319,237.93099663176127,6.6944729495046276E-2,21.390700000000002,null,null,null,1151]
[3.3,330,{"$f":"INDEX($Y$2:$Y$276,MATCH(MIN(ABS($Y$2:$Y$276-B297)),ABS($Y$2:$Y$276-B297),0))","v":331},417.72151898734182,{"$f":"INDEX($Y$2:$Y$276,MATCH(MIN(ABS($Y$2:$Y$276-D297)),ABS($Y$2:$Y$276-D297),0))","v":419},538.86075949367103,{"$f":"INDEX($Y$2:$Y$276,MATCH(MIN(ABS($Y$2:$Y$276-F297)),ABS($Y$2:$Y$276-F297),0))","v":541},74.280932542861748,75.030749000000014,"P",1,31.958534178999322,57.702328161780343,230.80931264712137,6.9010327292782558E-2,22.509373497836894,31.832162661737556,57.509469067208315,230.03787626883326,6.9241754733405436E-2,22.667900000000003,null,null,null,1153]
[3.4,340,{"$f":"INDEX($Y$2:$Y$276,MATCH(MIN(ABS($Y$2:$Y$276-B298)),ABS($Y$2:$Y$276-B298),0))","v":337},430.37974683544309,{"$f":"INDEX($Y$2:$Y$276,MATCH(MIN(ABS($Y$2:$Y$276-D298)),ABS($Y$2:$Y$276-D298),0))","v":431},555.18987341772163,{"$f":"INDEX($Y$2:$Y$276,MATCH(MIN(ABS($Y$2:$Y$276-F298)),ABS($Y$2:$Y$276-F298),0))","v":557},81.240442236821053,80.902579000000003,"P",1,31.0185772913817,56.005200862904445,224.02080345161778,7.1101549331957781E-2,23.894247716712073,30.917773788150843,56.083055071268127,224.33222028507251,7.1002846527168775E-2,24.006699999999999,null,null,null,1163]
[3.6,360,{"$f":"INDEX($Y$2:$Y$276,MATCH(MIN(ABS($Y$2:$Y$276-B299)),ABS($Y$2:$Y$276-B299),0))","v":359},455.69620253164561,{"$f":"INDEX($Y$2:$Y$276,MATCH(MIN(ABS($Y$2:$Y$276-D299)),ABS($Y$2:$Y$276-D299),0))","v":457},587.84810126582283,{"$f":"INDEX($Y$2:$Y$276,MATCH(MIN(ABS($Y$2:$Y$276-F299)),ABS($Y$2:$Y$276-F299),0))","v":587},96.436853068418543,96.304981000000012,"P",1,29.295322997416047,52.893800814965317,211.57520325986127,7.5283993410308239E-2,26.788014741227371,29.337649063032398,52.917932600973849,211.6717304038954,7.5249662189688871E-2,26.825900000000001,null,null,null,1171]
[3.75,375,{"$f":"INDEX($Y$2:$Y$276,MATCH(MIN(ABS($Y$2:$Y$276-B300)),ABS($Y$2:$Y$276-B300),0))","v":373},474.68354430379748,{"$f":"INDEX($Y$2:$Y$276,MATCH(MIN(ABS($Y$2:$Y$276-D300)),ABS($Y$2:$Y$276-D300),0))","v":479},612.34177215189879,{"$f":"INDEX($Y$2:$Y$276,MATCH(MIN(ABS($Y$2:$Y$276-F300)),ABS($Y$2:$Y$276-F300),0))","v":613},109.00071102387439,109.52287100000001,"P",1,28.123510077519406,50.778048782366703,203.11219512946681,7.8420826469071073E-2,29.066856273033171,28.093311582381759,50.697223919559896,202.78889567823958,7.8545850130142078E-2,29.3627,null,null,null,1181]
[3.9,390,{"$f":"INDEX($Y$2:$Y$276,MATCH(MIN(ABS($Y$2:$Y$276-B301)),ABS($Y$2:$Y$276-B301),0))","v":389},493.6708860759494,{"$f":"INDEX($Y$2:$Y$276,MATCH(MIN(ABS($Y$2:$Y$276-D301)),ABS($Y$2:$Y$276-D301),0))","v":491},636.83544303797476,{"$f":"INDEX($Y$2:$Y$276,MATCH(MIN(ABS($Y$2:$Y$276-F301)),ABS($Y$2:$Y$276-F301),0))","v":641},122.61097580515946,122.43035900000001,"P",1,27.041836612999433,48.825046906121827,195.30018762448731,8.155765952783392E-2,31.438711744912684,26.866146645865861,48.849045014146348,195.39618005658539,8.1517592633527008E-2,31.473100000000002,null,null,null,1187]
[4.05,405,{"$f":"INDEX($Y$2:$Y$276,MATCH(MIN(ABS($Y$2:$Y$276-B302)),ABS($Y$2:$Y$276-B302),0))","v":401},512.65822784810132,{"$f":"INDEX($Y$2:$Y$276,MATCH(MIN(ABS($Y$2:$Y$276-D302)),ABS($Y$2:$Y$276-D302),0))","v":509},661.32911392405072,{"$f":"INDEX($Y$2:$Y$276,MATCH(MIN(ABS($Y$2:$Y$276-F302)),ABS($Y$2:$Y$276-F302),0))","v":661},{"$f":"(B302/100)*(D302/100)*(F302/100)","v":137.30950368530688},134.91604899999999,"P",1,26.040287108814265,47.016711835524724,188.0668473420989,8.4694492586596767E-2,33.903581156865897,26.053252647503811,47.293114330229315,189.17245732091726,8.4199499406929793E-2,33.6449,null,null,null,1193]
[4.2,420,{"$f":"INDEX($Y$2:$Y$276,MATCH(MIN(ABS($Y$2:$Y$276-B303)),ABS($Y$2:$Y$276-B303),0))","v":419},531.64556962025324,{"$f":"INDEX($Y$2:$Y$276,MATCH(MIN(ABS($Y$2:$Y$276-D303)),ABS($Y$2:$Y$276-D303),0))","v":523},685.82278481012668,{"$f":"INDEX($Y$2:$Y$276,MATCH(MIN(ABS($Y$2:$Y$276-F303)),ABS($Y$2:$Y$276-F303),0))","v":683},{"$f":"(B303/100)*(D303/100)*(F303/100)","v":153.13815093734985},149.67057100000002,"P",1,25.110276854928042,45.337543555684555,181.35017422273822,8.7831325645359629E-2,36.461464508892817,25.214055636896074,45.685001861825469,182.74000744730188,8.7163322528556672E-2,35.7209,null,null,null,1201]
[4.3499999999999996,434.99999999999994,{"$f":"INDEX($Y$2:$Y$276,MATCH(MIN(ABS($Y$2:$Y$276-B304)),ABS($Y$2:$Y$276-B304),0))","v":433},550.63291139240505,{"$f":"INDEX($Y$2:$Y$276,MATCH(MIN(ABS($Y$2:$Y$276-D304)),ABS($Y$2:$Y$276-D304),0))","v":547},710.31645569620252,{"$f":"INDEX($Y$2:$Y$276,MATCH(MIN(ABS($Y$2:$Y$276-F304)),ABS($Y$2:$Y$276-F304),0))","v":709},{"$f":"(B304/100)*(D304/100)*(F304/100)","v":170.1387738343214},167.927359,"P",1,24.244405239240869,43.774179984798891,175.09671993919557,9.0968158704122462E-2,39.112361800993433,24.289421720733451,43.965494898042657,175.86197959217063,9.0572312701915875E-2,38.782299999999999,null,null,null,1213]
[4.5,450,{"$f":"INDEX($Y$2:$Y$276,MATCH(MIN(ABS($Y$2:$Y$276-B305)),ABS($Y$2:$Y$276-B305),0))","v":449},569.62025316455697,{"$f":"INDEX($Y$2:$Y$276,MATCH(MIN(ABS($Y$2:$Y$276-D305)),ABS($Y$2:$Y$276-D305),0))","v":569},734.8101265822786,{"$f":"INDEX($Y$2:$Y$276,MATCH(MIN(ABS($Y$2:$Y$276-F305)),ABS($Y$2:$Y$276-F305),0))","v":733},{"$f":"(B305/100)*(D305/100)*(F305/100)","v":188.35322864925496},187.26757300000003,"P",1,23.436258397932836,42.315040651972254,169.26016260788901,9.4104991762885296E-2,41.856273033167767,23.494133697135087,42.396654838410022,169.58661935364009,9.392383826453185E-2,41.707700000000003,null,null,null,1217]
["HEIGHT m","HEIGHT cm","PRIME height","WIDTH cm","PRIME width","DEPTH cm","PRIME depth","VOLUME","PRIME volume","TABLE","1=Yes 0=NO","F¹","F²","F³","minimum RT60","Floor area","F¹","F²","F³","minimum RT60","Floor area",null,null,null,1097]
[{"$f":"A291","v":2.4},{"$f":"A307*100","v":240},{"$f":"INDEX($Y$2:$Y$276,MATCH(MIN(ABS($Y$2:$Y$276-B307)),ABS($Y$2:$Y$276-B307),0))","v":239},{"$f":"B307*$D$232","v":311.68831168831173},{"$f":"INDEX($Y$2:$Y$276,MATCH(MIN(ABS($Y$2:$Y$276-D307)),ABS($Y$2:$Y$276-D307),0))","v":311},{"$f":"B307*$E$232","v":411.4285714285715},{"$f":"INDEX($Y$2:$Y$276,MATCH(MIN(ABS($Y$2:$Y$276-F307)),ABS($Y$2:$Y$276-F307),0))","v":409},{"$f":"(B307/100)*(D307/100)*(F307/100)","v":30.776994434137297},{"$f":"(C307/100)*(E307/100)*(G307/100)","v":30.400561},"Q",{"$f":"IF(H307>$K$22,$N$21,$O$21)","v":0},{"$f":"565/(F307*0.0328083989501312)","v":41.857083333333371},{"$f":"(SQRT(O307/(H307*35.3146667214885))*11250)","v":77.400491194603362},{"$f":"4*M307","v":309.60196477841345},{"$f":"0.25*(((0.028316846592*H307)/100)^(1/3))","v":5.1447432574919481E-2},{"$f":"(D307/100)*(F307/100)","v":12.823747680890541},{"$f":"565/(G307*0.0328083989501312)","v":42.105623471882687},{"$f":"(SQRT(T307/(I307*35.3146667214885))*11250)","v":77.718650831084361},{"$f":"4*R307","v":310.87460332433744},{"$f":"0.25*(((0.028316846592*I307)/100)^(1/3))","v":5.1236820369600942E-2},{"$f":"(E307/100)*(G307/100)","v":12.719899999999999},null,null,null,1103]
[{"$f":"A292","v":2.5499999999999998},254.99999999999997,{"$f":"INDEX($Y$2:$Y$276,MATCH(MIN(ABS($Y$2:$Y$276-B308)),ABS($Y$2:$Y$276-B308),0))","v":257},{"$f":"B308*$D$232","v":331.16883116883116},{"$f":"INDEX($Y$2:$Y$276,MATCH(MIN(ABS($Y$2:$Y$276-D308)),ABS($Y$2:$Y$276-D308),0))","v":331},{"$f":"B308*$E$232","v":437.14285714285717},{"$f":"INDEX($Y$2:$Y$276,MATCH(MIN(ABS($Y$2:$Y$276-F308)),ABS($Y$2:$Y$276-F308),0))","v":439},{"$f":"(B308/100)*(D308/100)*(F308/100)","v":36.915862708719857},{"$f":"(C308/100)*(E308/100)*(G308/100)","v":37.344412999999996},"Q",0,39.394901960784352,72.847521124332587,291.39008449733035,5.4662897110851948E-2,14.476808905380336,39.228246013667466,72.567791533839056,{"$f":"4*R308","v":290.27116613535622},5.4873608081942742E-2,14.530899999999999,null,null,null,1109]
[2.7,270,{"$f":"INDEX($Y$2:$Y$276,MATCH(MIN(ABS($Y$2:$Y$276-B309)),ABS($Y$2:$Y$276-B309),0))","v":269},350.64935064935071,{"$f":"INDEX($Y$2:$Y$276,MATCH(MIN(ABS($Y$2:$Y$276-D309)),ABS($Y$2:$Y$276-D309),0))","v":349},462.85714285714295,{"$f":"INDEX($Y$2:$Y$276,MATCH(MIN(ABS($Y$2:$Y$276-F309)),ABS($Y$2:$Y$276-F309),0))","v":463},43.82115027829316,43.466902999999995,"Q",1,37.20629629629633,68.800436617425191,275.20174646970077,5.7878361646784421E-2,16.230055658627094,37.194816414686869,68.986834802342059,275.94733920936824,5.7721977873158151E-2,16.1587,null,null,null,1117]
[2.85,285,{"$f":"INDEX($Y$2:$Y$276,MATCH(MIN(ABS($Y$2:$Y$276-B310)),ABS($Y$2:$Y$276-B310),0))","v":283},370.1298701298702,{"$f":"INDEX($Y$2:$Y$276,MATCH(MIN(ABS($Y$2:$Y$276-D310)),ABS($Y$2:$Y$276-D310),0))","v":373},488.57142857142867,{"$f":"INDEX($Y$2:$Y$276,MATCH(MIN(ABS($Y$2:$Y$276-F310)),ABS($Y$2:$Y$276-F310),0))","v":487},51.537940630797799,51.407232999999998,"Q",1,35.248070175438627,65.179361005981761,260.71744402392704,6.1093826182716887E-2,18.083487940630807,35.361806981519543,65.234555765241225,260.9382230609649,6.1042134882165568E-2,18.165099999999999,null,null,null,1123]
[3,300,{"$f":"INDEX($Y$2:$Y$276,MATCH(MIN(ABS($Y$2:$Y$276-B311)),ABS($Y$2:$Y$276-B311),0))","v":293},389.61038961038969,{"$f":"INDEX($Y$2:$Y$276,MATCH(MIN(ABS($Y$2:$Y$276-D311)),ABS($Y$2:$Y$276-D311),0))","v":389},514.28571428571433,{"$f":"INDEX($Y$2:$Y$276,MATCH(MIN(ABS($Y$2:$Y$276-F311)),ABS($Y$2:$Y$276-F311),0))","v":509},60.111317254174416,58.014293000000002,"Q",1,33.485666666666702,61.920392955682694,247.68157182273077,6.4309290718649367E-2,20.037105751391472,33.833398821218111,62.657652161506867,250.63060864602747,6.3552597561999671E-2,19.8001,null,null,null,1129]
[3.2,320,{"$f":"INDEX($Y$2:$Y$276,MATCH(MIN(ABS($Y$2:$Y$276-B312)),ABS($Y$2:$Y$276-B312),0))","v":317},415.58441558441564,{"$f":"INDEX($Y$2:$Y$276,MATCH(MIN(ABS($Y$2:$Y$276-D312)),ABS($Y$2:$Y$276-D312),0))","v":419},548.57142857142867,{"$f":"INDEX($Y$2:$Y$276,MATCH(MIN(ABS($Y$2:$Y$276-F312)),ABS($Y$2:$Y$276-F312),0))","v":547},72.952875695732871,72.654181000000008,"Q",1,31.39281250000003,58.050368395952511,232.20147358381004,6.8596576766559308E-2,22.797773654916519,31.482998171846468,58.129811539145379,232.51924615658152,6.8502829212140751E-2,22.9193,null,null,null,1151]
[3.3,330,{"$f":"INDEX($Y$2:$Y$276,MATCH(MIN(ABS($Y$2:$Y$276-B313)),ABS($Y$2:$Y$276-B313),0))","v":331},428.57142857142867,{"$f":"INDEX($Y$2:$Y$276,MATCH(MIN(ABS($Y$2:$Y$276-D313)),ABS($Y$2:$Y$276-D313),0))","v":431},565.71428571428578,{"$f":"INDEX($Y$2:$Y$276,MATCH(MIN(ABS($Y$2:$Y$276-F313)),ABS($Y$2:$Y$276-F313),0))","v":563},80.008163265306138,80.318142999999992,"Q",1,30.44151515151518,56.291266323347898,225.16506529339159,7.0740219790514286E-2,24.244897959183678,30.588277087033777,56.218756148407017,224.87502459362807,7.0831459548626796E-2,24.265299999999996,null,null,null,1153]
[3.4,340,{"$f":"INDEX($Y$2:$Y$276,MATCH(MIN(ABS($Y$2:$Y$276-B314)),ABS($Y$2:$Y$276-B314),0))","v":337},441.55844155844164,{"$f":"INDEX($Y$2:$Y$276,MATCH(MIN(ABS($Y$2:$Y$276-D314)),ABS($Y$2:$Y$276-D314),0))","v":443},582.857142857143,{"$f":"INDEX($Y$2:$Y$276,MATCH(MIN(ABS($Y$2:$Y$276-F314)),ABS($Y$2:$Y$276-F314),0))","v":587},87.504267161410056,87.633817000000008,"Q",1,29.546176470588261,54.635640843249426,218.54256337299771,7.2883862814469277E-2,25.736549165120607,29.337649063032398,54.608704783615835,218.43481913446334,7.2919813201552733E-2,26.004099999999998,null,null,null,1163]
[3.6,360,{"$f":"INDEX($Y$2:$Y$276,MATCH(MIN(ABS($Y$2:$Y$276-B315)),ABS($Y$2:$Y$276-B315),0))","v":359},467.53246753246759,{"$f":"INDEX($Y$2:$Y$276,MATCH(MIN(ABS($Y$2:$Y$276-D315)),ABS($Y$2:$Y$276-D315),0))","v":467},617.14285714285722,{"$f":"INDEX($Y$2:$Y$276,MATCH(MIN(ABS($Y$2:$Y$276-F315)),ABS($Y$2:$Y$276-F315),0))","v":617},103.8723562152134,103.441901,"Q",1,27.904722222222251,51.600327463068901,206.4013098522756,7.7171148862379219E-2,28.85343228200372,27.911183144246387,51.671803628121978,206.68721451248791,7.7064400164131325E-2,28.8139,null,null,null,1171]
[3.75,375,{"$f":"INDEX($Y$2:$Y$276,MATCH(MIN(ABS($Y$2:$Y$276-B316)),ABS($Y$2:$Y$276-B316),0))","v":373},487.01298701298708,{"$f":"INDEX($Y$2:$Y$276,MATCH(MIN(ABS($Y$2:$Y$276-D316)),ABS($Y$2:$Y$276-D316),0))","v":487},642.857142857143,{"$f":"INDEX($Y$2:$Y$276,MATCH(MIN(ABS($Y$2:$Y$276-F316)),ABS($Y$2:$Y$276-F316),0))","v":643},117.4049165120594,116.80159299999998,"Q",1,26.788533333333355,49.536314364546143,198.14525745818457,8.0386613398311699E-2,31.307977736549173,26.782581648522577,49.621459071339416,198.48583628535766,8.0248679231199369E-2,31.3141,null,null,null,1181]
[3.9,390,{"$f":"INDEX($Y$2:$Y$276,MATCH(MIN(ABS($Y$2:$Y$276-B317)),ABS($Y$2:$Y$276-B317),0))","v":389},506.49350649350657,{"$f":"INDEX($Y$2:$Y$276,MATCH(MIN(ABS($Y$2:$Y$276-D317)),ABS($Y$2:$Y$276-D317),0))","v":509},668.57142857142867,{"$f":"INDEX($Y$2:$Y$276,MATCH(MIN(ABS($Y$2:$Y$276-F317)),ABS($Y$2:$Y$276-F317),0))","v":673},132.06456400742118,133.25467300000003,"Q",1,25.758205128205152,47.631071504371292,190.52428601748517,8.3602077934244151E-2,33.862708719851589,25.588707280832125,47.488848186338586,189.95539274535435,8.3852455978192145E-2,34.255700000000004,null,null,null,1187]
[4.05,405,{"$f":"INDEX($Y$2:$Y$276,MATCH(MIN(ABS($Y$2:$Y$276-B318)),ABS($Y$2:$Y$276-B318),0))","v":401},525.97402597402606,{"$f":"INDEX($Y$2:$Y$276,MATCH(MIN(ABS($Y$2:$Y$276-D318)),ABS($Y$2:$Y$276-D318),0))","v":523},694.28571428571445,{"$f":"INDEX($Y$2:$Y$276,MATCH(MIN(ABS($Y$2:$Y$276-F318)),ABS($Y$2:$Y$276-F318),0))","v":691},{"$f":"(B318/100)*(D318/100)*(F318/100)","v":147.89638218923938},144.91859300000002,"Q",1,24.804197530864219,45.866957744950135,183.46783097980054,8.6817542470176631E-2,36.517625231910962,24.92214182344431,46.178988488237351,184.71595395294941,8.6230917617745359E-2,36.139300000000006,null,null,null,1193]
[4.2,420,{"$f":"INDEX($Y$2:$Y$276,MATCH(MIN(ABS($Y$2:$Y$276-B319)),ABS($Y$2:$Y$276-B319),0))","v":419},545.4545454545455,{"$f":"INDEX($Y$2:$Y$276,MATCH(MIN(ABS($Y$2:$Y$276-D319)),ABS($Y$2:$Y$276-D319),0))","v":547},720.00000000000011,{"$f":"INDEX($Y$2:$Y$276,MATCH(MIN(ABS($Y$2:$Y$276-F319)),ABS($Y$2:$Y$276-F319),0))","v":719},{"$f":"(B319/100)*(D319/100)*(F319/100)","v":164.9454545454546},164.78976700000001,"Q",1,23.918333333333354,44.228852111201924,176.9154084448077,9.0033007006109111E-2,39.27272727272728,23.951599443671789,44.242776345644835,176.97110538257934,9.0004671517229323E-2,39.329300000000003,null,null,null,1201]
[4.3499999999999996,434.99999999999994,{"$f":"INDEX($Y$2:$Y$276,MATCH(MIN(ABS($Y$2:$Y$276-B320)),ABS($Y$2:$Y$276-B320),0))","v":433},564.93506493506493,{"$f":"INDEX($Y$2:$Y$276,MATCH(MIN(ABS($Y$2:$Y$276-D320)),ABS($Y$2:$Y$276-D320),0))","v":563},745.71428571428578,{"$f":"INDEX($Y$2:$Y$276,MATCH(MIN(ABS($Y$2:$Y$276-F320)),ABS($Y$2:$Y$276-F320),0))","v":743},{"$f":"(B320/100)*(D320/100)*(F320/100)","v":183.25686456400743},181.12779699999999,"Q",1,23.093563218390827,42.703719279781168,170.81487711912467,9.3248471542041564E-2,42.128014842300558,23.177927321668935,42.870388296506604,171.48155318602642,9.2885945526285166E-2,41.8309,null,null,null,1213]
[4.5,450,{"$f":"INDEX($Y$2:$Y$276,MATCH(MIN(ABS($Y$2:$Y$276-B321)),ABS($Y$2:$Y$276-B321),0))","v":449},584.41558441558448,{"$f":"INDEX($Y$2:$Y$276,MATCH(MIN(ABS($Y$2:$Y$276-D321)),ABS($Y$2:$Y$276-D321),0))","v":587},771.42857142857156,{"$f":"INDEX($Y$2:$Y$276,MATCH(MIN(ABS($Y$2:$Y$276-F321)),ABS($Y$2:$Y$276-F321),0))","v":773},{"$f":"(B321/100)*(D321/100)*(F321/100)","v":202.87569573283864},203.73419900000002,"Q",1,22.323777777777799,41.280261970455122,165.12104788182049,9.6463936077974016E-2,45.083487940630803,22.278395860284629,41.222197532850167,164.88879013140067,9.6599812487596914E-2,45.375100000000003,null,null,null,1217]
["HEIGHT m","HEIGHT cm","PRIME height","WIDTH cm","PRIME width","DEPTH cm","PRIME depth","VOLUME","PRIME volume","TABLE","1=Yes 0=NO","F¹","F²","F³","minimum RT60","Floor area","F¹","F²","F³","minimum RT60","Floor area",null,null,null,1097]
[{"$f":"A307","v":2.4},{"$f":"A323*100","v":240},{"$f":"INDEX($Y$2:$Y$276,MATCH(MIN(ABS($Y$2:$Y$276-B323)),ABS($Y$2:$Y$276-B323),0))","v":239},{"$f":"B323*$D$233","v":320.00000000000006},{"$f":"INDEX($Y$2:$Y$276,MATCH(MIN(ABS($Y$2:$Y$276-D323)),ABS($Y$2:$Y$276-D323),0))","v":317},{"$f":"B323*$E$233","v":432.00000000000006},{"$f":"INDEX($Y$2:$Y$276,MATCH(MIN(ABS($Y$2:$Y$276-F323)),ABS($Y$2:$Y$276-F323),0))","v":433},{"$f":"(B323/100)*(D323/100)*(F323/100)","v":33.177600000000005},{"$f":"(C323/100)*(E323/100)*(G323/100)","v":32.805379000000002},"R",{"$f":"IF(H323>$K$22,$N$21,$O$21)","v":0},{"$f":"565/(F323*0.0328083989501312)","v":39.863888888888923},{"$f":"(SQRT(O323/(H323*35.3146667214885))*11250)","v":75.486761959509451},{"$f":"4*M323","v":301.9470478380378},{"$f":"0.25*(((0.028316846592*H323)/100)^(1/3))","v":5.2751720283563765E-2},{"$f":"(D323/100)*(F323/100)","v":13.824000000000003},{"$f":"565/(G323*0.0328083989501312)","v":39.77182448036956},{"$f":"(SQRT(T323/(I323*35.3146667214885))*11250)","v":75.77118842461968},{"$f":"4*R323","v":303.08475369847872},{"$f":"0.25*(((0.028316846592*I323)/100)^(1/3))","v":5.2553703258350223E-2},{"$f":"(E323/100)*(G323/100)","v":13.726100000000001},null,null,null,1103]
[{"$f":"A308","v":2.5499999999999998},254.99999999999997,{"$f":"INDEX($Y$2:$Y$276,MATCH(MIN(ABS($Y$2:$Y$276-B324)),ABS($Y$2:$Y$276-B324),0))","v":257},{"$f":"B324*$D$233","v":340},{"$f":"INDEX($Y$2:$Y$276,MATCH(MIN(ABS($Y$2:$Y$276-D324)),ABS($Y$2:$Y$276-D324),0))","v":337},{"$f":"B324*$E$233","v":459},{"$f":"INDEX($Y$2:$Y$276,MATCH(MIN(ABS($Y$2:$Y$276-F324)),ABS($Y$2:$Y$276-F324),0))","v":457},{"$f":"(B324/100)*(D324/100)*(F324/100)","v":39.795299999999997},{"$f":"(C324/100)*(E324/100)*(G324/100)","v":39.580313000000004},"R",0,37.518954248366057,71.046364197185383,284.18545678874153,5.6048702801286515E-2,15.606,37.683150984682754,71.174765349131491,{"$f":"4*R324","v":284.69906139652596},5.5947589464706224E-2,15.400900000000002,null,null,null,1109]
[2.7,270,{"$f":"INDEX($Y$2:$Y$276,MATCH(MIN(ABS($Y$2:$Y$276-B325)),ABS($Y$2:$Y$276-B325),0))","v":269},360.00000000000006,{"$f":"INDEX($Y$2:$Y$276,MATCH(MIN(ABS($Y$2:$Y$276-D325)),ABS($Y$2:$Y$276-D325),0))","v":359},486.00000000000006,{"$f":"INDEX($Y$2:$Y$276,MATCH(MIN(ABS($Y$2:$Y$276-F325)),ABS($Y$2:$Y$276-F325),0))","v":487},47.239200000000018,47.030076999999999,"R",1,35.434567901234601,67.099343964008398,268.39737585603359,5.9345685319009245E-2,17.496000000000002,35.361806981519543,67.198651117126516,268.79460446850607,5.9257983394031606E-2,17.4833,null,null,null,1117]
[2.85,285,{"$f":"INDEX($Y$2:$Y$276,MATCH(MIN(ABS($Y$2:$Y$276-B326)),ABS($Y$2:$Y$276-B326),0))","v":283},380.00000000000006,{"$f":"INDEX($Y$2:$Y$276,MATCH(MIN(ABS($Y$2:$Y$276-D326)),ABS($Y$2:$Y$276-D326),0))","v":379},513.00000000000011,{"$f":"INDEX($Y$2:$Y$276,MATCH(MIN(ABS($Y$2:$Y$276-F326)),ABS($Y$2:$Y$276-F326),0))","v":509},55.557900000000018,54.593812999999997,"R",1,33.569590643274886,63.567799544850061,254.27119817940024,6.2642667836731974E-2,19.494000000000007,33.833398821218111,63.93980530297398,255.75922121189592,6.2278208904943143E-2,19.2911,null,null,null,1123]
[3,300,{"$f":"INDEX($Y$2:$Y$276,MATCH(MIN(ABS($Y$2:$Y$276-B327)),ABS($Y$2:$Y$276-B327),0))","v":293},400.00000000000006,{"$f":"INDEX($Y$2:$Y$276,MATCH(MIN(ABS($Y$2:$Y$276-D327)),ABS($Y$2:$Y$276-D327),0))","v":401},540.00000000000011,{"$f":"INDEX($Y$2:$Y$276,MATCH(MIN(ABS($Y$2:$Y$276-F327)),ABS($Y$2:$Y$276-F327),0))","v":541},64.80000000000004,63.563713,"R",1,31.891111111111137,60.389409567607565,241.55763827043026,6.5939650354454732E-2,21.600000000000009,31.832162661737556,60.778414423124055,243.11365769249622,6.5517611635570627E-2,21.694099999999999,null,null,null,1129]
[3.2,320,{"$f":"INDEX($Y$2:$Y$276,MATCH(MIN(ABS($Y$2:$Y$276-B328)),ABS($Y$2:$Y$276-B328),0))","v":317},426.66666666666674,{"$f":"INDEX($Y$2:$Y$276,MATCH(MIN(ABS($Y$2:$Y$276-D328)),ABS($Y$2:$Y$276-D328),0))","v":431},576.00000000000011,{"$f":"INDEX($Y$2:$Y$276,MATCH(MIN(ABS($Y$2:$Y$276-F328)),ABS($Y$2:$Y$276-F328),0))","v":577},78.643200000000036,78.833778999999993,"R",1,29.897916666666692,56.615071469632085,226.46028587852834,7.0335627044751714E-2,24.576000000000011,29.846100519930708,56.569412742635343,226.27765097054137,7.039239686147214E-2,24.868699999999997,null,null,null,1151]
[3.3,330,{"$f":"INDEX($Y$2:$Y$276,MATCH(MIN(ABS($Y$2:$Y$276-B329)),ABS($Y$2:$Y$276-B329),0))","v":331},440.00000000000006,{"$f":"INDEX($Y$2:$Y$276,MATCH(MIN(ABS($Y$2:$Y$276-D329)),ABS($Y$2:$Y$276-D329),0))","v":439},594.00000000000011,{"$f":"INDEX($Y$2:$Y$276,MATCH(MIN(ABS($Y$2:$Y$276-F329)),ABS($Y$2:$Y$276-F329),0))","v":593},86.248800000000017,86.168236999999991,"R",1,28.991919191919219,54.899463243279605,219.59785297311842,7.2533615389900205E-2,26.136000000000006,29.040809443507619,54.916567333064044,219.66626933225618,7.2511024366275309E-2,26.032699999999998,null,null,null,1153]
[3.4,340,{"$f":"INDEX($Y$2:$Y$276,MATCH(MIN(ABS($Y$2:$Y$276-B330)),ABS($Y$2:$Y$276-B330),0))","v":337},453.33333333333337,{"$f":"INDEX($Y$2:$Y$276,MATCH(MIN(ABS($Y$2:$Y$276-D330)),ABS($Y$2:$Y$276-D330),0))","v":457},612.00000000000011,{"$f":"INDEX($Y$2:$Y$276,MATCH(MIN(ABS($Y$2:$Y$276-F330)),ABS($Y$2:$Y$276-F330),0))","v":613},94.329600000000028,94.407517000000013,"R",1,28.139215686274536,53.284773147889027,213.13909259155611,7.4731603735048696E-2,27.74400000000001,28.093311582381759,53.270110006227682,213.08044002491073,7.4752174371978453E-2,28.014100000000003,null,null,null,1163]
[3.6,360,{"$f":"INDEX($Y$2:$Y$276,MATCH(MIN(ABS($Y$2:$Y$276-B331)),ABS($Y$2:$Y$276-B331),0))","v":359},480.00000000000006,{"$f":"INDEX($Y$2:$Y$276,MATCH(MIN(ABS($Y$2:$Y$276-D331)),ABS($Y$2:$Y$276-D331),0))","v":479},648.00000000000011,{"$f":"INDEX($Y$2:$Y$276,MATCH(MIN(ABS($Y$2:$Y$276-F331)),ABS($Y$2:$Y$276-F331),0))","v":647},111.97440000000006,111.25876699999998,"R",1,26.575925925925951,50.324507973006305,201.29803189202522,7.9127580425345664E-2,31.10400000000001,26.617001545595084,50.432175706468016,201.72870282587206,7.8958650825950799E-2,30.991299999999999,null,null,null,1171]
[3.75,375,{"$f":"INDEX($Y$2:$Y$276,MATCH(MIN(ABS($Y$2:$Y$276-B332)),ABS($Y$2:$Y$276-B332),0))","v":373},500.00000000000006,{"$f":"INDEX($Y$2:$Y$276,MATCH(MIN(ABS($Y$2:$Y$276-D332)),ABS($Y$2:$Y$276-D332),0))","v":499},675.00000000000011,{"$f":"INDEX($Y$2:$Y$276,MATCH(MIN(ABS($Y$2:$Y$276-F332)),ABS($Y$2:$Y$276-F332),0))","v":677},126.56250000000004,126.00797899999999,"R",1,25.512888888888909,48.311527654086056,193.24611061634423,8.2424562943068422E-2,33.750000000000007,25.437518463810957,48.382291836120501,193.529167344482,8.2304008365042841E-2,33.782299999999999,null,null,null,1181]
[3.9,390,{"$f":"INDEX($Y$2:$Y$276,MATCH(MIN(ABS($Y$2:$Y$276-B333)),ABS($Y$2:$Y$276-B333),0))","v":389},520.00000000000011,{"$f":"INDEX($Y$2:$Y$276,MATCH(MIN(ABS($Y$2:$Y$276-D333)),ABS($Y$2:$Y$276-D333),0))","v":521},702.00000000000011,{"$f":"INDEX($Y$2:$Y$276,MATCH(MIN(ABS($Y$2:$Y$276-F333)),ABS($Y$2:$Y$276-F333),0))","v":701},142.36560000000006,142.07096899999999,"R",1,24.531623931623955,46.453391975082738,185.81356790033095,8.5721545460791138E-2,36.504000000000012,24.566619115549241,46.485481944108578,185.94192777643431,8.5662369958599036E-2,36.522100000000002,null,null,null,1187]
[4.05,405,{"$f":"INDEX($Y$2:$Y$276,MATCH(MIN(ABS($Y$2:$Y$276-B334)),ABS($Y$2:$Y$276-B334),0))","v":401},540.00000000000011,{"$f":"INDEX($Y$2:$Y$276,MATCH(MIN(ABS($Y$2:$Y$276-D334)),ABS($Y$2:$Y$276-D334),0))","v":541},729.00000000000011,{"$f":"INDEX($Y$2:$Y$276,MATCH(MIN(ABS($Y$2:$Y$276-F334)),ABS($Y$2:$Y$276-F334),0))","v":727},{"$f":"(B334/100)*(D334/100)*(F334/100)","v":159.43230000000005},157.71610699999999,"R",1,23.623045267489733,44.732895976005594,178.93158390402238,8.9018527978513867E-2,39.366000000000014,23.68803301237967,44.894565142631272,179.57826057052509,8.8697964650039526E-2,39.3307,null,null,null,1193]
[4.2,420,{"$f":"INDEX($Y$2:$Y$276,MATCH(MIN(ABS($Y$2:$Y$276-B335)),ABS($Y$2:$Y$276-B335),0))","v":419},560.00000000000011,{"$f":"INDEX($Y$2:$Y$276,MATCH(MIN(ABS($Y$2:$Y$276-D335)),ABS($Y$2:$Y$276-D335),0))","v":563},756.00000000000011,{"$f":"INDEX($Y$2:$Y$276,MATCH(MIN(ABS($Y$2:$Y$276-F335)),ABS($Y$2:$Y$276-F335),0))","v":757},{"$f":"(B335/100)*(D335/100)*(F335/100)","v":177.81120000000007},178.57402900000002,"R",1,22.7793650793651,43.135292548291119,172.54117019316448,9.2315510496236611E-2,42.33600000000002,22.749273447820368,43.073783384323974,172.2951335372959,9.2447336619360276E-2,42.619100000000003,null,null,null,1201]
[4.3499999999999996,434.99999999999994,{"$f":"INDEX($Y$2:$Y$276,MATCH(MIN(ABS($Y$2:$Y$276-B336)),ABS($Y$2:$Y$276-B336),0))","v":433},580,{"$f":"INDEX($Y$2:$Y$276,MATCH(MIN(ABS($Y$2:$Y$276-D336)),ABS($Y$2:$Y$276-D336),0))","v":577},783,{"$f":"INDEX($Y$2:$Y$276,MATCH(MIN(ABS($Y$2:$Y$276-F336)),ABS($Y$2:$Y$276-F336),0))","v":787},{"$f":"(B336/100)*(D336/100)*(F336/100)","v":197.55089999999998},196.62486699999999,"R",1,21.993869731800793,41.647868667315571,166.59147466926228,9.561249301395934E-2,45.414000000000001,21.882083862770035,41.713148495509863,166.85259398203945,9.5462862325739972E-2,45.4099,null,null,null,1213]
[4.5,450,{"$f":"INDEX($Y$2:$Y$276,MATCH(MIN(ABS($Y$2:$Y$276-B337)),ABS($Y$2:$Y$276-B337),0))","v":449},600.00000000000011,{"$f":"INDEX($Y$2:$Y$276,MATCH(MIN(ABS($Y$2:$Y$276-D337)),ABS($Y$2:$Y$276-D337),0))","v":601},810.00000000000011,{"$f":"INDEX($Y$2:$Y$276,MATCH(MIN(ABS($Y$2:$Y$276-F337)),ABS($Y$2:$Y$276-F337),0))","v":811},{"$f":"(B337/100)*(D337/100)*(F337/100)","v":218.70000000000007},218.84753899999998,"R",1,21.260740740740761,40.259606378405046,161.03842551362018,9.8909475531682084E-2,48.600000000000016,21.234525277435289,40.250557160236553,161.00222864094621,9.8931712575990663E-2,48.741099999999996,null,null,null,1217]
["HEIGHT m","HEIGHT cm","PRIME height","WIDTH cm","PRIME width","DEPTH cm","PRIME depth","VOLUME","PRIME volume","TABLE","1=Yes 0=NO","F¹","F²","F³","minimum RT60","Floor area","F¹","F²","F³","minimum RT60","Floor area",null,null,null,1097]
[{"$f":"A323","v":2.4},{"$f":"A339*100","v":240},{"$f":"INDEX($Y$2:$Y$276,MATCH(MIN(ABS($Y$2:$Y$276-B339)),ABS($Y$2:$Y$276-B339),0))","v":239},{"$f":"B339*$D$234","v":328.76712328767127},{"$f":"INDEX($Y$2:$Y$276,MATCH(MIN(ABS($Y$2:$Y$276-D339)),ABS($Y$2:$Y$276-D339),0))","v":331},{"$f":"B339*$E$234","v":453.69863013698642},{"$f":"INDEX($Y$2:$Y$276,MATCH(MIN(ABS($Y$2:$Y$276-F339)),ABS($Y$2:$Y$276-F339),0))","v":457},{"$f":"(B339/100)*(D339/100)*(F339/100)","v":35.798686432726598},{"$f":"(C339/100)*(E339/100)*(G339/100)","v":36.152813000000009},"S",{"$f":"IF(H339>$K$22,$N$21,$O$21)","v":0},{"$f":"565/(F339*0.0328083989501312)","v":37.957355072463798},{"$f":"(SQRT(O339/(H339*35.3146667214885))*11250)","v":73.597560914121331},{"$f":"4*M339","v":294.39024365648532},{"$f":"0.25*(((0.028316846592*H339)/100)^(1/3))","v":5.4105822292759675E-2},{"$f":"(D339/100)*(F339/100)","v":14.916119346969417},{"$f":"565/(G339*0.0328083989501312)","v":37.683150984682754},{"$f":"(SQRT(T339/(I339*35.3146667214885))*11250)","v":73.356469344527255},{"$f":"4*R339","v":293.42587737810902},{"$f":"0.25*(((0.028316846592*I339)/100)^(1/3))","v":5.4283645158790431E-2},{"$f":"(E339/100)*(G339/100)","v":15.126700000000001},null,null,null,1103]
[{"$f":"A324","v":2.5499999999999998},254.99999999999997,{"$f":"INDEX($Y$2:$Y$276,MATCH(MIN(ABS($Y$2:$Y$276-B340)),ABS($Y$2:$Y$276-B340),0))","v":257},{"$f":"B340*$D$234","v":349.3150684931507},{"$f":"INDEX($Y$2:$Y$276,MATCH(MIN(ABS($Y$2:$Y$276-D340)),ABS($Y$2:$Y$276-D340),0))","v":349},{"$f":"B340*$E$234","v":482.054794520548},{"$f":"INDEX($Y$2:$Y$276,MATCH(MIN(ABS($Y$2:$Y$276-F340)),ABS($Y$2:$Y$276-F340),0))","v":479},{"$f":"(B340/100)*(D340/100)*(F340/100)","v":42.939195909176199},{"$f":"(C340/100)*(E340/100)*(G340/100)","v":42.962947},"S",1,35.724569479965936,69.268292625055395,277.07317050022158,5.7487436186057166E-2,16.838900356539689,35.952400835073107,69.2555258039732,{"$f":"4*R340","v":277.0221032158928},5.7498033633751618E-2,16.717100000000002,null,null,null,1109]
[2.7,270,{"$f":"INDEX($Y$2:$Y$276,MATCH(MIN(ABS($Y$2:$Y$276-B341)),ABS($Y$2:$Y$276-B341),0))","v":269},369.8630136986302,{"$f":"INDEX($Y$2:$Y$276,MATCH(MIN(ABS($Y$2:$Y$276-D341)),ABS($Y$2:$Y$276-D341),0))","v":367},510.41095890410969,{"$f":"INDEX($Y$2:$Y$276,MATCH(MIN(ABS($Y$2:$Y$276-F341)),ABS($Y$2:$Y$276-F341),0))","v":509},50.971176580972063,50.250006999999997,"S",1,33.739871175523383,65.420054145885643,261.68021658354257,6.0869050079354656E-2,18.878213548508171,33.833398821218111,65.731530302851723,262.92612121140689,6.0580615324990324E-2,18.680299999999999,null,null,null,1117]
[2.85,285,{"$f":"INDEX($Y$2:$Y$276,MATCH(MIN(ABS($Y$2:$Y$276-B342)),ABS($Y$2:$Y$276-B342),0))","v":283},390.41095890410963,{"$f":"INDEX($Y$2:$Y$276,MATCH(MIN(ABS($Y$2:$Y$276-D342)),ABS($Y$2:$Y$276-D342),0))","v":389},538.76712328767132,{"$f":"INDEX($Y$2:$Y$276,MATCH(MIN(ABS($Y$2:$Y$276-F342)),ABS($Y$2:$Y$276-F342),0))","v":541},59.947067930193306,59.557067000000011,"S",1,31.964088482074782,61.976893401365338,247.90757360546135,6.4250663972652139E-2,21.034058922874845,31.832162661737556,62.111881451126223,248.44752580450489,6.4111027696582543E-2,21.044900000000002,null,null,null,1123]
[3,300,{"$f":"INDEX($Y$2:$Y$276,MATCH(MIN(ABS($Y$2:$Y$276-B343)),ABS($Y$2:$Y$276-B343),0))","v":293},410.95890410958907,{"$f":"INDEX($Y$2:$Y$276,MATCH(MIN(ABS($Y$2:$Y$276-D343)),ABS($Y$2:$Y$276-D343),0))","v":409},567.12328767123302,{"$f":"INDEX($Y$2:$Y$276,MATCH(MIN(ABS($Y$2:$Y$276-F343)),ABS($Y$2:$Y$276-F343),0))","v":569},69.919309438919143,68.187253000000013,"S",1,30.365884057971037,58.878048731297078,235.51219492518831,6.7632277865949622E-2,23.306436479639714,30.265729349736414,59.372415836937066,237.48966334774826,6.7069134645564951E-2,23.272100000000002,null,null,null,1129]
[3.2,320,{"$f":"INDEX($Y$2:$Y$276,MATCH(MIN(ABS($Y$2:$Y$276-B344)),ABS($Y$2:$Y$276-B344),0))","v":317},438.35616438356169,{"$f":"INDEX($Y$2:$Y$276,MATCH(MIN(ABS($Y$2:$Y$276-D344)),ABS($Y$2:$Y$276-D344),0))","v":439},604.93150684931516,{"$f":"INDEX($Y$2:$Y$276,MATCH(MIN(ABS($Y$2:$Y$276-F344)),ABS($Y$2:$Y$276-F344),0))","v":607},84.856145618314912,84.471940999999987,"S",1,28.468016304347852,55.198170685591009,220.79268274236404,7.2141096390346257E-2,26.517545505723408,28.3710049423394,55.281730268598167,221.12692107439267,7.2032053494930928E-2,26.647299999999998,null,null,null,1151]
[3.3,330,{"$f":"INDEX($Y$2:$Y$276,MATCH(MIN(ABS($Y$2:$Y$276-B345)),ABS($Y$2:$Y$276-B345),0))","v":331},452.054794520548,{"$f":"INDEX($Y$2:$Y$276,MATCH(MIN(ABS($Y$2:$Y$276-D345)),ABS($Y$2:$Y$276-D345),0))","v":449},623.83561643835628,{"$f":"INDEX($Y$2:$Y$276,MATCH(MIN(ABS($Y$2:$Y$276-F345)),ABS($Y$2:$Y$276-F345),0))","v":619},93.062600863201382,91.99516100000001,"S",1,27.605349143610038,53.525498846633702,214.10199538653481,7.4395505652544575E-2,28.200788140364054,27.821001615508912,53.731725927450846,214.92690370980338,7.4109969171223367E-2,27.793100000000003,null,null,null,1153]
[3.4,340,{"$f":"INDEX($Y$2:$Y$276,MATCH(MIN(ABS($Y$2:$Y$276-B346)),ABS($Y$2:$Y$276-B346),0))","v":337},465.75342465753431,{"$f":"INDEX($Y$2:$Y$276,MATCH(MIN(ABS($Y$2:$Y$276-D346)),ABS($Y$2:$Y$276-D346),0))","v":467},642.73972602739741,{"$f":"INDEX($Y$2:$Y$276,MATCH(MIN(ABS($Y$2:$Y$276-F346)),ABS($Y$2:$Y$276-F346),0))","v":643},101.78179771063994,101.19469699999999,"S",1,26.793427109974445,51.951219468791535,207.80487787516614,7.6649914914742892E-2,29.935822856070569,26.782581648522577,52.051494164033443,208.20597665613377,7.6502252547277078E-2,30.028099999999998,null,null,null,1163]
[3.6,360,{"$f":"INDEX($Y$2:$Y$276,MATCH(MIN(ABS($Y$2:$Y$276-B347)),ABS($Y$2:$Y$276-B347),0))","v":359},493.15068493150693,{"$f":"INDEX($Y$2:$Y$276,MATCH(MIN(ABS($Y$2:$Y$276-D347)),ABS($Y$2:$Y$276-D347),0))","v":491},680.54794520547966,{"$f":"INDEX($Y$2:$Y$276,MATCH(MIN(ABS($Y$2:$Y$276-F347)),ABS($Y$2:$Y$276-F347),0))","v":683},120.8205667104523,120.39172699999999,"S",1,25.304903381642532,49.065040609414218,196.26016243765687,8.1158733439139527E-2,33.561268530681197,25.214055636896074,49.123228727687959,196.49291491075184,8.1062598186986606E-2,33.535299999999999,null,null,null,1171]
[3.75,375,{"$f":"INDEX($Y$2:$Y$276,MATCH(MIN(ABS($Y$2:$Y$276-B348)),ABS($Y$2:$Y$276-B348),0))","v":373},513.69863013698637,{"$f":"INDEX($Y$2:$Y$276,MATCH(MIN(ABS($Y$2:$Y$276-D348)),ABS($Y$2:$Y$276-D348),0))","v":509},708.90410958904124,{"$f":"INDEX($Y$2:$Y$276,MATCH(MIN(ABS($Y$2:$Y$276-F348)),ABS($Y$2:$Y$276-F348),0))","v":709},136.56115124788894,134.60861299999999,"S",1,24.292707246376832,47.102438985037665,188.40975594015066,8.4540347332437024E-2,36.416306999437055,24.289421720733451,47.329091599125491,189.31636639650196,8.4135495050861764E-2,36.088099999999997,null,null,null,1181]
[3.9,390,{"$f":"INDEX($Y$2:$Y$276,MATCH(MIN(ABS($Y$2:$Y$276-B349)),ABS($Y$2:$Y$276-B349),0))","v":389},534.2465753424658,{"$f":"INDEX($Y$2:$Y$276,MATCH(MIN(ABS($Y$2:$Y$276-D349)),ABS($Y$2:$Y$276-D349),0))","v":541},737.26027397260293,{"$f":"INDEX($Y$2:$Y$276,MATCH(MIN(ABS($Y$2:$Y$276-F349)),ABS($Y$2:$Y$276-F349),0))","v":739},153.6127228373054,155.52181100000001,"S",1,23.358372352285414,45.290806716382363,181.16322686552945,8.7921961225734507E-2,39.387877650591122,23.303382949932367,45.104722701796753,180.41889080718701,8.8284692011672203E-2,39.979900000000001,null,null,null,1187]
[4.05,405,{"$f":"INDEX($Y$2:$Y$276,MATCH(MIN(ABS($Y$2:$Y$276-B350)),ABS($Y$2:$Y$276-B350),0))","v":401},554.79452054794524,{"$f":"INDEX($Y$2:$Y$276,MATCH(MIN(ABS($Y$2:$Y$276-D350)),ABS($Y$2:$Y$276-D350),0))","v":557},765.61643835616462,{"$f":"INDEX($Y$2:$Y$276,MATCH(MIN(ABS($Y$2:$Y$276-F350)),ABS($Y$2:$Y$276-F350),0))","v":769},{"$f":"(B350/100)*(D350/100)*(F350/100)","v":172.0277209607807},171.76153300000001,"S",1,22.493247450348917,43.613369430590417,174.45347772236167,9.1303575119031963E-2,42.475980484143385,22.394278283485068,43.635887786158563,174.54355114463425,9.1256457792595336E-2,42.833300000000001,null,null,null,1193]
[4.2,420,{"$f":"INDEX($Y$2:$Y$276,MATCH(MIN(ABS($Y$2:$Y$276-B351)),ABS($Y$2:$Y$276-B351),0))","v":419},575.34246575342468,{"$f":"INDEX($Y$2:$Y$276,MATCH(MIN(ABS($Y$2:$Y$276-D351)),ABS($Y$2:$Y$276-D351),0))","v":577},793.9726027397262,{"$f":"INDEX($Y$2:$Y$276,MATCH(MIN(ABS($Y$2:$Y$276-F351)),ABS($Y$2:$Y$276-F351),0))","v":797},{"$f":"(B351/100)*(D351/100)*(F351/100)","v":191.85858510039409},192.68511100000001,"S",1,21.689917184265028,42.055749093783625,168.2229963751345,9.4685189012329446E-2,45.680615500093836,21.607528230865768,41.995529969283282,167.98211987713313,9.4820962014590462E-2,45.986899999999999,null,null,null,1201]
[4.3499999999999996,434.99999999999994,{"$f":"INDEX($Y$2:$Y$276,MATCH(MIN(ABS($Y$2:$Y$276-B352)),ABS($Y$2:$Y$276-B352),0))","v":433},595.89041095890411,{"$f":"INDEX($Y$2:$Y$276,MATCH(MIN(ABS($Y$2:$Y$276-D352)),ABS($Y$2:$Y$276-D352),0))","v":593},822.32876712328778,{"$f":"INDEX($Y$2:$Y$276,MATCH(MIN(ABS($Y$2:$Y$276-F352)),ABS($Y$2:$Y$276-F352),0))","v":823},{"$f":"(B352/100)*(D352/100)*(F352/100)","v":213.15775473822484},211.320887,"S",1,20.94198900549727,40.605550849170392,162.42220339668157,9.8066802905626915E-2,49.001782698442497,20.92490886998787,40.72286367722316,162.89145470889264,9.7784295907147184E-2,48.803899999999999,null,null,null,1213]
[4.5,450,{"$f":"INDEX($Y$2:$Y$276,MATCH(MIN(ABS($Y$2:$Y$276-B353)),ABS($Y$2:$Y$276-B353),0))","v":449},616.43835616438366,{"$f":"INDEX($Y$2:$Y$276,MATCH(MIN(ABS($Y$2:$Y$276-D353)),ABS($Y$2:$Y$276-D353),0))","v":617},850.68493150684947,{"$f":"INDEX($Y$2:$Y$276,MATCH(MIN(ABS($Y$2:$Y$276-F353)),ABS($Y$2:$Y$276-F353),0))","v":853},{"$f":"(B353/100)*(D353/100)*(F353/100)","v":235.97766935635212},236.30914899999999,"S",1,20.243922705314027,39.252032487531373,157.00812995012549,0.10144841679892441,52.439482079189354,20.188980070339998,39.233670469908539,156.93468187963416,0.10149589636417439,52.630099999999999,null,null,null,1217]
["HEIGHT m","HEIGHT cm","PRIME height","WIDTH cm","PRIME width","DEPTH cm","PRIME depth","VOLUME","PRIME volume","TABLE","1=Yes 0=NO","F¹","F²","F³","minimum RT60","Floor area","F¹","F²","F³","minimum RT60","Floor area",null,null,null,1097]
[{"$f":"A339","v":2.4},{"$f":"A355*100","v":240},{"$f":"INDEX($Y$2:$Y$276,MATCH(MIN(ABS($Y$2:$Y$276-B355)),ABS($Y$2:$Y$276-B355),0))","v":239},{"$f":"B355*$D$235","v":338.0281690140846},{"$f":"INDEX($Y$2:$Y$276,MATCH(MIN(ABS($Y$2:$Y$276-D355)),ABS($Y$2:$Y$276-D355),0))","v":337},{"$f":"B355*$E$235","v":476.61971830985931},{"$f":"INDEX($Y$2:$Y$276,MATCH(MIN(ABS($Y$2:$Y$276-F355)),ABS($Y$2:$Y$276-F355),0))","v":479},{"$f":"(B355/100)*(D355/100)*(F355/100)","v":38.666613767109723},{"$f":"(C355/100)*(E355/100)*(G355/100)","v":38.580097000000009},"T",{"$f":"IF(H355>$K$22,$N$21,$O$21)","v":0},{"$f":"565/(F355*0.0328083989501312)","v":36.131950354609955},{"$f":"(SQRT(O355/(H355*35.3146667214885))*11250)","v":71.731030825980895},{"$f":"4*M355","v":286.92412330392358},{"$f":"0.25*(((0.028316846592*H355)/100)^(1/3))","v":5.5513722668512247E-2},{"$f":"(D355/100)*(F355/100)","v":16.111089069629053},{"$f":"565/(G355*0.0328083989501312)","v":35.952400835073107},{"$f":"(SQRT(T355/(I355*35.3146667214885))*11250)","v":71.78461029791508},{"$f":"4*R355","v":287.13844119166032},{"$f":"0.25*(((0.028316846592*I355)/100)^(1/3))","v":5.5472287659903363E-2},{"$f":"(E355/100)*(G355/100)","v":16.142300000000002},null,null,null,1103]
[{"$f":"A340","v":2.5499999999999998},254.99999999999997,{"$f":"INDEX($Y$2:$Y$276,MATCH(MIN(ABS($Y$2:$Y$276-B356)),ABS($Y$2:$Y$276-B356),0))","v":257},{"$f":"B356*$D$235","v":359.15492957746483},{"$f":"INDEX($Y$2:$Y$276,MATCH(MIN(ABS($Y$2:$Y$276-D356)),ABS($Y$2:$Y$276-D356),0))","v":359},{"$f":"B356*$E$235","v":506.40845070422546},{"$f":"INDEX($Y$2:$Y$276,MATCH(MIN(ABS($Y$2:$Y$276-F356)),ABS($Y$2:$Y$276-F356),0))","v":509},{"$f":"(B356/100)*(D356/100)*(F356/100)","v":46.379168319777833},{"$f":"(C356/100)*(E356/100)*(G356/100)","v":46.961866999999991},"T",1,34.006541510221133,67.511558424452602,270.04623369781041,5.8983330335294244E-2,18.187909145010916,33.833398821218111,67.231169717904947,{"$f":"4*R356","v":268.92467887161979},5.9229321291125875E-2,18.273099999999999,null,null,null,1109]
[2.7,270,{"$f":"INDEX($Y$2:$Y$276,MATCH(MIN(ABS($Y$2:$Y$276-B357)),ABS($Y$2:$Y$276-B357),0))","v":269},380.28169014084517,{"$f":"INDEX($Y$2:$Y$276,MATCH(MIN(ABS($Y$2:$Y$276-D357)),ABS($Y$2:$Y$276-D357),0))","v":379},536.19718309859172,{"$f":"INDEX($Y$2:$Y$276,MATCH(MIN(ABS($Y$2:$Y$276-F357)),ABS($Y$2:$Y$276-F357),0))","v":541},55.05461218012303,55.155491000000005,"T",1,32.117289204097737,63.760916289760786,255.04366515904314,6.2452938002076283E-2,20.390597103749268,31.832162661737556,63.722019881969651,254.8880795278786,6.2491059752591754E-2,20.503900000000002,null,null,null,1117]
[2.85,285,{"$f":"INDEX($Y$2:$Y$276,MATCH(MIN(ABS($Y$2:$Y$276-B358)),ABS($Y$2:$Y$276-B358),0))","v":283},401.40845070422546,{"$f":"INDEX($Y$2:$Y$276,MATCH(MIN(ABS($Y$2:$Y$276-D358)),ABS($Y$2:$Y$276-D358),0))","v":401},565.98591549295793,{"$f":"INDEX($Y$2:$Y$276,MATCH(MIN(ABS($Y$2:$Y$276-F358)),ABS($Y$2:$Y$276-F358),0))","v":563},64.74958589565567,63.890929,"T",1,30.426905561776806,60.405078590299688,241.62031436119875,6.5922545668858287E-2,22.719152945844094,30.588277087033777,60.674478343726655,242.69791337490662,6.5629844058011977E-2,22.5763,null,null,null,1123]
[3,300,{"$f":"INDEX($Y$2:$Y$276,MATCH(MIN(ABS($Y$2:$Y$276-B359)),ABS($Y$2:$Y$276-B359),0))","v":293},422.53521126760575,{"$f":"INDEX($Y$2:$Y$276,MATCH(MIN(ABS($Y$2:$Y$276-D359)),ABS($Y$2:$Y$276-D359),0))","v":421},595.77464788732414,{"$f":"INDEX($Y$2:$Y$276,MATCH(MIN(ABS($Y$2:$Y$276-F359)),ABS($Y$2:$Y$276-F359),0))","v":593},75.520730013886194,73.148329000000004,"T",1,28.905560283687965,57.384824660784695,229.53929864313878,6.9392153335640305E-2,25.173576671295397,29.040809443507619,57.998618491906626,231.9944739676265,6.865778281521788E-2,24.965299999999999,null,null,null,1129]
[3.2,320,{"$f":"INDEX($Y$2:$Y$276,MATCH(MIN(ABS($Y$2:$Y$276-B360)),ABS($Y$2:$Y$276-B360),0))","v":317},450.70422535211276,{"$f":"INDEX($Y$2:$Y$276,MATCH(MIN(ABS($Y$2:$Y$276-D360)),ABS($Y$2:$Y$276-D360),0))","v":449},635.49295774647908,{"$f":"INDEX($Y$2:$Y$276,MATCH(MIN(ABS($Y$2:$Y$276-F360)),ABS($Y$2:$Y$276-F360),0))","v":631},91.654195596111933,89.812123,"T",1,27.098962765957467,53.798273119485664,215.19309247794266,7.4018296891349658E-2,28.64193612378498,27.291917591125227,54.163592826327836,216.65437130531134,7.3519062237400318E-2,28.331900000000001,null,null,null,1151]
[3.3,330,{"$f":"INDEX($Y$2:$Y$276,MATCH(MIN(ABS($Y$2:$Y$276-B361)),ABS($Y$2:$Y$276-B361),0))","v":331},464.78873239436632,{"$f":"INDEX($Y$2:$Y$276,MATCH(MIN(ABS($Y$2:$Y$276-D361)),ABS($Y$2:$Y$276-D361),0))","v":463},655.35211267605655,{"$f":"INDEX($Y$2:$Y$276,MATCH(MIN(ABS($Y$2:$Y$276-F361)),ABS($Y$2:$Y$276-F361),0))","v":653},100.51809164848248,100.07420900000001,"T",1,26.277782076079969,52.168022418895191,208.67208967558076,7.6331368669204328E-2,30.460027772267424,26.372434915773379,52.245039688317142,208.98015875326857,7.6218844425348556E-2,30.233900000000002,null,null,null,1153]
[3.4,340,{"$f":"INDEX($Y$2:$Y$276,MATCH(MIN(ABS($Y$2:$Y$276-B362)),ABS($Y$2:$Y$276-B362),0))","v":337},478.87323943661983,{"$f":"INDEX($Y$2:$Y$276,MATCH(MIN(ABS($Y$2:$Y$276-D362)),ABS($Y$2:$Y$276-D362),0))","v":479},675.21126760563402,{"$f":"INDEX($Y$2:$Y$276,MATCH(MIN(ABS($Y$2:$Y$276-F362)),ABS($Y$2:$Y$276-F362),0))","v":677},109.93580638762155,109.283371,"T",1,25.504906132665852,50.633668818339451,202.53467527335781,7.8644440447059025E-2,32.334060702241636,25.437518463810957,50.734232069039507,202.93692827615803,7.8488554760840656E-2,32.4283,null,null,null,1163]
[3.6,360,{"$f":"INDEX($Y$2:$Y$276,MATCH(MIN(ABS($Y$2:$Y$276-B363)),ABS($Y$2:$Y$276-B363),0))","v":359},507.0422535211269,{"$f":"INDEX($Y$2:$Y$276,MATCH(MIN(ABS($Y$2:$Y$276-D363)),ABS($Y$2:$Y$276-D363),0))","v":509},714.92957746478896,{"$f":"INDEX($Y$2:$Y$276,MATCH(MIN(ABS($Y$2:$Y$276-F363)),ABS($Y$2:$Y$276-F363),0))","v":719},130.49982146399532,131.383589,"T",1,24.087966903073305,47.820687217320589,191.28274886928236,8.3270584002768364E-2,36.249950406665363,23.951599443671789,47.713222025943857,190.85288810377543,8.3458135563236113E-2,36.597099999999998,null,null,null,1171]
[3.75,375,{"$f":"INDEX($Y$2:$Y$276,MATCH(MIN(ABS($Y$2:$Y$276-B364)),ABS($Y$2:$Y$276-B364),0))","v":373},528.16901408450713,{"$f":"INDEX($Y$2:$Y$276,MATCH(MIN(ABS($Y$2:$Y$276-D364)),ABS($Y$2:$Y$276-D364),0))","v":523},744.71830985915517,{"$f":"INDEX($Y$2:$Y$276,MATCH(MIN(ABS($Y$2:$Y$276-F364)),ABS($Y$2:$Y$276-F364),0))","v":743},147.50142580837141,144.94369700000001,"T",1,23.124448226950371,45.90785972862777,183.63143891451108,8.6740191669550382E-2,39.333713548899041,23.177927321668935,46.176322293740846,184.70528917496338,8.6235896541716775E-2,38.858899999999998,null,null,null,1181]
[3.9,390,{"$f":"INDEX($Y$2:$Y$276,MATCH(MIN(ABS($Y$2:$Y$276-B365)),ABS($Y$2:$Y$276-B365),0))","v":389},549.29577464788747,{"$f":"INDEX($Y$2:$Y$276,MATCH(MIN(ABS($Y$2:$Y$276-D365)),ABS($Y$2:$Y$276-D365),0))","v":547},774.50704225352138,{"$f":"INDEX($Y$2:$Y$276,MATCH(MIN(ABS($Y$2:$Y$276-F365)),ABS($Y$2:$Y$276-F365),0))","v":773},165.91904384050795,164.48125899999999,"T",1,22.235046372067664,44.142172815988239,176.56869126395296,9.0209799336332414E-2,42.543344574489218,22.278395860284629,44.270420276439438,177.08168110575775,8.9948469590636418E-2,42.283099999999997,null,null,null,1187]
[4.05,405,{"$f":"INDEX($Y$2:$Y$276,MATCH(MIN(ABS($Y$2:$Y$276-B366)),ABS($Y$2:$Y$276-B366),0))","v":401},570.4225352112677,{"$f":"INDEX($Y$2:$Y$276,MATCH(MIN(ABS($Y$2:$Y$276-D366)),ABS($Y$2:$Y$276-D366),0))","v":571},804.29577464788758,{"$f":"INDEX($Y$2:$Y$276,MATCH(MIN(ABS($Y$2:$Y$276-F366)),ABS($Y$2:$Y$276-F366),0))","v":809},{"$f":"(B366/100)*(D366/100)*(F366/100)","v":185.80931610791518},185.23753899999997,"T",1,21.411526136065159,42.507277526507195,170.02911010602878,9.3679407003114404E-2,45.878843483435851,21.287021013597055,42.550968677250111,170.20387470900044,9.3583217392863086E-2,46.193899999999999,null,null,null,1193]
[4.2,420,{"$f":"INDEX($Y$2:$Y$276,MATCH(MIN(ABS($Y$2:$Y$276-B367)),ABS($Y$2:$Y$276-B367),0))","v":419},591.54929577464804,{"$f":"INDEX($Y$2:$Y$276,MATCH(MIN(ABS($Y$2:$Y$276-D367)),ABS($Y$2:$Y$276-D367),0))","v":593},834.08450704225379,{"$f":"INDEX($Y$2:$Y$276,MATCH(MIN(ABS($Y$2:$Y$276-F367)),ABS($Y$2:$Y$276-F367),0))","v":839},{"$f":"(B367/100)*(D367/100)*(F367/100)","v":207.22888315810371},208.46381300000004,"T",1,20.646828774062833,40.989160471989074,163.95664188795629,9.7149014669896422E-2,49.340210275738976,20.525864123957113,40.90806082958467,163.63224331833868,9.734161119463737E-2,49.752700000000004,null,null,null,1201]
[4.3499999999999996,434.99999999999994,{"$f":"INDEX($Y$2:$Y$276,MATCH(MIN(ABS($Y$2:$Y$276-B368)),ABS($Y$2:$Y$276-B368),0))","v":433},612.67605633802827,{"$f":"INDEX($Y$2:$Y$276,MATCH(MIN(ABS($Y$2:$Y$276-D368)),ABS($Y$2:$Y$276-D368),0))","v":613},863.87323943661988,{"$f":"INDEX($Y$2:$Y$276,MATCH(MIN(ABS($Y$2:$Y$276-F368)),ABS($Y$2:$Y$276-F368),0))","v":863},{"$f":"(B368/100)*(D368/100)*(F368/100)","v":230.23438553858369},229.06522700000002,"T",1,19.934869161164116,39.575741145368767,158.30296458147507,0.10061862233667843,52.927444951398556,19.955040556199325,39.642958995458997,158.57183598183599,0.10044801530723628,52.901900000000005,null,null,null,1213]
[4.5,450,{"$f":"INDEX($Y$2:$Y$276,MATCH(MIN(ABS($Y$2:$Y$276-B369)),ABS($Y$2:$Y$276-B369),0))","v":449},633.80281690140862,{"$f":"INDEX($Y$2:$Y$276,MATCH(MIN(ABS($Y$2:$Y$276-D369)),ABS($Y$2:$Y$276-D369),0))","v":631},893.6619718309862,{"$f":"INDEX($Y$2:$Y$276,MATCH(MIN(ABS($Y$2:$Y$276-F369)),ABS($Y$2:$Y$276-F369),0))","v":887},{"$f":"(B369/100)*(D369/100)*(F369/100)","v":254.88246379686584},251.30395299999998,"T",1,19.270373522458645,38.25654977385647,153.02619909542588,0.10408823000346046,56.640547510414628,19.41510710259303,38.437282775912401,153.7491311036496,0.10359880471299736,55.969699999999989,null,null,null,1217]
["HEIGHT m","HEIGHT cm","PRIME height","WIDTH cm","PRIME width","DEPTH cm","PRIME depth","VOLUME","PRIME volume","TABLE","1=Yes 0=NO","F¹","F²","F³","minimum RT60","Floor area","F¹","F²","F³","minimum RT60","Floor area",null,null,null,1097]
[{"$f":"A355","v":2.4},{"$f":"A371*100","v":240},{"$f":"INDEX($Y$2:$Y$276,MATCH(MIN(ABS($Y$2:$Y$276-B371)),ABS($Y$2:$Y$276-B371),0))","v":239},{"$f":"B371*$D$236","v":347.82608695652186},{"$f":"INDEX($Y$2:$Y$276,MATCH(MIN(ABS($Y$2:$Y$276-D371)),ABS($Y$2:$Y$276-D371),0))","v":347},{"$f":"B371*$E$236","v":500.86956521739148},{"$f":"INDEX($Y$2:$Y$276,MATCH(MIN(ABS($Y$2:$Y$276-F371)),ABS($Y$2:$Y$276-F371),0))","v":499},{"$f":"(B371/100)*(D371/100)*(F371/100)","v":41.811720226843136},{"$f":"(C371/100)*(E371/100)*(G371/100)","v":41.383567000000006},"U",{"$f":"IF(H371>$K$22,$N$21,$O$21)","v":0},{"$f":"565/(F371*0.0328083989501312)","v":34.382604166666688},{"$f":"(SQRT(O371/(H371*35.3146667214885))*11250)","v":69.885397576058736},{"$f":"4*M371","v":279.54159030423494},{"$f":"0.25*(((0.028316846592*H371)/100)^(1/3))","v":5.697980823055622E-2},{"$f":"(D371/100)*(F371/100)","v":17.421550094517972},{"$f":"565/(G371*0.0328083989501312)","v":34.51142284569142},{"$f":"(SQRT(T371/(I371*35.3146667214885))*11250)","v":70.125581946689351},{"$f":"4*R371","v":280.50232778675741},{"$f":"0.25*(((0.028316846592*I371)/100)^(1/3))","v":5.6784648932072079E-2},{"$f":"(E371/100)*(G371/100)","v":17.315300000000001},null,null,null,1103]
[{"$f":"A356","v":2.5499999999999998},254.99999999999997,{"$f":"INDEX($Y$2:$Y$276,MATCH(MIN(ABS($Y$2:$Y$276-B372)),ABS($Y$2:$Y$276-B372),0))","v":257},{"$f":"B372*$D$236","v":369.56521739130443},{"$f":"INDEX($Y$2:$Y$276,MATCH(MIN(ABS($Y$2:$Y$276-D372)),ABS($Y$2:$Y$276-D372),0))","v":367},{"$f":"B372*$E$236","v":532.17391304347836},{"$f":"INDEX($Y$2:$Y$276,MATCH(MIN(ABS($Y$2:$Y$276-F372)),ABS($Y$2:$Y$276-F372),0))","v":541},{"$f":"(B372/100)*(D372/100)*(F372/100)","v":50.151606805293021},{"$f":"(C372/100)*(E372/100)*(G372/100)","v":51.026578999999998},"U",1,32.360098039215714,65.774491836290593,263.09796734516237,6.0541046244965972E-2,19.667296786389421,31.832162661737556,65.396368830871324,{"$f":"4*R372","v":261.5854753234853},6.0891095686037802E-2,19.854700000000001,null,null,null,1109]
[2.7,270,{"$f":"INDEX($Y$2:$Y$276,MATCH(MIN(ABS($Y$2:$Y$276-B373)),ABS($Y$2:$Y$276-B373),0))","v":269},391.30434782608705,{"$f":"INDEX($Y$2:$Y$276,MATCH(MIN(ABS($Y$2:$Y$276-D373)),ABS($Y$2:$Y$276-D373),0))","v":389},563.47826086956547,{"$f":"INDEX($Y$2:$Y$276,MATCH(MIN(ABS($Y$2:$Y$276-F373)),ABS($Y$2:$Y$276-F373),0))","v":563},59.532703213610638,58.912883000000001,"U",1,30.562314814814833,62.120353400941106,248.48141360376442,6.4102284259375752E-2,22.04914933837431,30.588277087033777,62.337449115862803,249.34979646345121,6.3879042348986712E-2,21.900700000000001,null,null,null,1117]
[2.85,285,{"$f":"INDEX($Y$2:$Y$276,MATCH(MIN(ABS($Y$2:$Y$276-B374)),ABS($Y$2:$Y$276-B374),0))","v":283},413.04347826086968,{"$f":"INDEX($Y$2:$Y$276,MATCH(MIN(ABS($Y$2:$Y$276-D374)),ABS($Y$2:$Y$276-D374),0))","v":409},594.78260869565236,{"$f":"INDEX($Y$2:$Y$276,MATCH(MIN(ABS($Y$2:$Y$276-F374)),ABS($Y$2:$Y$276-F374),0))","v":593},70.016257088846928,68.637970999999993,"U",1,28.953771929824583,58.850861116681052,235.40344446672421,6.7663522273785512E-2,24.567107750472609,29.040809443507619,59.242172060352473,236.96868824140989,6.7216585981069665E-2,24.253699999999998,null,null,null,1123]
[3,300,{"$f":"INDEX($Y$2:$Y$276,MATCH(MIN(ABS($Y$2:$Y$276-B375)),ABS($Y$2:$Y$276-B375),0))","v":293},434.7826086956523,{"$f":"INDEX($Y$2:$Y$276,MATCH(MIN(ABS($Y$2:$Y$276-D375)),ABS($Y$2:$Y$276-D375),0))","v":433},626.08695652173935,{"$f":"INDEX($Y$2:$Y$276,MATCH(MIN(ABS($Y$2:$Y$276-F375)),ABS($Y$2:$Y$276-F375),0))","v":631},81.663516068052985,80.054338999999999,"U",1,27.506083333333351,55.908318060846987,223.63327224338795,7.1224760288195271E-2,27.221172022684328,27.291917591125227,56.280441215747288,225.12176486298915,7.0753826124693317E-2,27.322299999999998,null,null,null,1129]
[3.2,320,{"$f":"INDEX($Y$2:$Y$276,MATCH(MIN(ABS($Y$2:$Y$276-B376)),ABS($Y$2:$Y$276-B376),0))","v":317},463.76811594202911,{"$f":"INDEX($Y$2:$Y$276,MATCH(MIN(ABS($Y$2:$Y$276-D376)),ABS($Y$2:$Y$276-D376),0))","v":463},667.82608695652198,{"$f":"INDEX($Y$2:$Y$276,MATCH(MIN(ABS($Y$2:$Y$276-F376)),ABS($Y$2:$Y$276-F376),0))","v":673},99.109262759924448,98.776882999999998,"U",1,25.786953125000021,52.414048182044063,209.65619272817625,7.5973077640741626E-2,30.971644612476389,25.588707280832125,52.472772666167636,209.89109066467054,7.5888052978139622E-2,31.1599,null,null,null,1151]
[3.3,330,{"$f":"INDEX($Y$2:$Y$276,MATCH(MIN(ABS($Y$2:$Y$276-B377)),ABS($Y$2:$Y$276-B377),0))","v":331},478.26086956521755,{"$f":"INDEX($Y$2:$Y$276,MATCH(MIN(ABS($Y$2:$Y$276-D377)),ABS($Y$2:$Y$276-D377),0))","v":479},688.69565217391334,{"$f":"INDEX($Y$2:$Y$276,MATCH(MIN(ABS($Y$2:$Y$276-F377)),ABS($Y$2:$Y$276-F377),0))","v":691},108.69413988657853,109.55735900000001,"U",1,25.005530303030319,50.825743691679087,203.30297476671635,7.834723631701479E-2,32.937618147448042,24.92214182344431,50.691903633841228,202.76761453536491,7.8554093781193865E-2,33.0989,null,null,null,1153]
[3.4,340,{"$f":"INDEX($Y$2:$Y$276,MATCH(MIN(ABS($Y$2:$Y$276-B378)),ABS($Y$2:$Y$276-B378),0))","v":337},492.75362318840592,{"$f":"INDEX($Y$2:$Y$276,MATCH(MIN(ABS($Y$2:$Y$276-D378)),ABS($Y$2:$Y$276-D378),0))","v":491},709.5652173913046,{"$f":"INDEX($Y$2:$Y$276,MATCH(MIN(ABS($Y$2:$Y$276-F378)),ABS($Y$2:$Y$276-F378),0))","v":709},118.87788279773163,117.31610300000001,"U",1,24.270073529411782,49.330868877217938,197.32347550887175,8.0721394993287968E-2,34.964083175803424,24.289421720733451,49.548811609747034,198.19524643898814,8.036633821539875E-2,34.811900000000001,null,null,null,1163]
[3.6,360,{"$f":"INDEX($Y$2:$Y$276,MATCH(MIN(ABS($Y$2:$Y$276-B379)),ABS($Y$2:$Y$276-B379),0))","v":359},521.73913043478274,{"$f":"INDEX($Y$2:$Y$276,MATCH(MIN(ABS($Y$2:$Y$276-D379)),ABS($Y$2:$Y$276-D379),0))","v":521},751.30434782608722,{"$f":"INDEX($Y$2:$Y$276,MATCH(MIN(ABS($Y$2:$Y$276-F379)),ABS($Y$2:$Y$276-F379),0))","v":751},141.11455576559555,140.46628899999999,"U",1,22.921736111111127,46.590265050705831,186.36106020282332,8.5469712345834309E-2,39.198487712665425,22.931025299600559,46.661828071717963,186.64731228687185,8.5338631522959049E-2,39.127099999999999,null,null,null,1171]
[3.75,375,{"$f":"INDEX($Y$2:$Y$276,MATCH(MIN(ABS($Y$2:$Y$276-B380)),ABS($Y$2:$Y$276-B380),0))","v":373},543.47826086956536,{"$f":"INDEX($Y$2:$Y$276,MATCH(MIN(ABS($Y$2:$Y$276-D380)),ABS($Y$2:$Y$276-D380),0))","v":541},782.60869565217422,{"$f":"INDEX($Y$2:$Y$276,MATCH(MIN(ABS($Y$2:$Y$276-F380)),ABS($Y$2:$Y$276-F380),0))","v":787},159.49905482041595,158.811091,"U",1,22.004866666666683,44.7266544486776,178.9066177947104,8.9030950360244096E-2,42.533081285444254,21.882083862770035,44.791146155005592,179.16458462002237,8.8902760787133703E-2,42.576700000000002,null,null,null,1181]
[3.9,390,{"$f":"INDEX($Y$2:$Y$276,MATCH(MIN(ABS($Y$2:$Y$276-B381)),ABS($Y$2:$Y$276-B381),0))","v":389},565.21739130434798,{"$f":"INDEX($Y$2:$Y$276,MATCH(MIN(ABS($Y$2:$Y$276-D381)),ABS($Y$2:$Y$276-D381),0))","v":563},813.91304347826122,{"$f":"INDEX($Y$2:$Y$276,MATCH(MIN(ABS($Y$2:$Y$276-F381)),ABS($Y$2:$Y$276-F381),0))","v":811},179.41474480151243,177.614677,"U",1,21.158525641025655,43.006398508343842,172.02559403337537,9.2592188374653855E-2,46.003780718336515,21.234525277435289,43.151195799557634,172.60478319823054,9.2281487875727125E-2,45.659299999999995,null,null,null,1187]
[4.05,405,{"$f":"INDEX($Y$2:$Y$276,MATCH(MIN(ABS($Y$2:$Y$276-B382)),ABS($Y$2:$Y$276-B382),0))","v":401},586.95652173913061,{"$f":"INDEX($Y$2:$Y$276,MATCH(MIN(ABS($Y$2:$Y$276-D382)),ABS($Y$2:$Y$276-D382),0))","v":587},845.21739130434821,{"$f":"INDEX($Y$2:$Y$276,MATCH(MIN(ABS($Y$2:$Y$276-F382)),ABS($Y$2:$Y$276-F382),0))","v":839},{"$f":"(B382/100)*(D382/100)*(F382/100)","v":200.9228733459359},197.48969299999999,"U",1,20.37487654320989,41.413568933960732,165.65427573584293,9.6153426389063615E-2,49.6105860113422,20.525864123957113,41.652170795284185,166.60868318113674,9.5602617485925842E-2,49.249300000000005,null,null,null,1193]
[4.2,420,{"$f":"INDEX($Y$2:$Y$276,MATCH(MIN(ABS($Y$2:$Y$276-B383)),ABS($Y$2:$Y$276-B383),0))","v":419},608.69565217391323,{"$f":"INDEX($Y$2:$Y$276,MATCH(MIN(ABS($Y$2:$Y$276-D383)),ABS($Y$2:$Y$276-D383),0))","v":607},876.52173913043509,{"$f":"INDEX($Y$2:$Y$276,MATCH(MIN(ABS($Y$2:$Y$276-F383)),ABS($Y$2:$Y$276-F383),0))","v":877},{"$f":"(B383/100)*(D383/100)*(F383/100)","v":224.08468809073739},223.05004100000002,"U",1,19.647202380952393,39.934512900605,159.73805160242,9.9714664403473374E-2,53.353497164461281,19.636488027366042,39.996164843528291,159.98465937411316,9.9560959596463272E-2,53.233899999999998,null,null,null,1201]
[4.3499999999999996,434.99999999999994,{"$f":"INDEX($Y$2:$Y$276,MATCH(MIN(ABS($Y$2:$Y$276-B384)),ABS($Y$2:$Y$276-B384),0))","v":433},630.43478260869574,{"$f":"INDEX($Y$2:$Y$276,MATCH(MIN(ABS($Y$2:$Y$276-D384)),ABS($Y$2:$Y$276-D384),0))","v":631},907.82608695652198,{"$f":"INDEX($Y$2:$Y$276,MATCH(MIN(ABS($Y$2:$Y$276-F384)),ABS($Y$2:$Y$276-F384),0))","v":907},{"$f":"(B384/100)*(D384/100)*(F384/100)","v":248.96143667296795},247.81326099999998,"U",1,18.969712643678175,38.557460731618626,154.2298429264745,0.10327590241788313,57.23251417769378,18.986990077177531,38.616917519810563,154.46767007924225,0.1031168930031042,57.231699999999996,null,null,null,1213]
[4.5,450,{"$f":"INDEX($Y$2:$Y$276,MATCH(MIN(ABS($Y$2:$Y$276-B385)),ABS($Y$2:$Y$276-B385),0))","v":449},652.17391304347848,{"$f":"INDEX($Y$2:$Y$276,MATCH(MIN(ABS($Y$2:$Y$276-D385)),ABS($Y$2:$Y$276-D385),0))","v":653},939.13043478260909,{"$f":"INDEX($Y$2:$Y$276,MATCH(MIN(ABS($Y$2:$Y$276-F385)),ABS($Y$2:$Y$276-F385),0))","v":941},{"$f":"(B385/100)*(D385/100)*(F385/100)","v":275.61436672967886},275.89837700000004,"U",1,18.337388888888903,37.272212040564661,149.08884816225864,0.10683714043229291,61.247637051039746,18.300956429330519,37.259418289570114,149.03767315828046,0.1068738250568632,61.447300000000006,null,null,null,1217]
["HEIGHT m","HEIGHT cm","PRIME height","WIDTH cm","PRIME width","DEPTH cm","PRIME depth","VOLUME","PRIME volume","TABLE","1=Yes 0=NO","F¹","F²","F³","minimum RT60","Floor area","F¹","F²","F³","minimum RT60","Floor area",null,null,null,1097]
[{"$f":"A371","v":2.4},{"$f":"A387*100","v":240},{"$f":"INDEX($Y$2:$Y$276,MATCH(MIN(ABS($Y$2:$Y$276-B387)),ABS($Y$2:$Y$276-B387),0))","v":239},{"$f":"B387*$D$237","v":358.20895522388065},{"$f":"INDEX($Y$2:$Y$276,MATCH(MIN(ABS($Y$2:$Y$276-D387)),ABS($Y$2:$Y$276-D387),0))","v":359},{"$f":"B387*$E$237","v":526.56716417910468},{"$f":"INDEX($Y$2:$Y$276,MATCH(MIN(ABS($Y$2:$Y$276-F387)),ABS($Y$2:$Y$276-F387),0))","v":523},{"$f":"(B387/100)*(D387/100)*(F387/100)","v":45.269057696591702},{"$f":"(C387/100)*(E387/100)*(G387/100)","v":44.873923000000005},"V",{"$f":"IF(H387>$K$22,$N$21,$O$21)","v":1},{"$f":"565/(F387*0.0328083989501312)","v":32.704659863945601},{"$f":"(SQRT(O387/(H387*35.3146667214885))*11250)","v":68.058958779374436},{"$f":"4*M387","v":272.23583511749774},{"$f":"0.25*(((0.028316846592*H387)/100)^(1/3))","v":5.8508925546577502E-2},{"$f":"(D387/100)*(F387/100)","v":18.862107373579875},{"$f":"565/(G387*0.0328083989501312)","v":32.927724665392006},{"$f":"(SQRT(T387/(I387*35.3146667214885))*11250)","v":68.258138353337699},{"$f":"4*R387","v":273.0325534133508},{"$f":"0.25*(((0.028316846592*I387)/100)^(1/3))","v":5.8338194507839086E-2},{"$f":"(E387/100)*(G387/100)","v":18.775700000000001},null,null,null,1103]
[{"$f":"A372","v":2.5499999999999998},254.99999999999997,{"$f":"INDEX($Y$2:$Y$276,MATCH(MIN(ABS($Y$2:$Y$276-B388)),ABS($Y$2:$Y$276-B388),0))","v":257},{"$f":"B388*$D$237","v":380.59701492537317},{"$f":"INDEX($Y$2:$Y$276,MATCH(MIN(ABS($Y$2:$Y$276-D388)),ABS($Y$2:$Y$276-D388),0))","v":379},{"$f":"B388*$E$237","v":559.47761194029863},{"$f":"INDEX($Y$2:$Y$276,MATCH(MIN(ABS($Y$2:$Y$276-F388)),ABS($Y$2:$Y$276-F388),0))","v":557},{"$f":"(B388/100)*(D388/100)*(F388/100)","v":54.298554800623769},{"$f":"(C388/100)*(E388/100)*(G388/100)","v":54.253470999999998},"V",1,30.780856342537042,64.055490615881823,256.22196246352729,6.2165733393238581E-2,21.2935509022054,30.917773788150843,64.073228746179325,{"$f":"4*R388","v":256.2929149847173},6.2148523336861737E-2,21.110300000000002,null,null,null,1109]
[2.7,270,{"$f":"INDEX($Y$2:$Y$276,MATCH(MIN(ABS($Y$2:$Y$276-B389)),ABS($Y$2:$Y$276-B389),0))","v":269},402.98507462686575,{"$f":"INDEX($Y$2:$Y$276,MATCH(MIN(ABS($Y$2:$Y$276-D389)),ABS($Y$2:$Y$276-D389),0))","v":401},592.38805970149269,{"$f":"INDEX($Y$2:$Y$276,MATCH(MIN(ABS($Y$2:$Y$276-F389)),ABS($Y$2:$Y$276-F389),0))","v":593},64.455357540654958,63.966316999999989,"V",1,29.070808767951647,60.496852248332836,241.98740899333134,6.5822541239899682E-2,23.872354644687022,29.040809443507619,60.650632847516874,242.6025313900675,6.5655647188569061E-2,23.779299999999999,null,null,null,1117]
[2.85,285,{"$f":"INDEX($Y$2:$Y$276,MATCH(MIN(ABS($Y$2:$Y$276-B390)),ABS($Y$2:$Y$276-B390),0))","v":283},425.37313432835828,{"$f":"INDEX($Y$2:$Y$276,MATCH(MIN(ABS($Y$2:$Y$276-D390)),ABS($Y$2:$Y$276-D390),0))","v":421},625.29850746268676,{"$f":"INDEX($Y$2:$Y$276,MATCH(MIN(ABS($Y$2:$Y$276-F390)),ABS($Y$2:$Y$276-F390),0))","v":631},75.805778012920513,75.179232999999996,"V",1,27.540766201217348,57.312807393157428,229.25122957262971,6.9479349086560782E-2,26.59851860102474,27.291917591125227,57.471582434183333,229.88632973673333,6.9287400543743008E-2,26.565099999999997,null,null,null,1123]
[3,300,{"$f":"INDEX($Y$2:$Y$276,MATCH(MIN(ABS($Y$2:$Y$276-B391)),ABS($Y$2:$Y$276-B391),0))","v":293},447.76119402985086,{"$f":"INDEX($Y$2:$Y$276,MATCH(MIN(ABS($Y$2:$Y$276-D391)),ABS($Y$2:$Y$276-D391),0))","v":449},658.20895522388082,{"$f":"INDEX($Y$2:$Y$276,MATCH(MIN(ABS($Y$2:$Y$276-F391)),ABS($Y$2:$Y$276-F391),0))","v":659},88.416128313655662,86.696063000000009,"V",1,26.163727891156483,54.447167023499546,217.78866809399818,7.3136156933221869E-2,29.472042771218554,26.132321699544793,54.804892069063506,219.21956827625402,7.26587792013519E-2,29.589100000000002,null,null,null,1129]
[3.2,320,{"$f":"INDEX($Y$2:$Y$276,MATCH(MIN(ABS($Y$2:$Y$276-B392)),ABS($Y$2:$Y$276-B392),0))","v":317},477.61194029850753,{"$f":"INDEX($Y$2:$Y$276,MATCH(MIN(ABS($Y$2:$Y$276-D392)),ABS($Y$2:$Y$276-D392),0))","v":479},702.08955223880616,{"$f":"INDEX($Y$2:$Y$276,MATCH(MIN(ABS($Y$2:$Y$276-F392)),ABS($Y$2:$Y$276-F392),0))","v":701},107.3044330585877,106.44194299999999,"V",1,24.528494897959202,51.044219084530837,204.17687633812335,7.8011900728769998E-2,33.53263533080866,24.566619115549241,51.181717367784628,204.72686947113851,7.7802323892055186E-2,33.5779,null,null,null,1151]
[3.3,330,{"$f":"INDEX($Y$2:$Y$276,MATCH(MIN(ABS($Y$2:$Y$276-B393)),ABS($Y$2:$Y$276-B393),0))","v":331},492.5373134328359,{"$f":"INDEX($Y$2:$Y$276,MATCH(MIN(ABS($Y$2:$Y$276-D393)),ABS($Y$2:$Y$276-D393),0))","v":491},724.02985074626895,{"$f":"INDEX($Y$2:$Y$276,MATCH(MIN(ABS($Y$2:$Y$276-F393)),ABS($Y$2:$Y$276-F393),0))","v":727},117.68186678547566,118.15276700000001,"V",1,23.785207173778616,49.497424566817777,197.98969826727111,8.0449772626544055E-2,35.661171753174443,23.68803301237967,49.431579355062659,197.72631742025064,8.0556935545134933E-2,35.695700000000002,null,null,null,1153]
[3.4,340,{"$f":"INDEX($Y$2:$Y$276,MATCH(MIN(ABS($Y$2:$Y$276-B394)),ABS($Y$2:$Y$276-B394),0))","v":337},507.46268656716427,{"$f":"INDEX($Y$2:$Y$276,MATCH(MIN(ABS($Y$2:$Y$276-D394)),ABS($Y$2:$Y$276-D394),0))","v":509},745.97014925373162,{"$f":"INDEX($Y$2:$Y$276,MATCH(MIN(ABS($Y$2:$Y$276-F394)),ABS($Y$2:$Y$276-F394),0))","v":743},128.70768545333044,127.44901900000001,"V",1,23.085642256902776,48.041617961911363,192.16647184764545,8.2887644524318113E-2,37.855201603920719,23.177927321668935,48.199250662595411,192.79700265038164,8.2616565553585347E-2,37.8187,null,null,null,1163]
[3.6,360,{"$f":"INDEX($Y$2:$Y$276,MATCH(MIN(ABS($Y$2:$Y$276-B395)),ABS($Y$2:$Y$276-B395),0))","v":359},537.313432835821,{"$f":"INDEX($Y$2:$Y$276,MATCH(MIN(ABS($Y$2:$Y$276-D395)),ABS($Y$2:$Y$276-D395),0))","v":541},789.85074626865696,{"$f":"INDEX($Y$2:$Y$276,MATCH(MIN(ABS($Y$2:$Y$276-F395)),ABS($Y$2:$Y$276-F395),0))","v":787},152.78306972599697,152.85035300000001,"V",1,21.803106575963735,45.372639186249621,181.49055674499849,8.7763388319866228E-2,42.439741590554711,21.882083862770035,45.365980674171176,181.4639226966847,8.7776269636934426E-2,42.576700000000002,null,null,null,1171]
[3.75,375,{"$f":"INDEX($Y$2:$Y$276,MATCH(MIN(ABS($Y$2:$Y$276-B396)),ABS($Y$2:$Y$276-B396),0))","v":373},559.70149253731358,{"$f":"INDEX($Y$2:$Y$276,MATCH(MIN(ABS($Y$2:$Y$276-D396)),ABS($Y$2:$Y$276-D396),0))","v":557},822.76119402985103,{"$f":"INDEX($Y$2:$Y$276,MATCH(MIN(ABS($Y$2:$Y$276-F396)),ABS($Y$2:$Y$276-F396),0))","v":823},172.68775061260874,170.987303,"V",1,20.930982312925185,43.557733618799631,174.23093447519852,9.1420196166527343E-2,46.050066830028989,20.92490886998787,43.701649685997623,174.80659874399049,9.1119135790333566E-2,45.841100000000004,null,null,null,1181]
[3.9,390,{"$f":"INDEX($Y$2:$Y$276,MATCH(MIN(ABS($Y$2:$Y$276-B397)),ABS($Y$2:$Y$276-B397),0))","v":389},582.08955223880605,{"$f":"INDEX($Y$2:$Y$276,MATCH(MIN(ABS($Y$2:$Y$276-D397)),ABS($Y$2:$Y$276-D397),0))","v":587},855.67164179104509,{"$f":"INDEX($Y$2:$Y$276,MATCH(MIN(ABS($Y$2:$Y$276-F397)),ABS($Y$2:$Y$276-F397),0))","v":857},194.25023390510145,195.68995100000004,"V",1,20.125944531658831,41.882436171922727,167.52974468769091,9.5077004013188415E-2,49.807752283359342,20.094749124854165,41.77947169162821,167.11788676651284,9.5311318950879215E-2,50.305900000000001,null,null,null,1187]
[4.05,405,{"$f":"INDEX($Y$2:$Y$276,MATCH(MIN(ABS($Y$2:$Y$276-B398)),ABS($Y$2:$Y$276-B398),0))","v":401},604.47761194029863,{"$f":"INDEX($Y$2:$Y$276,MATCH(MIN(ABS($Y$2:$Y$276-D398)),ABS($Y$2:$Y$276-D398),0))","v":607},888.58208955223915,{"$f":"INDEX($Y$2:$Y$276,MATCH(MIN(ABS($Y$2:$Y$276-F398)),ABS($Y$2:$Y$276-F398),0))","v":887},{"$f":"(B398/100)*(D398/100)*(F398/100)","v":217.53683169971049},215.90200899999996,"V",1,19.380539178634429,40.331234832221888,161.32493932888755,9.8733811859849502E-2,53.712797950545806,19.41510710259303,40.432775797211775,161.7311031888471,9.8485856424297386E-2,53.840899999999998,null,null,null,1193]
[4.2,420,{"$f":"INDEX($Y$2:$Y$276,MATCH(MIN(ABS($Y$2:$Y$276-B399)),ABS($Y$2:$Y$276-B399),0))","v":419},626.86567164179121,{"$f":"INDEX($Y$2:$Y$276,MATCH(MIN(ABS($Y$2:$Y$276-D399)),ABS($Y$2:$Y$276-D399),0))","v":631},921.49253731343322,{"$f":"INDEX($Y$2:$Y$276,MATCH(MIN(ABS($Y$2:$Y$276-F399)),ABS($Y$2:$Y$276-F399),0))","v":919},{"$f":"(B399/100)*(D399/100)*(F399/100)","v":242.61385609267111},242.973491,"V",1,18.688377065111773,38.890833588213965,155.56333435285586,0.10239061970651062,57.765203831588359,18.739064200217648,38.871636147348724,155.4865445893949,0.10244118711405475,57.988899999999994,null,null,null,1201]
[4.3499999999999996,434.99999999999994,{"$f":"INDEX($Y$2:$Y$276,MATCH(MIN(ABS($Y$2:$Y$276-B400)),ABS($Y$2:$Y$276-B400),0))","v":433},649.25373134328368,{"$f":"INDEX($Y$2:$Y$276,MATCH(MIN(ABS($Y$2:$Y$276-D400)),ABS($Y$2:$Y$276-D400),0))","v":647},954.40298507462705,{"$f":"INDEX($Y$2:$Y$276,MATCH(MIN(ABS($Y$2:$Y$276-F400)),ABS($Y$2:$Y$276-F400),0))","v":953},{"$f":"(B400/100)*(D400/100)*(F400/100)","v":269.54761918021836},266.983903,"V",1,18.043950269763094,37.54977036103417,150.19908144413668,0.10604742755317169,61.964969926486987,18.070514165792254,37.669578398473405,150.67831359389362,0.10571014386934001,61.659099999999995,null,null,null,1213]
[4.5,450,{"$f":"INDEX($Y$2:$Y$276,MATCH(MIN(ABS($Y$2:$Y$276-B401)),ABS($Y$2:$Y$276-B401),0))","v":449},671.64179104477626,{"$f":"INDEX($Y$2:$Y$276,MATCH(MIN(ABS($Y$2:$Y$276-D401)),ABS($Y$2:$Y$276-D401),0))","v":673},987.31343283582123,{"$f":"INDEX($Y$2:$Y$276,MATCH(MIN(ABS($Y$2:$Y$276-F401)),ABS($Y$2:$Y$276-F401),0))","v":991},{"$f":"(B401/100)*(D401/100)*(F401/100)","v":298.40443305858781},299.45740700000005,"V",1,17.442485260770987,36.298111348999704,145.19244539599882,0.10970423539983279,66.312096235241739,17.377598385469241,36.255516697646392,145.02206679058557,0.1098331209897916,66.694299999999998,null,null,null,1217]
["HEIGHT m","HEIGHT cm","PRIME height","WIDTH cm","PRIME width","DEPTH cm","PRIME depth","VOLUME","PRIME volume","TABLE","1=Yes 0=NO","F¹","F²","F³","minimum RT60","Floor area","F¹","F²","F³","minimum RT60","Floor area",null,null,null,1097]
[{"$f":"A387","v":2.4},{"$f":"A403*100","v":240},{"$f":"INDEX($Y$2:$Y$276,MATCH(MIN(ABS($Y$2:$Y$276-B403)),ABS($Y$2:$Y$276-B403),0))","v":239},{"$f":"B403*$D$238","v":369.23076923076934},{"$f":"INDEX($Y$2:$Y$276,MATCH(MIN(ABS($Y$2:$Y$276-D403)),ABS($Y$2:$Y$276-D403),0))","v":367},{"$f":"B403*$E$238","v":553.84615384615415},{"$f":"INDEX($Y$2:$Y$276,MATCH(MIN(ABS($Y$2:$Y$276-F403)),ABS($Y$2:$Y$276-F403),0))","v":557},{"$f":"(B403/100)*(D403/100)*(F403/100)","v":49.079289940828446},{"$f":"(C403/100)*(E403/100)*(G403/100)","v":48.856141000000001},"W",{"$f":"IF(H403>$K$22,$N$21,$O$21)","v":1},{"$f":"565/(F403*0.0328083989501312)","v":31.093833333333347},{"$f":"(SQRT(O403/(H403*35.3146667214885))*11250)","v":66.250073101442581},{"$f":"4*M403","v":265.00029240577032},{"$f":"0.25*(((0.028316846592*H403)/100)^(1/3))","v":6.0106447669916553E-2},{"$f":"(D403/100)*(F403/100)","v":20.449704142011853},{"$f":"565/(G403*0.0328083989501312)","v":30.917773788150843},{"$f":"(SQRT(T403/(I403*35.3146667214885))*11250)","v":66.350784989773032},{"$f":"4*R403","v":265.40313995909213},{"$f":"0.25*(((0.028316846592*I403)/100)^(1/3))","v":6.001521387597418E-2},{"$f":"(E403/100)*(G403/100)","v":20.4419},null,null,null,1103]
[{"$f":"A388","v":2.5499999999999998},254.99999999999997,{"$f":"INDEX($Y$2:$Y$276,MATCH(MIN(ABS($Y$2:$Y$276-B404)),ABS($Y$2:$Y$276-B404),0))","v":257},{"$f":"B404*$D$238","v":392.30769230769238},{"$f":"INDEX($Y$2:$Y$276,MATCH(MIN(ABS($Y$2:$Y$276-D404)),ABS($Y$2:$Y$276-D404),0))","v":389},{"$f":"B404*$E$238","v":588.46153846153868},{"$f":"INDEX($Y$2:$Y$276,MATCH(MIN(ABS($Y$2:$Y$276-F404)),ABS($Y$2:$Y$276-F404),0))","v":587},{"$f":"(B404/100)*(D404/100)*(F404/100)","v":58.868786982248551},{"$f":"(C404/100)*(E404/100)*(G404/100)","v":58.684150999999993},"W",1,29.26478431372551,62.353009977828314,249.41203991131326,6.3863100649286339E-2,23.085798816568062,29.337649063032398,62.418334579644764,{"$f":"4*R404","v":249.67333831857906},6.3796264011481543E-2,22.834300000000002,null,null,null,1109]
[2.7,270,{"$f":"INDEX($Y$2:$Y$276,MATCH(MIN(ABS($Y$2:$Y$276-B405)),ABS($Y$2:$Y$276-B405),0))","v":269},415.38461538461553,{"$f":"INDEX($Y$2:$Y$276,MATCH(MIN(ABS($Y$2:$Y$276-D405)),ABS($Y$2:$Y$276-D405),0))","v":419},623.07692307692344,{"$f":"INDEX($Y$2:$Y$276,MATCH(MIN(ABS($Y$2:$Y$276-F405)),ABS($Y$2:$Y$276-F405),0))","v":619},69.88047337278114,69.76810900000001,"W",1,27.638962962962975,58.888953867948956,235.55581547179582,6.7619753628656132E-2,25.881656804733751,27.821001615508912,58.920551261601766,235.68220504640706,6.7583491103469895E-2,25.936100000000003,null,null,null,1117]
[2.85,285,{"$f":"INDEX($Y$2:$Y$276,MATCH(MIN(ABS($Y$2:$Y$276-B406)),ABS($Y$2:$Y$276-B406),0))","v":283},438.46153846153862,{"$f":"INDEX($Y$2:$Y$276,MATCH(MIN(ABS($Y$2:$Y$276-D406)),ABS($Y$2:$Y$276-D406),0))","v":439},657.69230769230796,{"$f":"INDEX($Y$2:$Y$276,MATCH(MIN(ABS($Y$2:$Y$276-F406)),ABS($Y$2:$Y$276-F406),0))","v":659},82.186242603550355,81.872182999999993,"W",1,26.184280701754403,55.789535243320074,223.1581409732803,7.1376406608025911E-2,28.837278106508894,26.132321699544793,55.860779967419951,223.4431198696798,7.1285373285558964E-2,28.930099999999996,null,null,null,1123]
[3,300,{"$f":"INDEX($Y$2:$Y$276,MATCH(MIN(ABS($Y$2:$Y$276-B407)),ABS($Y$2:$Y$276-B407),0))","v":293},461.53846153846172,{"$f":"INDEX($Y$2:$Y$276,MATCH(MIN(ABS($Y$2:$Y$276-D407)),ABS($Y$2:$Y$276-D407),0))","v":461},692.30769230769261,{"$f":"INDEX($Y$2:$Y$276,MATCH(MIN(ABS($Y$2:$Y$276-F407)),ABS($Y$2:$Y$276-F407),0))","v":691},95.857988165680538,93.335443000000026,"W",1,24.875066666666683,53.00005848115407,212.00023392461628,7.5133059587395704E-2,31.952662721893514,24.92214182344431,53.473291937446547,213.89316774978619,7.4468139284528154E-2,31.855100000000004,null,null,null,1129]
[3.2,320,{"$f":"INDEX($Y$2:$Y$276,MATCH(MIN(ABS($Y$2:$Y$276-B408)),ABS($Y$2:$Y$276-B408),0))","v":317},492.30769230769249,{"$f":"INDEX($Y$2:$Y$276,MATCH(MIN(ABS($Y$2:$Y$276-D408)),ABS($Y$2:$Y$276-D408),0))","v":491},738.46153846153879,{"$f":"INDEX($Y$2:$Y$276,MATCH(MIN(ABS($Y$2:$Y$276-F408)),ABS($Y$2:$Y$276-F408),0))","v":739},116.33609467455632,115.023133,"W",1,23.320375000000013,49.687554826081936,198.75021930432774,8.0141930226555413E-2,36.355029585798846,23.303382949932367,49.875897208117131,199.50358883246852,7.9839296632280704E-2,36.2849,null,null,null,1151]
[3.3,330,{"$f":"INDEX($Y$2:$Y$276,MATCH(MIN(ABS($Y$2:$Y$276-B409)),ABS($Y$2:$Y$276-B409),0))","v":331},507.69230769230785,{"$f":"INDEX($Y$2:$Y$276,MATCH(MIN(ABS($Y$2:$Y$276-D409)),ABS($Y$2:$Y$276-D409),0))","v":509},761.53846153846189,{"$f":"INDEX($Y$2:$Y$276,MATCH(MIN(ABS($Y$2:$Y$276-F409)),ABS($Y$2:$Y$276-F409),0))","v":761},127.5869822485208,128.21251899999999,"W",1,22.613696969696985,48.181871346503698,192.72748538601479,8.2646365546135261E-2,38.662721893491153,22.629697766097266,48.103385301658371,192.41354120663348,8.2781212320678879E-2,38.734900000000003,null,null,null,1153]
[3.4,340,{"$f":"INDEX($Y$2:$Y$276,MATCH(MIN(ABS($Y$2:$Y$276-B410)),ABS($Y$2:$Y$276-B410),0))","v":337},523.07692307692321,{"$f":"INDEX($Y$2:$Y$276,MATCH(MIN(ABS($Y$2:$Y$276-D410)),ABS($Y$2:$Y$276-D410),0))","v":523},784.61538461538498,{"$f":"INDEX($Y$2:$Y$276,MATCH(MIN(ABS($Y$2:$Y$276-F410)),ABS($Y$2:$Y$276-F410),0))","v":787},139.54082840236697,138.70953700000004,"W",1,21.948588235294132,46.764757483371234,187.05902993348494,8.5150800865715137E-2,41.041420118343225,21.882083862770035,46.857992452772905,187.43196981109162,8.4981373370048421E-2,41.160100000000007,null,null,null,1163]
[3.6,360,{"$f":"INDEX($Y$2:$Y$276,MATCH(MIN(ABS($Y$2:$Y$276-B411)),ABS($Y$2:$Y$276-B411),0))","v":359},553.84615384615404,{"$f":"INDEX($Y$2:$Y$276,MATCH(MIN(ABS($Y$2:$Y$276-D411)),ABS($Y$2:$Y$276-D411),0))","v":557},830.76923076923117,{"$f":"INDEX($Y$2:$Y$276,MATCH(MIN(ABS($Y$2:$Y$276-F411)),ABS($Y$2:$Y$276-F411),0))","v":829},165.642603550296,165.769327,"W",1,20.729222222222234,44.166715400961721,176.66686160384688,9.0159671504874847E-2,46.011834319526663,20.773462002412568,44.155458020086755,176.62183208034702,9.0182657604605282E-2,46.1753,null,null,null,1171]
[3.75,375,{"$f":"INDEX($Y$2:$Y$276,MATCH(MIN(ABS($Y$2:$Y$276-B412)),ABS($Y$2:$Y$276-B412),0))","v":373},576.92307692307713,{"$f":"INDEX($Y$2:$Y$276,MATCH(MIN(ABS($Y$2:$Y$276-D412)),ABS($Y$2:$Y$276-D412),0))","v":577},865.38461538461581,{"$f":"INDEX($Y$2:$Y$276,MATCH(MIN(ABS($Y$2:$Y$276-F412)),ABS($Y$2:$Y$276-F412),0))","v":863},187.22263313609483,185.73572300000001,"W",1,19.900053333333343,42.400046784923255,169.60018713969302,9.3916324484244626E-2,49.926035502958619,19.955040556199325,42.512890931654574,170.0515637266183,9.3667037567539663E-2,49.795099999999998,null,null,null,1181]
[3.9,390,{"$f":"INDEX($Y$2:$Y$276,MATCH(MIN(ABS($Y$2:$Y$276-B413)),ABS($Y$2:$Y$276-B413),0))","v":389},600.00000000000023,{"$f":"INDEX($Y$2:$Y$276,MATCH(MIN(ABS($Y$2:$Y$276-D413)),ABS($Y$2:$Y$276-D413),0))","v":601},900.00000000000045,{"$f":"INDEX($Y$2:$Y$276,MATCH(MIN(ABS($Y$2:$Y$276-F413)),ABS($Y$2:$Y$276-F413),0))","v":907},210.60000000000022,212.04662300000001,"W",1,19.134666666666678,40.769275754733897,163.07710301893559,9.7672977463614433E-2,54.000000000000057,18.986990077177531,40.676352162329735,162.70540864931894,9.7896107696888765E-2,54.5107,null,null,null,1187]
[4.05,405,{"$f":"INDEX($Y$2:$Y$276,MATCH(MIN(ABS($Y$2:$Y$276-B414)),ABS($Y$2:$Y$276-B414),0))","v":401},623.07692307692332,{"$f":"INDEX($Y$2:$Y$276,MATCH(MIN(ABS($Y$2:$Y$276-D414)),ABS($Y$2:$Y$276-D414),0))","v":619},934.6153846153851,{"$f":"INDEX($Y$2:$Y$276,MATCH(MIN(ABS($Y$2:$Y$276-F414)),ABS($Y$2:$Y$276-F414),0))","v":937},{"$f":"(B414/100)*(D414/100)*(F414/100)","v":235.8465976331363},232.58120299999999,"W",1,18.425975308641988,39.259302578632642,157.03721031453057,0.1014296304429842,58.23372781065094,18.379082177161173,39.442180352599159,157.76872141039664,0.1009593414056177,58.000299999999996,null,null,null,1193]
[4.2,420,{"$f":"INDEX($Y$2:$Y$276,MATCH(MIN(ABS($Y$2:$Y$276-B415)),ABS($Y$2:$Y$276-B415),0))","v":419},646.15384615384642,{"$f":"INDEX($Y$2:$Y$276,MATCH(MIN(ABS($Y$2:$Y$276-D415)),ABS($Y$2:$Y$276-D415),0))","v":647},969.23076923076974,{"$f":"INDEX($Y$2:$Y$276,MATCH(MIN(ABS($Y$2:$Y$276-F415)),ABS($Y$2:$Y$276-F415),0))","v":971},{"$f":"(B415/100)*(D415/100)*(F415/100)","v":263.03431952662748},263.23130300000003,"W",1,17.76790476190477,37.857184629395761,151.42873851758304,0.10518628342235399,62.627218934911298,17.735530381050484,37.847739070092338,151.39095628036935,0.10521253448258595,62.823700000000002,null,null,null,1201]
[4.3499999999999996,434.99999999999994,{"$f":"INDEX($Y$2:$Y$276,MATCH(MIN(ABS($Y$2:$Y$276-B416)),ABS($Y$2:$Y$276-B416),0))","v":433},669.2307692307694,{"$f":"INDEX($Y$2:$Y$276,MATCH(MIN(ABS($Y$2:$Y$276-D416)),ABS($Y$2:$Y$276-D416),0))","v":673},1003.8461538461542,{"$f":"INDEX($Y$2:$Y$276,MATCH(MIN(ABS($Y$2:$Y$276-F416)),ABS($Y$2:$Y$276-F416),0))","v":1009},{"$f":"(B416/100)*(D416/100)*(F416/100)","v":292.23505917159781},294.03168099999999,"W",1,17.15521839080461,36.55176446976143,146.20705787904572,0.10894293640172376,67.180473372781108,17.067591674925687,36.477164903432723,145.90865961373089,0.10916573594855419,67.90570000000001,null,null,null,1213]
[4.5,450,{"$f":"INDEX($Y$2:$Y$276,MATCH(MIN(ABS($Y$2:$Y$276-B417)),ABS($Y$2:$Y$276-B417),0))","v":449},692.30769230769249,{"$f":"INDEX($Y$2:$Y$276,MATCH(MIN(ABS($Y$2:$Y$276-D417)),ABS($Y$2:$Y$276-D417),0))","v":691},1038.461538461539,{"$f":"INDEX($Y$2:$Y$276,MATCH(MIN(ABS($Y$2:$Y$276-F417)),ABS($Y$2:$Y$276-F417),0))","v":1039},{"$f":"(B417/100)*(D417/100)*(F417/100)","v":323.5207100591719},322.35910100000007,"W",1,16.583377777777788,35.333372320769378,141.33348928307751,0.11269958938109356,71.893491124260422,16.574783445620806,35.375762276623412,141.50304910649365,0.11256454407574362,71.794899999999998,null,null,null,1217]
["HEIGHT m","HEIGHT cm","PRIME height","WIDTH cm","PRIME width","DEPTH cm","PRIME depth","VOLUME","PRIME volume","TABLE","1=Yes 0=NO","F¹","F²","F³","minimum RT60","Floor area","F¹","F²","F³","minimum RT60","Floor area",null,null,null,1097]
[{"$f":"A403","v":2.4},{"$f":"A419*100","v":240},{"$f":"INDEX($Y$2:$Y$276,MATCH(MIN(ABS($Y$2:$Y$276-B419)),ABS($Y$2:$Y$276-B419),0))","v":239},{"$f":"B419*$D$239","v":380.95238095238108},{"$f":"INDEX($Y$2:$Y$276,MATCH(MIN(ABS($Y$2:$Y$276-D419)),ABS($Y$2:$Y$276-D419),0))","v":379},{"$f":"B419*$E$239","v":582.85714285714312},{"$f":"INDEX($Y$2:$Y$276,MATCH(MIN(ABS($Y$2:$Y$276-F419)),ABS($Y$2:$Y$276-F419),0))","v":587},{"$f":"(B419/100)*(D419/100)*(F419/100)","v":53.289795918367389},{"$f":"(C419/100)*(E419/100)*(G419/100)","v":53.171047000000009},"X",{"$f":"IF(H419>$K$22,$N$21,$O$21)","v":1},{"$f":"565/(F419*0.0328083989501312)","v":29.546176470588257},{"$f":"(SQRT(O419/(H419*35.3146667214885))*11250)","v":64.457150101291958},{"$f":"4*M419","v":257.82860040516783},{"$f":"0.25*(((0.028316846592*H419)/100)^(1/3))","v":6.1778352684571915E-2},{"$f":"(D419/100)*(F419/100)","v":22.204081632653075},{"$f":"565/(G419*0.0328083989501312)","v":29.337649063032398},{"$f":"(SQRT(T419/(I419*35.3146667214885))*11250)","v":64.505099290405809},{"$f":"4*R419","v":258.02039716162324},{"$f":"0.25*(((0.028316846592*I419)/100)^(1/3))","v":6.1732430393953035E-2},{"$f":"(E419/100)*(G419/100)","v":22.247299999999999},null,null,null,1103]
[{"$f":"A404","v":2.5499999999999998},254.99999999999997,{"$f":"INDEX($Y$2:$Y$276,MATCH(MIN(ABS($Y$2:$Y$276-B420)),ABS($Y$2:$Y$276-B420),0))","v":257},{"$f":"B420*$D$239","v":404.76190476190487},{"$f":"INDEX($Y$2:$Y$276,MATCH(MIN(ABS($Y$2:$Y$276-D420)),ABS($Y$2:$Y$276-D420),0))","v":401},{"$f":"B420*$E$239","v":619.28571428571456},{"$f":"INDEX($Y$2:$Y$276,MATCH(MIN(ABS($Y$2:$Y$276-F420)),ABS($Y$2:$Y$276-F420),0))","v":619},{"$f":"(B420/100)*(D420/100)*(F420/100)","v":63.919132653061261},{"$f":"(C420/100)*(E420/100)*(G420/100)","v":63.792282999999991},"X",1,27.808166089965415,60.66555303651009,242.66221214604036,6.5639499727357664E-2,25.066326530612262,27.821001615508912,60.705737151280587,{"$f":"4*R420","v":242.82294860512235},6.5596049712345908E-2,24.821899999999999,null,null,null,1109]
[2.7,270,{"$f":"INDEX($Y$2:$Y$276,MATCH(MIN(ABS($Y$2:$Y$276-B421)),ABS($Y$2:$Y$276-B421),0))","v":269},428.57142857142873,{"$f":"INDEX($Y$2:$Y$276,MATCH(MIN(ABS($Y$2:$Y$276-D421)),ABS($Y$2:$Y$276-D421),0))","v":431},655.71428571428601,{"$f":"INDEX($Y$2:$Y$276,MATCH(MIN(ABS($Y$2:$Y$276-F421)),ABS($Y$2:$Y$276-F421),0))","v":653},75.875510204081706,75.708166999999989,"X",1,26.263267973856227,57.295244534481746,229.18097813792699,6.9500646770143421E-2,28.102040816326557,26.372434915773379,57.337428068590469,229.34971227436188,6.9449514673668847E-2,28.144299999999998,null,null,null,1117]
[2.85,285,{"$f":"INDEX($Y$2:$Y$276,MATCH(MIN(ABS($Y$2:$Y$276-B422)),ABS($Y$2:$Y$276-B422),0))","v":283},452.38095238095252,{"$f":"INDEX($Y$2:$Y$276,MATCH(MIN(ABS($Y$2:$Y$276-D422)),ABS($Y$2:$Y$276-D422),0))","v":449},692.14285714285745,{"$f":"INDEX($Y$2:$Y$276,MATCH(MIN(ABS($Y$2:$Y$276-F422)),ABS($Y$2:$Y$276-F422),0))","v":691},89.236989795918433,87.803297000000015,"X",1,24.880990712074322,54.279705348456389,217.11882139382556,7.3361793812929135E-2,31.311224489795944,24.92214182344431,54.573546481704945,218.29418592681978,7.2966790848656621E-2,31.025900000000004,null,null,null,1123]
[3,300,{"$f":"INDEX($Y$2:$Y$276,MATCH(MIN(ABS($Y$2:$Y$276-B423)),ABS($Y$2:$Y$276-B423),0))","v":293},476.19047619047637,{"$f":"INDEX($Y$2:$Y$276,MATCH(MIN(ABS($Y$2:$Y$276-D423)),ABS($Y$2:$Y$276-D423),0))","v":479},728.5714285714289,{"$f":"INDEX($Y$2:$Y$276,MATCH(MIN(ABS($Y$2:$Y$276-F423)),ABS($Y$2:$Y$276-F423),0))","v":727},104.08163265306132,102.032269,"X",1,23.6369411764706,51.565720081033568,206.26288032413427,7.7222940855714892E-2,34.693877551020435,23.68803301237967,51.908674264794563,207.63469705917825,7.6712738446890222E-2,34.823299999999996,null,null,null,1129]
[3.2,320,{"$f":"INDEX($Y$2:$Y$276,MATCH(MIN(ABS($Y$2:$Y$276-B424)),ABS($Y$2:$Y$276-B424),0))","v":317},507.93650793650812,{"$f":"INDEX($Y$2:$Y$276,MATCH(MIN(ABS($Y$2:$Y$276-D424)),ABS($Y$2:$Y$276-D424),0))","v":509},777.14285714285757,{"$f":"INDEX($Y$2:$Y$276,MATCH(MIN(ABS($Y$2:$Y$276-F424)),ABS($Y$2:$Y$276-F424),0))","v":773},126.31655328798198,124.72586900000002,"X",1,22.159632352941188,48.342862575968972,193.37145030387589,8.2371136912762558E-2,39.473922902494365,22.278395860284629,48.54750770025035,194.1900308010014,8.2023913082966984E-2,39.345700000000001,null,null,null,1151]
[3.3,330,{"$f":"INDEX($Y$2:$Y$276,MATCH(MIN(ABS($Y$2:$Y$276-B425)),ABS($Y$2:$Y$276-B425),0))","v":331},523.80952380952397,{"$f":"INDEX($Y$2:$Y$276,MATCH(MIN(ABS($Y$2:$Y$276-D425)),ABS($Y$2:$Y$276-D425),0))","v":523},801.42857142857179,{"$f":"INDEX($Y$2:$Y$276,MATCH(MIN(ABS($Y$2:$Y$276-F425)),ABS($Y$2:$Y$276-F425),0))","v":797},138.53265306122461,137.97106100000002,"X",1,21.488128342246004,46.877927346394152,187.51170938557661,8.4945234941286391E-2,41.979591836734727,21.607528230865768,46.94144461120267,187.76577844481068,8.4830294103255613E-2,41.683100000000003,null,null,null,1153]
[3.4,340,{"$f":"INDEX($Y$2:$Y$276,MATCH(MIN(ABS($Y$2:$Y$276-B426)),ABS($Y$2:$Y$276-B426),0))","v":337},539.68253968253987,{"$f":"INDEX($Y$2:$Y$276,MATCH(MIN(ABS($Y$2:$Y$276-D426)),ABS($Y$2:$Y$276-D426),0))","v":541},825.71428571428612,{"$f":"INDEX($Y$2:$Y$276,MATCH(MIN(ABS($Y$2:$Y$276-F426)),ABS($Y$2:$Y$276-F426),0))","v":827},151.5120181405897,150.77615899999998,"X",1,20.856124567474062,45.499164777382553,181.99665910953021,8.751933296981021E-2,44.562358276644034,20.823700120919007,45.57306385187038,182.29225540748152,8.7377415855628859E-2,44.740699999999997,null,null,null,1163]
[3.6,360,{"$f":"INDEX($Y$2:$Y$276,MATCH(MIN(ABS($Y$2:$Y$276-B427)),ABS($Y$2:$Y$276-B427),0))","v":359},571.42857142857167,{"$f":"INDEX($Y$2:$Y$276,MATCH(MIN(ABS($Y$2:$Y$276-D427)),ABS($Y$2:$Y$276-D427),0))","v":571},874.28571428571468,{"$f":"INDEX($Y$2:$Y$276,MATCH(MIN(ABS($Y$2:$Y$276-F427)),ABS($Y$2:$Y$276-F427),0))","v":877},179.85306122449001,179.775353,"X",1,19.697450980392169,42.971433400861308,171.88573360344523,9.2667529026857889E-2,49.95918367346944,19.636488027366042,42.977624002489378,171.91049600995751,9.2654180970296388E-2,50.076699999999995,null,null,null,1171]
[3.75,375,{"$f":"INDEX($Y$2:$Y$276,MATCH(MIN(ABS($Y$2:$Y$276-B428)),ABS($Y$2:$Y$276-B428),0))","v":373},595.23809523809541,{"$f":"INDEX($Y$2:$Y$276,MATCH(MIN(ABS($Y$2:$Y$276-D428)),ABS($Y$2:$Y$276-D428),0))","v":593},910.71428571428612,{"$f":"INDEX($Y$2:$Y$276,MATCH(MIN(ABS($Y$2:$Y$276-F428)),ABS($Y$2:$Y$276-F428),0))","v":911},203.28443877551038,201.50317899999999,"X",1,18.909552941176482,41.252576064826862,165.01030425930745,9.6528676069643632E-2,54.209183673469433,18.903622392974771,41.373775292984469,165.49510117193788,9.6245907553793433E-2,54.022299999999994,null,null,null,1181]
[3.9,390,{"$f":"INDEX($Y$2:$Y$276,MATCH(MIN(ABS($Y$2:$Y$276-B429)),ABS($Y$2:$Y$276-B429),0))","v":389},619.04761904761926,{"$f":"INDEX($Y$2:$Y$276,MATCH(MIN(ABS($Y$2:$Y$276-D429)),ABS($Y$2:$Y$276-D429),0))","v":619},947.14285714285757,{"$f":"INDEX($Y$2:$Y$276,MATCH(MIN(ABS($Y$2:$Y$276-F429)),ABS($Y$2:$Y$276-F429),0))","v":947},228.66734693877567,228.02907700000006,"X",1,18.182262443438926,39.665938523871979,158.66375409548792,0.10038982311242936,58.632653061224531,18.185005279831064,39.702913327318633,158.81165330927453,0.10029633138432807,58.61930000000001,null,null,null,1187]
[4.05,405,{"$f":"INDEX($Y$2:$Y$276,MATCH(MIN(ABS($Y$2:$Y$276-B430)),ABS($Y$2:$Y$276-B430),0))","v":401},642.85714285714312,{"$f":"INDEX($Y$2:$Y$276,MATCH(MIN(ABS($Y$2:$Y$276-D430)),ABS($Y$2:$Y$276-D430),0))","v":643},983.57142857142901,{"$f":"INDEX($Y$2:$Y$276,MATCH(MIN(ABS($Y$2:$Y$276-F430)),ABS($Y$2:$Y$276-F430),0))","v":983},{"$f":"(B430/100)*(D430/100)*(F430/100)","v":256.07984693877575},253.45966899999999,"X",1,17.50884531590415,38.196829689654493,152.78731875861797,0.1042509701552151,63.229591836734755,17.519023397761973,38.328000571552273,153.31200228620909,0.10389418943380936,63.206899999999997,null,null,null,1193]
[4.2,420,{"$f":"INDEX($Y$2:$Y$276,MATCH(MIN(ABS($Y$2:$Y$276-B431)),ABS($Y$2:$Y$276-B431),0))","v":419},666.66666666666686,{"$f":"INDEX($Y$2:$Y$276,MATCH(MIN(ABS($Y$2:$Y$276-D431)),ABS($Y$2:$Y$276-D431),0))","v":661},1020.0000000000005,{"$f":"INDEX($Y$2:$Y$276,MATCH(MIN(ABS($Y$2:$Y$276-F431)),ABS($Y$2:$Y$276-F431),0))","v":1021},{"$f":"(B431/100)*(D431/100)*(F431/100)","v":285.60000000000025},282.77513900000008,"X",1,16.883529411764716,36.832657200738261,147.33062880295304,0.10811211719800085,68.000000000000057,16.866993143976512,36.954901065699161,147.81960426279664,0.10775449093803892,67.488100000000003,null,null,null,1201]
[4.3499999999999996,434.99999999999994,{"$f":"INDEX($Y$2:$Y$276,MATCH(MIN(ABS($Y$2:$Y$276-B432)),ABS($Y$2:$Y$276-B432),0))","v":433},690.4761904761906,{"$f":"INDEX($Y$2:$Y$276,MATCH(MIN(ABS($Y$2:$Y$276-D432)),ABS($Y$2:$Y$276-D432),0))","v":691},1056.4285714285718,{"$f":"INDEX($Y$2:$Y$276,MATCH(MIN(ABS($Y$2:$Y$276-F432)),ABS($Y$2:$Y$276-F432),0))","v":1061},{"$f":"(B432/100)*(D432/100)*(F432/100)","v":317.30586734693895},317.45438300000001,"X",1,16.301338742393519,35.562565573126605,142.25026229250642,0.11197326424078659,72.943877551020449,16.231102733270514,35.55701892686502,142.22807570746008,0.11199073128685072,73.315100000000001,null,null,null,1213]
[4.5,450,{"$f":"INDEX($Y$2:$Y$276,MATCH(MIN(ABS($Y$2:$Y$276-B433)),ABS($Y$2:$Y$276-B433),0))","v":449},714.28571428571456,{"$f":"INDEX($Y$2:$Y$276,MATCH(MIN(ABS($Y$2:$Y$276-D433)),ABS($Y$2:$Y$276-D433),0))","v":719},1092.8571428571433,{"$f":"INDEX($Y$2:$Y$276,MATCH(MIN(ABS($Y$2:$Y$276-F433)),ABS($Y$2:$Y$276-F433),0))","v":1093},{"$f":"(B433/100)*(D433/100)*(F433/100)","v":351.27551020408191},352.85428300000007,"X",1,15.757960784313736,34.377146720689048,137.50858688275619,0.11583441128357233,78.06122448979599,15.755901189387025,34.32579894161654,137.30319576646616,0.11600768735996311,78.586700000000008,null,null,null,1217]

{"sheet":"RATIOS","index":7,"n_rows":41,"n_cols":31,"rows_kept":41,"cut":false,"hidden":false,"merged":[[0,24,0,26],[0,28,0,30],[0,0,0,2],[0,4,0,6],[0,8,0,10],[0,12,0,14],[0,16,0,18],[0,20,0,22]]}
["BOLT 1",null,null,null,"BOLT 2",null,null,null,"SEPMEYER 1",null,null,null,"SEPMEYER 2",null,null,null,"SEPMEYER 3",null,null,null,"LOUDEN 1",null,null,null,"LOUDEN 2",null,null,null,"LOUDEN 3"]
["HEIGHT","WIDTH","DEPTH",null,"HEIGHT","WIDTH","DEPTH",null,"HEIGHT","WIDTH","DEPTH",null,"HEIGHT","WIDTH","DEPTH",null,"HEIGHT","WIDTH","DEPTH",null,"HEIGHT","WIDTH","DEPTH",null,"HEIGHT","WIDTH","DEPTH",null,"HEIGHT","WIDTH","DEPTH"]
[1,1.5,2.5,null,1,1.26,1.59,null,1,1.1399999999999999,1.39,null,1,1.28,1.54,null,1,1.6,2.33,null,1,1.4,1.9,null,1,1.3,1.9,null,1,1.5,2.1]
[]
[]
["HEIGHT",337,null,null,"HEIGHT",{"$f":"B6","v":337},null,null,"HEIGHT",{"$f":"F6","v":337},null,null,"HEIGHT",{"$f":"J6","v":337},null,null,"HEIGHT",{"$f":"N6","v":337},null,null,"HEIGHT",{"$f":"R6","v":337},null,null,"HEIGHT",{"$f":"V6","v":337},null,null,"HEIGHT",{"$f":"Z6","v":337}]
["WIDTH",{"$f":"B6*$B$3","v":505.5},null,null,"WIDTH",{"$f":"F6*$F$3","v":424.62},null,null,"WIDTH",{"$f":"J6*$J$3","v":384.17999999999995},null,null,"WIDTH",{"$f":"N6*$N$3","v":431.36},null,null,"WIDTH",{"$f":"R6*$R$3","v":539.20000000000005},null,null,"WIDTH",{"$f":"V6*$V$3","v":471.79999999999995},null,null,"WIDTH",{"$f":"Z6*$Z$3","v":438.1},null,null,"WIDTH",{"$f":"AD6*$AD$3","v":505.5}]
["DEPTH",{"$f":"B6*$C$3","v":842.5},null,null,"DEPTH",{"$f":"F6*$G$3","v":535.83000000000004},null,null,"DEPTH",{"$f":"J6*$K$3","v":468.42999999999995},null,null,"DEPTH",{"$f":"N6*$O$3","v":518.98},null,null,"DEPTH",{"$f":"R6*$S$3","v":785.21},null,null,"DEPTH",{"$f":"V6*$W$3","v":640.29999999999995},null,null,"DEPTH",{"$f":"Z6*$AA$3","v":640.29999999999995},null,null,"DEPTH",{"$f":"AD6*$AE$3","v":707.7}]
["Area",{"$f":"(B7)/100*(B8)/100","v":42.588374999999999},null,null,"Area",{"$f":"(F7/100)*(F8/100)","v":22.752413460000003},null,null,"Area",{"$f":"(J7/100)*(J8/100)","v":17.996143739999997},null,null,"Area",{"$f":"(N7/100)*(N8/100)","v":22.38672128},null,null,"Area",{"$f":"(R7/100)*(R8/100)","v":42.338523200000004},null,null,"Area",{"$f":"(V7/100)*(V8/100)","v":30.209353999999998},null,null,"Area",{"$f":"(Z7/100)*(Z8/100)","v":28.051542999999999},null,null,"Area",{"$f":"(AD7/100)*(AD8/100)","v":35.774235000000004}]
["Volume",{"$f":"(B6/100)*(B7/100)*(B8/100)","v":143.52282375000001},null,null,"Volume",{"$f":"(F6/100)*(F7/100)*(F8/100)","v":76.67563336020001},null,null,"Volume",{"$f":"(J6/100)*(J7/100)*(J8/100)","v":60.64700440379999},null,null,"Volume",{"$f":"(N6/100)*(N7/100)*(N8/100)","v":75.443250713600008},null,null,"Volume",{"$f":"(R6/100)*(R7/100)*(R8/100)","v":142.68082318400002},null,null,"Volume",{"$f":"(V6/100)*(V7/100)*(V8/100)","v":101.80552297999999},null,null,"Volume",{"$f":"(Z6/100)*(Z7/100)*(Z8/100)","v":94.533699909999996},null,null,"Volume",{"$f":"(AD6/100)*(AD7/100)*(AD8/100)","v":120.55917195000002}]
[]
["HEIGHT",{"$f":"B13/B3","v":198.66666666666666},null,null,"HEIGHT",{"$f":"F13/F3","v":236.50793650793651},null,null,"HEIGHT",{"$f":"J13/J3","v":261.40350877192986},null,null,"HEIGHT",{"$f":"N13/N3","v":232.8125},null,null,"HEIGHT",{"$f":"R13/R3","v":186.25},null,null,"HEIGHT",{"$f":"V13/V3","v":212.85714285714286},null,null,"HEIGHT",{"$f":"Z13/Z3","v":229.23076923076923},null,null,"HEIGHT",{"$f":"AD13/AD3","v":198.66666666666666}]
["WIDTH",298,null,null,"WIDTH",{"$f":"B13","v":298},null,null,"WIDTH",{"$f":"F13","v":298},null,null,"WIDTH",{"$f":"J13","v":298},null,null,"WIDTH",{"$f":"N13","v":298},null,null,"WIDTH",{"$f":"R13","v":298},null,null,"WIDTH",{"$f":"V13","v":298},null,null,"WIDTH",{"$f":"Z13","v":298}]
["DEPTH",{"$f":"B12*C3","v":496.66666666666663},null,null,"DEPTH",{"$f":"F12*G3","v":376.04761904761904},null,null,"DEPTH",{"$f":"J12*K3","v":363.35087719298247},null,null,"DEPTH",{"$f":"N12*O3","v":358.53125},null,null,"DEPTH",{"$f":"R12*S3","v":433.96250000000003},null,null,"DEPTH",{"$f":"V12*W3","v":404.42857142857144},null,null,"DEPTH",{"$f":"Z12*AA3","v":435.53846153846149},null,null,"DEPTH",{"$f":"AD12*AE3","v":417.2}]
["Area",{"$f":"(B13/100)*(B14/100)","v":14.800666666666665},null,null,"Area",{"$f":"(F13/100)*(F14/100)","v":11.206219047619047},null,null,"Area",{"$f":"(J13/100)*(J14/100)","v":10.827856140350876},null,null,"Area",{"$f":"(N13/100)*(N14/100)","v":10.68423125},null,null,"Area",{"$f":"(R13/100)*(R14/100)","v":12.932082500000002},null,null,"Area",{"$f":"(V13/100)*(V14/100)","v":12.051971428571429},null,null,"Area",{"$f":"(Z13/100)*(Z14/100)","v":12.979046153846154},null,null,"Area",{"$f":"(AD13/100)*(AD14/100)","v":12.432559999999999}]
["Volume",{"$f":"(B12/100)*(B13/100)*(B14/100)","v":29.403991111111107},null,null,"Volume",{"$f":"(F12/100)*(F13/100)*(F14/100)","v":26.503597430083143},null,null,"Volume",{"$f":"(J12/100)*(J13/100)*(J14/100)","v":28.304395875654052},null,null,"Volume",{"$f":"(N12/100)*(N13/100)*(N14/100)","v":24.874225878906248},null,null,"Volume",{"$f":"(R12/100)*(R13/100)*(R14/100)","v":24.086003656250004},null,null,"Volume",{"$f":"(V12/100)*(V13/100)*(V14/100)","v":25.653482040816328},null,null,"Volume",{"$f":"(Z12/100)*(Z13/100)*(Z14/100)","v":29.751967337278103},null,null,"Volume",{"$f":"(AD12/100)*(AD13/100)*(AD14/100)","v":24.699352533333332}]
[]
["HEIGHT",{"$f":"B20/C3","v":237.2},null,null,"HEIGHT",{"$f":"F20/G3","v":372.95597484276726},null,null,"HEIGHT",{"$f":"J20/K3","v":426.61870503597123},null,null,"HEIGHT",{"$f":"N20/O3","v":385.06493506493507},null,null,"HEIGHT",{"$f":"R20/S3","v":254.50643776824035},null,null,"HEIGHT",{"$f":"V20/W3","v":312.10526315789474},null,null,"HEIGHT",{"$f":"Z20/AA3","v":312.10526315789474},null,null,"HEIGHT",{"$f":"AD20/AE3","v":282.38095238095235}]
["WIDTH",{"$f":"B18*B3","v":355.79999999999995},null,null,"WIDTH",{"$f":"F18*F3","v":469.92452830188677},null,null,"WIDTH",{"$f":"J18*J3","v":486.34532374100718},null,null,"WIDTH",{"$f":"N18*N3","v":492.88311688311688},null,null,"WIDTH",{"$f":"R18*R3","v":407.2103004291846},null,null,"WIDTH",{"$f":"V18*V3","v":436.9473684210526},null,null,"WIDTH",{"$f":"Z18*Z3","v":405.73684210526318},null,null,"WIDTH",{"$f":"AD18*AD3","v":423.57142857142856}]
["DEPTH",593,null,null,"DEPTH",{"$f":"B20","v":593},null,null,"DEPTH",{"$f":"F20","v":593},null,null,"DEPTH",{"$f":"J20","v":593},null,null,"DEPTH",{"$f":"N20","v":593},null,null,"DEPTH",{"$f":"R20","v":593},null,null,"DEPTH",{"$f":"V20","v":593},null,null,"DEPTH",{"$f":"Z20","v":593}]
["Area",{"$f":"(B19/100)*(B20/100)","v":21.098939999999995},null,null,"Area",{"$f":"(F19/100)*(F20/100)","v":27.866524528301881},null,null,"Area",{"$f":"(J19/100)*(J20/100)","v":28.840277697841724},null,null,"Area",{"$f":"(N19/100)*(N20/100)","v":29.22796883116883},null,null,"Area",{"$f":"(R19/100)*(R20/100)","v":24.147570815450646},null,null,"Area",{"$f":"(V19/100)*(V20/100)","v":25.910978947368417},null,null,"Area",{"$f":"(Z19/100)*(Z20/100)","v":24.060194736842107},null,null,"Area",{"$f":"(AD19/100)*(AD20/100)","v":25.117785714285713}]
["Volume",{"$f":"(B18/100)*(B19/100)*(B20/100)","v":50.046685679999989},null,null,"Volume",{"$f":"(F18/100)*(F19/100)*(F20/100)","v":103.92986820932713},null,null,"Volume",{"$f":"(J18/100)*(J19/100)*(J20/100)","v":123.03801924331037},null,null,"Volume",{"$f":"(N18/100)*(N19/100)*(N20/100)","v":112.54665920053972},null,null,"Volume",{"$f":"(R18/100)*(R19/100)*(R20/100)","v":61.457122289966676},null,null,"Volume",{"$f":"(V18/100)*(V19/100)*(V20/100)","v":80.8695290304709},null,null,"Volume",{"$f":"(Z18/100)*(Z19/100)*(Z20/100)","v":75.093134099723002},null,null,"Volume",{"$f":"(AD18/100)*(AD19/100)*(AD20/100)","v":70.927842517006795}]
[]
[]
["HEIGHT",347,null,null,"HEIGHT",{"$f":"B25","v":347},null,null,"HEIGHT",{"$f":"F25","v":347},null,null,"HEIGHT",{"$f":"J25","v":347},null,null,"HEIGHT",{"$f":"N25","v":347},null,null,"HEIGHT",{"$f":"R25","v":347},null,null,"HEIGHT",{"$f":"V25","v":347},null,null,"HEIGHT",{"$f":"Z25","v":347}]
["WIDTH",{"$f":"B25*$B$3","v":520.5},null,null,"WIDTH",{"$f":"F25*$F$3","v":437.22},null,null,"WIDTH",{"$f":"J25*$J$3","v":395.58},null,null,"WIDTH",{"$f":"N25*$N$3","v":444.16},null,null,"WIDTH",{"$f":"R25*$R$3","v":555.20000000000005},null,null,"WIDTH",{"$f":"V25*$V$3","v":485.79999999999995},null,null,"WIDTH",{"$f":"Z25*$Z$3","v":451.1},null,null,"WIDTH",{"$f":"AD25*$AD$3","v":520.5}]
["DEPTH",{"$f":"B25*$C$3","v":867.5},null,null,"DEPTH",{"$f":"F25*$G$3","v":551.73},null,null,"DEPTH",{"$f":"J25*$K$3","v":482.33},null,null,"DEPTH",{"$f":"N25*$O$3","v":534.38},null,null,"DEPTH",{"$f":"R25*$S$3","v":808.51},null,null,"DEPTH",{"$f":"V25*$W$3","v":659.3},null,null,"DEPTH",{"$f":"Z25*$AA$3","v":659.3},null,null,"DEPTH",{"$f":"AD25*$AE$3","v":728.7}]
["Area",{"$f":"(B26)/100*(B27)/100","v":45.153374999999997},null,null,"Area",{"$f":"(F26/100)*(F27/100)","v":24.122739060000004},null,null,"Area",{"$f":"(J26/100)*(J27/100)","v":19.080010139999999},null,null,"Area",{"$f":"(N26/100)*(N27/100)","v":23.73502208},null,null,"Area",{"$f":"(R26/100)*(R27/100)","v":44.888475200000009},null,null,"Area",{"$f":"(V26/100)*(V27/100)","v":32.028793999999998},null,null,"Area",{"$f":"(Z26/100)*(Z27/100)","v":29.741023000000002},null,null,"Area",{"$f":"(AD26/100)*(AD27/100)","v":37.928835000000007}]
["Volume",{"$f":"(B25/100)*(B26/100)*(B27/100)","v":156.68221125000002},null,null,"Volume",{"$f":"(F25/100)*(F26/100)*(F27/100)","v":83.705904538200016},null,null,"Volume",{"$f":"(J25/100)*(J26/100)*(J27/100)","v":66.207635185800001},null,null,"Volume",{"$f":"(N25/100)*(N26/100)*(N27/100)","v":82.360526617600016},null,null,"Volume",{"$f":"(R25/100)*(R26/100)*(R27/100)","v":155.76300894400003},null,null,"Volume",{"$f":"(V25/100)*(V26/100)*(V27/100)","v":111.13991518},null,null,"Volume",{"$f":"(Z25/100)*(Z26/100)*(Z27/100)","v":103.20134981000001},null,null,"Volume",{"$f":"(AD25/100)*(AD26/100)*(AD27/100)","v":131.61305745000001}]
[]
["HEIGHT",349,null,null,"HEIGHT",{"$f":"B31","v":349},null,null,"HEIGHT",{"$f":"F31","v":349},null,null,"HEIGHT",{"$f":"J31","v":349},null,null,"HEIGHT",{"$f":"N31","v":349},null,null,"HEIGHT",{"$f":"R31","v":349},null,null,"HEIGHT",{"$f":"V31","v":349},null,null,"HEIGHT",{"$f":"Z31","v":349}]
["WIDTH",{"$f":"B31*$B$3","v":523.5},null,null,"WIDTH",{"$f":"F31*$F$3","v":439.74},null,null,"WIDTH",{"$f":"J31*$J$3","v":397.85999999999996},null,null,"WIDTH",{"$f":"N31*$N$3","v":446.72},null,null,"WIDTH",{"$f":"R31*$R$3","v":558.4},null,null,"WIDTH",{"$f":"V31*$V$3","v":488.59999999999997},null,null,"WIDTH",{"$f":"Z31*$Z$3","v":453.7},null,null,"WIDTH",{"$f":"AD31*$AD$3","v":523.5}]
["DEPTH",{"$f":"B31*$C$3","v":872.5},null,null,"DEPTH",{"$f":"F31*$G$3","v":554.91000000000008},null,null,"DEPTH",{"$f":"J31*$K$3","v":485.10999999999996},null,null,"DEPTH",{"$f":"N31*$O$3","v":537.46},null,null,"DEPTH",{"$f":"R31*$S$3","v":813.17000000000007},null,null,"DEPTH",{"$f":"V31*$W$3","v":663.1},null,null,"DEPTH",{"$f":"Z31*$AA$3","v":663.1},null,null,"DEPTH",{"$f":"AD31*$AE$3","v":732.9}]
["Area",{"$f":"(B32)/100*(B33)/100","v":45.675375000000003},null,null,"Area",{"$f":"(F32/100)*(F33/100)","v":24.401612340000007},null,null,"Area",{"$f":"(J32/100)*(J33/100)","v":19.300586459999998},null,null,"Area",{"$f":"(N32/100)*(N33/100)","v":24.009413120000001},null,null,"Area",{"$f":"(R32/100)*(R33/100)","v":45.407412799999996},null,null,"Area",{"$f":"(V32/100)*(V33/100)","v":32.399065999999998},null,null,"Area",{"$f":"(Z32/100)*(Z33/100)","v":30.084847},null,null,"Area",{"$f":"(AD32/100)*(AD33/100)","v":38.367314999999998}]
["Volume",{"$f":"(B31/100)*(B32/100)*(B33/100)","v":159.40705875},null,null,"Volume",{"$f":"(F31/100)*(F32/100)*(F33/100)","v":85.161627066600019},null,null,"Volume",{"$f":"(J31/100)*(J32/100)*(J33/100)","v":67.359046745399993},null,null,"Volume",{"$f":"(N31/100)*(N32/100)*(N33/100)","v":83.792851788800007},null,null,"Volume",{"$f":"(R31/100)*(R32/100)*(R33/100)","v":158.47187067200002},null,null,"Volume",{"$f":"(V31/100)*(V32/100)*(V33/100)","v":113.07274034},null,null,"Volume",{"$f":"(Z31/100)*(Z32/100)*(Z33/100)","v":104.99611603000001},null,null,"Volume",{"$f":"(AD31/100)*(AD32/100)*(AD33/100)","v":133.90192934999999}]
[]
["HEIGHT",353,null,null,"HEIGHT",{"$f":"B37","v":353},null,null,"HEIGHT",{"$f":"F37","v":353},null,null,"HEIGHT",{"$f":"J37","v":353},null,null,"HEIGHT",{"$f":"N37","v":353},null,null,"HEIGHT",{"$f":"R37","v":353},null,null,"HEIGHT",{"$f":"V37","v":353},null,null,"HEIGHT",{"$f":"Z37","v":353}]
["WIDTH",{"$f":"B37*$B$3","v":529.5},null,null,"WIDTH",{"$f":"F37*$F$3","v":444.78000000000003},null,null,"WIDTH",{"$f":"J37*$J$3","v":402.41999999999996},null,null,"WIDTH",{"$f":"N37*$N$3","v":451.84000000000003},null,null,"WIDTH",{"$f":"R37*$R$3","v":564.80000000000007},null,null,"WIDTH",{"$f":"V37*$V$3","v":494.2},null,null,"WIDTH",{"$f":"Z37*$Z$3","v":458.90000000000003},null,null,"WIDTH",{"$f":"AD37*$AD$3","v":529.5}]
["DEPTH",{"$f":"B37*$C$3","v":882.5},null,null,"DEPTH",{"$f":"F37*$G$3","v":561.27},null,null,"DEPTH",{"$f":"J37*$K$3","v":490.66999999999996},null,null,"DEPTH",{"$f":"N37*$O$3","v":543.62},null,null,"DEPTH",{"$f":"R37*$S$3","v":822.49},null,null,"DEPTH",{"$f":"V37*$W$3","v":670.69999999999993},null,null,"DEPTH",{"$f":"Z37*$AA$3","v":670.69999999999993},null,null,"DEPTH",{"$f":"AD37*$AE$3","v":741.30000000000007}]
["Area",{"$f":"(B38)/100*(B39)/100","v":46.728375},null,null,"Area",{"$f":"(F38/100)*(F39/100)","v":24.964167060000001},null,null,"Area",{"$f":"(J38/100)*(J39/100)","v":19.745542139999998},null,null,"Area",{"$f":"(N38/100)*(N39/100)","v":24.562926080000004},null,null,"Area",{"$f":"(R38/100)*(R39/100)","v":46.454235200000007},null,null,"Area",{"$f":"(V38/100)*(V39/100)","v":33.145993999999995},null,null,"Area",{"$f":"(Z38/100)*(Z39/100)","v":30.778422999999997},null,null,"Area",{"$f":"(AD38/100)*(AD39/100)","v":39.251835}]
["Volume",{"$f":"(B37/100)*(B38/100)*(B39/100)","v":164.95116374999998},null,null,"Volume",{"$f":"(F37/100)*(F38/100)*(F39/100)","v":88.123509721799991},null,null,"Volume",{"$f":"(J37/100)*(J38/100)*(J39/100)","v":69.701763754199987},null,null,"Volume",{"$f":"(N37/100)*(N38/100)*(N39/100)","v":86.707129062400014},null,null,"Volume",{"$f":"(R37/100)*(R38/100)*(R39/100)","v":163.98345025600003},null,null,"Volume",{"$f":"(V37/100)*(V38/100)*(V39/100)","v":117.00535881999998},null,null,"Volume",{"$f":"(Z37/100)*(Z38/100)*(Z39/100)","v":108.64783319},null,null,"Volume",{"$f":"(AD37/100)*(AD38/100)*(AD39/100)","v":138.55897755000001}]